BEGIN:VCALENDAR
VERSION:2.0
PRODID:-//KnoxPa.com - ECPv6.11.2.1//NONSGML v1.0//EN
CALSCALE:GREGORIAN
METHOD:PUBLISH
X-ORIGINAL-URL:https://knoxpa.com
X-WR-CALDESC:Events for KnoxPa.com
REFRESH-INTERVAL;VALUE=DURATION:PT1H
X-Robots-Tag:noindex
X-PUBLISHED-TTL:PT1H
BEGIN:VTIMEZONE
TZID:America/New_York
BEGIN:DAYLIGHT
TZOFFSETFROM:-0500
TZOFFSETTO:-0400
TZNAME:EDT
DTSTART:20270314T070000
END:DAYLIGHT
BEGIN:STANDARD
TZOFFSETFROM:-0400
TZOFFSETTO:-0500
TZNAME:EST
DTSTART:20271107T060000
END:STANDARD
END:VTIMEZONE
BEGIN:VEVENT
DTSTART;TZID=America/New_York:20271015T140000
DTEND;TZID=America/New_York:20271015T180000
DTSTAMP:20260420T133031
CREATED:20240331T150145Z
LAST-MODIFIED:20240912T222809Z
UID:10000688-1823608800-1823623200@knoxpa.com
SUMMARY:Henry Dairy Farms Milk & Cheese Sale
DESCRIPTION:Come visit us at the farm for your weekly fresh milk and cheese. \nEvery Tuesday & Friday in September: 2:00 p.m. – 6:00 p.m.
URL:https://knoxpa.com/event/henry-dairy-farms-april-milk-cheese-sale/2027-10-15/
LOCATION:Henry Dairy Farms\, 263 McGiffin Road\, Knox\, 16232\, United States
ATTACH;FMTTYPE=image/jpeg:https://knoxpa.com/wp-content/uploads/2024/05/September-Milk-Sales.jpg
END:VEVENT
BEGIN:VEVENT
DTSTART;TZID=America/New_York:20271019T140000
DTEND;TZID=America/New_York:20271019T180000
DTSTAMP:20260420T133031
CREATED:20240505T212242Z
LAST-MODIFIED:20240912T222639Z
UID:10001212-1823954400-1823968800@knoxpa.com
SUMMARY:Henry Dairy Farms Milk & Cheese Sale
DESCRIPTION:Come visit us at the farm for your weekly fresh milk and cheese. \nEvery Tuesday & Friday in September: 2:00 p.m. – 6:00 p.m.
URL:https://knoxpa.com/event/henry-dairy-farms-april-milk-cheese-sale-2/2027-10-19/
LOCATION:Henry Dairy Farms\, 263 McGiffin Road\, Knox\, 16232\, United States
ATTACH;FMTTYPE=image/jpeg:https://knoxpa.com/wp-content/uploads/2024/05/September-Milk-Sales.jpg
END:VEVENT
BEGIN:VEVENT
DTSTART;TZID=America/New_York:20271021T183000
DTEND;TZID=America/New_York:20271021T203000
DTSTAMP:20260420T133032
CREATED:20250220T132609Z
LAST-MODIFIED:20250220T132609Z
UID:10003402-1824143400-1824150600@knoxpa.com
SUMMARY:Trivia Night at Deer Creek Winery
DESCRIPTION:DJ Trivia will be hosting Trivia Night every Thursday at Deer Creek Winery in Shippenville from 6:30 p.m. to 8:30 p.m.
URL:https://knoxpa.com/event/trivia-night-at-deer-creek-winery-2/2027-10-21/
LOCATION:Deer Creek Winery\, 3333 Soap Fat Road\, Shippenville\, PA\, 16254\, United States
ATTACH;FMTTYPE=image/jpeg:https://knoxpa.com/wp-content/uploads/2025/02/DCW-Trivia-Night.jpg
END:VEVENT
BEGIN:VEVENT
DTSTART;TZID=America/New_York:20271022T140000
DTEND;TZID=America/New_York:20271022T180000
DTSTAMP:20260420T133032
CREATED:20240331T150145Z
LAST-MODIFIED:20240912T222809Z
UID:10000689-1824213600-1824228000@knoxpa.com
SUMMARY:Henry Dairy Farms Milk & Cheese Sale
DESCRIPTION:Come visit us at the farm for your weekly fresh milk and cheese. \nEvery Tuesday & Friday in September: 2:00 p.m. – 6:00 p.m.
URL:https://knoxpa.com/event/henry-dairy-farms-april-milk-cheese-sale/2027-10-22/
LOCATION:Henry Dairy Farms\, 263 McGiffin Road\, Knox\, 16232\, United States
ATTACH;FMTTYPE=image/jpeg:https://knoxpa.com/wp-content/uploads/2024/05/September-Milk-Sales.jpg
END:VEVENT
BEGIN:VEVENT
DTSTART;TZID=America/New_York:20271026T140000
DTEND;TZID=America/New_York:20271026T180000
DTSTAMP:20260420T133032
CREATED:20240505T212242Z
LAST-MODIFIED:20240912T222639Z
UID:10001213-1824559200-1824573600@knoxpa.com
SUMMARY:Henry Dairy Farms Milk & Cheese Sale
DESCRIPTION:Come visit us at the farm for your weekly fresh milk and cheese. \nEvery Tuesday & Friday in September: 2:00 p.m. – 6:00 p.m.
URL:https://knoxpa.com/event/henry-dairy-farms-april-milk-cheese-sale-2/2027-10-26/
LOCATION:Henry Dairy Farms\, 263 McGiffin Road\, Knox\, 16232\, United States
ATTACH;FMTTYPE=image/jpeg:https://knoxpa.com/wp-content/uploads/2024/05/September-Milk-Sales.jpg
END:VEVENT
BEGIN:VEVENT
DTSTART;TZID=America/New_York:20271028T183000
DTEND;TZID=America/New_York:20271028T203000
DTSTAMP:20260420T133032
CREATED:20250220T132609Z
LAST-MODIFIED:20250220T132609Z
UID:10003403-1824748200-1824755400@knoxpa.com
SUMMARY:Trivia Night at Deer Creek Winery
DESCRIPTION:DJ Trivia will be hosting Trivia Night every Thursday at Deer Creek Winery in Shippenville from 6:30 p.m. to 8:30 p.m.
URL:https://knoxpa.com/event/trivia-night-at-deer-creek-winery-2/2027-10-28/
LOCATION:Deer Creek Winery\, 3333 Soap Fat Road\, Shippenville\, PA\, 16254\, United States
ATTACH;FMTTYPE=image/jpeg:https://knoxpa.com/wp-content/uploads/2025/02/DCW-Trivia-Night.jpg
END:VEVENT
BEGIN:VEVENT
DTSTART;TZID=America/New_York:20271029T140000
DTEND;TZID=America/New_York:20271029T180000
DTSTAMP:20260420T133032
CREATED:20240331T150145Z
LAST-MODIFIED:20240912T222809Z
UID:10000690-1824818400-1824832800@knoxpa.com
SUMMARY:Henry Dairy Farms Milk & Cheese Sale
DESCRIPTION:Come visit us at the farm for your weekly fresh milk and cheese. \nEvery Tuesday & Friday in September: 2:00 p.m. – 6:00 p.m.
URL:https://knoxpa.com/event/henry-dairy-farms-april-milk-cheese-sale/2027-10-29/
LOCATION:Henry Dairy Farms\, 263 McGiffin Road\, Knox\, 16232\, United States
ATTACH;FMTTYPE=image/jpeg:https://knoxpa.com/wp-content/uploads/2024/05/September-Milk-Sales.jpg
END:VEVENT
BEGIN:VEVENT
DTSTART;TZID=America/New_York:20271102T140000
DTEND;TZID=America/New_York:20271102T180000
DTSTAMP:20260420T133032
CREATED:20240505T212242Z
LAST-MODIFIED:20240912T222639Z
UID:10001214-1825164000-1825178400@knoxpa.com
SUMMARY:Henry Dairy Farms Milk & Cheese Sale
DESCRIPTION:Come visit us at the farm for your weekly fresh milk and cheese. \nEvery Tuesday & Friday in September: 2:00 p.m. – 6:00 p.m.
URL:https://knoxpa.com/event/henry-dairy-farms-april-milk-cheese-sale-2/2027-11-02/
LOCATION:Henry Dairy Farms\, 263 McGiffin Road\, Knox\, 16232\, United States
ATTACH;FMTTYPE=image/jpeg:https://knoxpa.com/wp-content/uploads/2024/05/September-Milk-Sales.jpg
END:VEVENT
BEGIN:VEVENT
DTSTART;TZID=America/New_York:20271104T183000
DTEND;TZID=America/New_York:20271104T203000
DTSTAMP:20260420T133032
CREATED:20250220T132609Z
LAST-MODIFIED:20250220T132609Z
UID:10003404-1825353000-1825360200@knoxpa.com
SUMMARY:Trivia Night at Deer Creek Winery
DESCRIPTION:DJ Trivia will be hosting Trivia Night every Thursday at Deer Creek Winery in Shippenville from 6:30 p.m. to 8:30 p.m.
URL:https://knoxpa.com/event/trivia-night-at-deer-creek-winery-2/2027-11-04/
LOCATION:Deer Creek Winery\, 3333 Soap Fat Road\, Shippenville\, PA\, 16254\, United States
ATTACH;FMTTYPE=image/jpeg:https://knoxpa.com/wp-content/uploads/2025/02/DCW-Trivia-Night.jpg
END:VEVENT
BEGIN:VEVENT
DTSTART;TZID=America/New_York:20271105T140000
DTEND;TZID=America/New_York:20271105T180000
DTSTAMP:20260420T133032
CREATED:20240331T150145Z
LAST-MODIFIED:20240912T222809Z
UID:10000691-1825423200-1825437600@knoxpa.com
SUMMARY:Henry Dairy Farms Milk & Cheese Sale
DESCRIPTION:Come visit us at the farm for your weekly fresh milk and cheese. \nEvery Tuesday & Friday in September: 2:00 p.m. – 6:00 p.m.
URL:https://knoxpa.com/event/henry-dairy-farms-april-milk-cheese-sale/2027-11-05/
LOCATION:Henry Dairy Farms\, 263 McGiffin Road\, Knox\, 16232\, United States
ATTACH;FMTTYPE=image/jpeg:https://knoxpa.com/wp-content/uploads/2024/05/September-Milk-Sales.jpg
END:VEVENT
BEGIN:VEVENT
DTSTART;TZID=America/New_York:20271109T140000
DTEND;TZID=America/New_York:20271109T180000
DTSTAMP:20260420T133032
CREATED:20240505T212242Z
LAST-MODIFIED:20240912T222639Z
UID:10001215-1825768800-1825783200@knoxpa.com
SUMMARY:Henry Dairy Farms Milk & Cheese Sale
DESCRIPTION:Come visit us at the farm for your weekly fresh milk and cheese. \nEvery Tuesday & Friday in September: 2:00 p.m. – 6:00 p.m.
URL:https://knoxpa.com/event/henry-dairy-farms-april-milk-cheese-sale-2/2027-11-09/
LOCATION:Henry Dairy Farms\, 263 McGiffin Road\, Knox\, 16232\, United States
ATTACH;FMTTYPE=image/jpeg:https://knoxpa.com/wp-content/uploads/2024/05/September-Milk-Sales.jpg
END:VEVENT
BEGIN:VEVENT
DTSTART;TZID=America/New_York:20271111T183000
DTEND;TZID=America/New_York:20271111T203000
DTSTAMP:20260420T133032
CREATED:20250220T132609Z
LAST-MODIFIED:20250220T132609Z
UID:10003405-1825957800-1825965000@knoxpa.com
SUMMARY:Trivia Night at Deer Creek Winery
DESCRIPTION:DJ Trivia will be hosting Trivia Night every Thursday at Deer Creek Winery in Shippenville from 6:30 p.m. to 8:30 p.m.
URL:https://knoxpa.com/event/trivia-night-at-deer-creek-winery-2/2027-11-11/
LOCATION:Deer Creek Winery\, 3333 Soap Fat Road\, Shippenville\, PA\, 16254\, United States
ATTACH;FMTTYPE=image/jpeg:https://knoxpa.com/wp-content/uploads/2025/02/DCW-Trivia-Night.jpg
END:VEVENT
BEGIN:VEVENT
DTSTART;TZID=America/New_York:20271112T140000
DTEND;TZID=America/New_York:20271112T180000
DTSTAMP:20260420T133032
CREATED:20240331T150145Z
LAST-MODIFIED:20240912T222809Z
UID:10000692-1826028000-1826042400@knoxpa.com
SUMMARY:Henry Dairy Farms Milk & Cheese Sale
DESCRIPTION:Come visit us at the farm for your weekly fresh milk and cheese. \nEvery Tuesday & Friday in September: 2:00 p.m. – 6:00 p.m.
URL:https://knoxpa.com/event/henry-dairy-farms-april-milk-cheese-sale/2027-11-12/
LOCATION:Henry Dairy Farms\, 263 McGiffin Road\, Knox\, 16232\, United States
ATTACH;FMTTYPE=image/jpeg:https://knoxpa.com/wp-content/uploads/2024/05/September-Milk-Sales.jpg
END:VEVENT
BEGIN:VEVENT
DTSTART;TZID=America/New_York:20271116T140000
DTEND;TZID=America/New_York:20271116T180000
DTSTAMP:20260420T133032
CREATED:20240505T212242Z
LAST-MODIFIED:20240912T222639Z
UID:10001216-1826373600-1826388000@knoxpa.com
SUMMARY:Henry Dairy Farms Milk & Cheese Sale
DESCRIPTION:Come visit us at the farm for your weekly fresh milk and cheese. \nEvery Tuesday & Friday in September: 2:00 p.m. – 6:00 p.m.
URL:https://knoxpa.com/event/henry-dairy-farms-april-milk-cheese-sale-2/2027-11-16/
LOCATION:Henry Dairy Farms\, 263 McGiffin Road\, Knox\, 16232\, United States
ATTACH;FMTTYPE=image/jpeg:https://knoxpa.com/wp-content/uploads/2024/05/September-Milk-Sales.jpg
END:VEVENT
BEGIN:VEVENT
DTSTART;TZID=America/New_York:20271118T183000
DTEND;TZID=America/New_York:20271118T203000
DTSTAMP:20260420T133032
CREATED:20250220T132609Z
LAST-MODIFIED:20250220T132609Z
UID:10003406-1826562600-1826569800@knoxpa.com
SUMMARY:Trivia Night at Deer Creek Winery
DESCRIPTION:DJ Trivia will be hosting Trivia Night every Thursday at Deer Creek Winery in Shippenville from 6:30 p.m. to 8:30 p.m.
URL:https://knoxpa.com/event/trivia-night-at-deer-creek-winery-2/2027-11-18/
LOCATION:Deer Creek Winery\, 3333 Soap Fat Road\, Shippenville\, PA\, 16254\, United States
ATTACH;FMTTYPE=image/jpeg:https://knoxpa.com/wp-content/uploads/2025/02/DCW-Trivia-Night.jpg
END:VEVENT
BEGIN:VEVENT
DTSTART;TZID=America/New_York:20271119T140000
DTEND;TZID=America/New_York:20271119T180000
DTSTAMP:20260420T133032
CREATED:20240331T150145Z
LAST-MODIFIED:20240912T222809Z
UID:10000693-1826632800-1826647200@knoxpa.com
SUMMARY:Henry Dairy Farms Milk & Cheese Sale
DESCRIPTION:Come visit us at the farm for your weekly fresh milk and cheese. \nEvery Tuesday & Friday in September: 2:00 p.m. – 6:00 p.m.
URL:https://knoxpa.com/event/henry-dairy-farms-april-milk-cheese-sale/2027-11-19/
LOCATION:Henry Dairy Farms\, 263 McGiffin Road\, Knox\, 16232\, United States
ATTACH;FMTTYPE=image/jpeg:https://knoxpa.com/wp-content/uploads/2024/05/September-Milk-Sales.jpg
END:VEVENT
BEGIN:VEVENT
DTSTART;TZID=America/New_York:20271123T140000
DTEND;TZID=America/New_York:20271123T180000
DTSTAMP:20260420T133032
CREATED:20240505T212242Z
LAST-MODIFIED:20240912T222639Z
UID:10001217-1826978400-1826992800@knoxpa.com
SUMMARY:Henry Dairy Farms Milk & Cheese Sale
DESCRIPTION:Come visit us at the farm for your weekly fresh milk and cheese. \nEvery Tuesday & Friday in September: 2:00 p.m. – 6:00 p.m.
URL:https://knoxpa.com/event/henry-dairy-farms-april-milk-cheese-sale-2/2027-11-23/
LOCATION:Henry Dairy Farms\, 263 McGiffin Road\, Knox\, 16232\, United States
ATTACH;FMTTYPE=image/jpeg:https://knoxpa.com/wp-content/uploads/2024/05/September-Milk-Sales.jpg
END:VEVENT
BEGIN:VEVENT
DTSTART;TZID=America/New_York:20271125T183000
DTEND;TZID=America/New_York:20271125T203000
DTSTAMP:20260420T133032
CREATED:20250220T132609Z
LAST-MODIFIED:20250220T132609Z
UID:10003407-1827167400-1827174600@knoxpa.com
SUMMARY:Trivia Night at Deer Creek Winery
DESCRIPTION:DJ Trivia will be hosting Trivia Night every Thursday at Deer Creek Winery in Shippenville from 6:30 p.m. to 8:30 p.m.
URL:https://knoxpa.com/event/trivia-night-at-deer-creek-winery-2/2027-11-25/
LOCATION:Deer Creek Winery\, 3333 Soap Fat Road\, Shippenville\, PA\, 16254\, United States
ATTACH;FMTTYPE=image/jpeg:https://knoxpa.com/wp-content/uploads/2025/02/DCW-Trivia-Night.jpg
END:VEVENT
BEGIN:VEVENT
DTSTART;TZID=America/New_York:20271126T140000
DTEND;TZID=America/New_York:20271126T180000
DTSTAMP:20260420T133032
CREATED:20240331T150145Z
LAST-MODIFIED:20240912T222809Z
UID:10000694-1827237600-1827252000@knoxpa.com
SUMMARY:Henry Dairy Farms Milk & Cheese Sale
DESCRIPTION:Come visit us at the farm for your weekly fresh milk and cheese. \nEvery Tuesday & Friday in September: 2:00 p.m. – 6:00 p.m.
URL:https://knoxpa.com/event/henry-dairy-farms-april-milk-cheese-sale/2027-11-26/
LOCATION:Henry Dairy Farms\, 263 McGiffin Road\, Knox\, 16232\, United States
ATTACH;FMTTYPE=image/jpeg:https://knoxpa.com/wp-content/uploads/2024/05/September-Milk-Sales.jpg
END:VEVENT
BEGIN:VEVENT
DTSTART;TZID=America/New_York:20271130T140000
DTEND;TZID=America/New_York:20271130T180000
DTSTAMP:20260420T133032
CREATED:20240505T212242Z
LAST-MODIFIED:20240912T222639Z
UID:10001218-1827583200-1827597600@knoxpa.com
SUMMARY:Henry Dairy Farms Milk & Cheese Sale
DESCRIPTION:Come visit us at the farm for your weekly fresh milk and cheese. \nEvery Tuesday & Friday in September: 2:00 p.m. – 6:00 p.m.
URL:https://knoxpa.com/event/henry-dairy-farms-april-milk-cheese-sale-2/2027-11-30/
LOCATION:Henry Dairy Farms\, 263 McGiffin Road\, Knox\, 16232\, United States
ATTACH;FMTTYPE=image/jpeg:https://knoxpa.com/wp-content/uploads/2024/05/September-Milk-Sales.jpg
END:VEVENT
BEGIN:VEVENT
DTSTART;TZID=America/New_York:20271202T183000
DTEND;TZID=America/New_York:20271202T203000
DTSTAMP:20260420T133032
CREATED:20250220T132609Z
LAST-MODIFIED:20250220T132609Z
UID:10003408-1827772200-1827779400@knoxpa.com
SUMMARY:Trivia Night at Deer Creek Winery
DESCRIPTION:DJ Trivia will be hosting Trivia Night every Thursday at Deer Creek Winery in Shippenville from 6:30 p.m. to 8:30 p.m.
URL:https://knoxpa.com/event/trivia-night-at-deer-creek-winery-2/2027-12-02/
LOCATION:Deer Creek Winery\, 3333 Soap Fat Road\, Shippenville\, PA\, 16254\, United States
ATTACH;FMTTYPE=image/jpeg:https://knoxpa.com/wp-content/uploads/2025/02/DCW-Trivia-Night.jpg
END:VEVENT
BEGIN:VEVENT
DTSTART;TZID=America/New_York:20271203T140000
DTEND;TZID=America/New_York:20271203T180000
DTSTAMP:20260420T133032
CREATED:20240331T150145Z
LAST-MODIFIED:20240912T222809Z
UID:10000695-1827842400-1827856800@knoxpa.com
SUMMARY:Henry Dairy Farms Milk & Cheese Sale
DESCRIPTION:Come visit us at the farm for your weekly fresh milk and cheese. \nEvery Tuesday & Friday in September: 2:00 p.m. – 6:00 p.m.
URL:https://knoxpa.com/event/henry-dairy-farms-april-milk-cheese-sale/2027-12-03/
LOCATION:Henry Dairy Farms\, 263 McGiffin Road\, Knox\, 16232\, United States
ATTACH;FMTTYPE=image/jpeg:https://knoxpa.com/wp-content/uploads/2024/05/September-Milk-Sales.jpg
END:VEVENT
BEGIN:VEVENT
DTSTART;TZID=America/New_York:20271207T140000
DTEND;TZID=America/New_York:20271207T180000
DTSTAMP:20260420T133032
CREATED:20240505T212242Z
LAST-MODIFIED:20240912T222639Z
UID:10001219-1828188000-1828202400@knoxpa.com
SUMMARY:Henry Dairy Farms Milk & Cheese Sale
DESCRIPTION:Come visit us at the farm for your weekly fresh milk and cheese. \nEvery Tuesday & Friday in September: 2:00 p.m. – 6:00 p.m.
URL:https://knoxpa.com/event/henry-dairy-farms-april-milk-cheese-sale-2/2027-12-07/
LOCATION:Henry Dairy Farms\, 263 McGiffin Road\, Knox\, 16232\, United States
ATTACH;FMTTYPE=image/jpeg:https://knoxpa.com/wp-content/uploads/2024/05/September-Milk-Sales.jpg
END:VEVENT
BEGIN:VEVENT
DTSTART;TZID=America/New_York:20271209T183000
DTEND;TZID=America/New_York:20271209T203000
DTSTAMP:20260420T133032
CREATED:20250220T132609Z
LAST-MODIFIED:20250220T132609Z
UID:10003409-1828377000-1828384200@knoxpa.com
SUMMARY:Trivia Night at Deer Creek Winery
DESCRIPTION:DJ Trivia will be hosting Trivia Night every Thursday at Deer Creek Winery in Shippenville from 6:30 p.m. to 8:30 p.m.
URL:https://knoxpa.com/event/trivia-night-at-deer-creek-winery-2/2027-12-09/
LOCATION:Deer Creek Winery\, 3333 Soap Fat Road\, Shippenville\, PA\, 16254\, United States
ATTACH;FMTTYPE=image/jpeg:https://knoxpa.com/wp-content/uploads/2025/02/DCW-Trivia-Night.jpg
END:VEVENT
BEGIN:VEVENT
DTSTART;TZID=America/New_York:20271210T140000
DTEND;TZID=America/New_York:20271210T180000
DTSTAMP:20260420T133032
CREATED:20240331T150145Z
LAST-MODIFIED:20240912T222809Z
UID:10000696-1828447200-1828461600@knoxpa.com
SUMMARY:Henry Dairy Farms Milk & Cheese Sale
DESCRIPTION:Come visit us at the farm for your weekly fresh milk and cheese. \nEvery Tuesday & Friday in September: 2:00 p.m. – 6:00 p.m.
URL:https://knoxpa.com/event/henry-dairy-farms-april-milk-cheese-sale/2027-12-10/
LOCATION:Henry Dairy Farms\, 263 McGiffin Road\, Knox\, 16232\, United States
ATTACH;FMTTYPE=image/jpeg:https://knoxpa.com/wp-content/uploads/2024/05/September-Milk-Sales.jpg
END:VEVENT
BEGIN:VEVENT
DTSTART;TZID=America/New_York:20271214T140000
DTEND;TZID=America/New_York:20271214T180000
DTSTAMP:20260420T133032
CREATED:20240505T212242Z
LAST-MODIFIED:20240912T222639Z
UID:10001220-1828792800-1828807200@knoxpa.com
SUMMARY:Henry Dairy Farms Milk & Cheese Sale
DESCRIPTION:Come visit us at the farm for your weekly fresh milk and cheese. \nEvery Tuesday & Friday in September: 2:00 p.m. – 6:00 p.m.
URL:https://knoxpa.com/event/henry-dairy-farms-april-milk-cheese-sale-2/2027-12-14/
LOCATION:Henry Dairy Farms\, 263 McGiffin Road\, Knox\, 16232\, United States
ATTACH;FMTTYPE=image/jpeg:https://knoxpa.com/wp-content/uploads/2024/05/September-Milk-Sales.jpg
END:VEVENT
BEGIN:VEVENT
DTSTART;TZID=America/New_York:20271216T183000
DTEND;TZID=America/New_York:20271216T203000
DTSTAMP:20260420T133032
CREATED:20250220T132609Z
LAST-MODIFIED:20250220T132609Z
UID:10003410-1828981800-1828989000@knoxpa.com
SUMMARY:Trivia Night at Deer Creek Winery
DESCRIPTION:DJ Trivia will be hosting Trivia Night every Thursday at Deer Creek Winery in Shippenville from 6:30 p.m. to 8:30 p.m.
URL:https://knoxpa.com/event/trivia-night-at-deer-creek-winery-2/2027-12-16/
LOCATION:Deer Creek Winery\, 3333 Soap Fat Road\, Shippenville\, PA\, 16254\, United States
ATTACH;FMTTYPE=image/jpeg:https://knoxpa.com/wp-content/uploads/2025/02/DCW-Trivia-Night.jpg
END:VEVENT
BEGIN:VEVENT
DTSTART;TZID=America/New_York:20271217T140000
DTEND;TZID=America/New_York:20271217T180000
DTSTAMP:20260420T133032
CREATED:20240331T150145Z
LAST-MODIFIED:20240912T222809Z
UID:10000697-1829052000-1829066400@knoxpa.com
SUMMARY:Henry Dairy Farms Milk & Cheese Sale
DESCRIPTION:Come visit us at the farm for your weekly fresh milk and cheese. \nEvery Tuesday & Friday in September: 2:00 p.m. – 6:00 p.m.
URL:https://knoxpa.com/event/henry-dairy-farms-april-milk-cheese-sale/2027-12-17/
LOCATION:Henry Dairy Farms\, 263 McGiffin Road\, Knox\, 16232\, United States
ATTACH;FMTTYPE=image/jpeg:https://knoxpa.com/wp-content/uploads/2024/05/September-Milk-Sales.jpg
END:VEVENT
BEGIN:VEVENT
DTSTART;TZID=America/New_York:20271221T140000
DTEND;TZID=America/New_York:20271221T180000
DTSTAMP:20260420T133032
CREATED:20240505T212242Z
LAST-MODIFIED:20240912T222639Z
UID:10001221-1829397600-1829412000@knoxpa.com
SUMMARY:Henry Dairy Farms Milk & Cheese Sale
DESCRIPTION:Come visit us at the farm for your weekly fresh milk and cheese. \nEvery Tuesday & Friday in September: 2:00 p.m. – 6:00 p.m.
URL:https://knoxpa.com/event/henry-dairy-farms-april-milk-cheese-sale-2/2027-12-21/
LOCATION:Henry Dairy Farms\, 263 McGiffin Road\, Knox\, 16232\, United States
ATTACH;FMTTYPE=image/jpeg:https://knoxpa.com/wp-content/uploads/2024/05/September-Milk-Sales.jpg
END:VEVENT
BEGIN:VEVENT
DTSTART;TZID=America/New_York:20271223T183000
DTEND;TZID=America/New_York:20271223T203000
DTSTAMP:20260420T133032
CREATED:20250220T132609Z
LAST-MODIFIED:20250220T132609Z
UID:10003411-1829586600-1829593800@knoxpa.com
SUMMARY:Trivia Night at Deer Creek Winery
DESCRIPTION:DJ Trivia will be hosting Trivia Night every Thursday at Deer Creek Winery in Shippenville from 6:30 p.m. to 8:30 p.m.
URL:https://knoxpa.com/event/trivia-night-at-deer-creek-winery-2/2027-12-23/
LOCATION:Deer Creek Winery\, 3333 Soap Fat Road\, Shippenville\, PA\, 16254\, United States
ATTACH;FMTTYPE=image/jpeg:https://knoxpa.com/wp-content/uploads/2025/02/DCW-Trivia-Night.jpg
END:VEVENT
END:VCALENDAR