BEGIN:VCALENDAR
VERSION:2.0
PRODID:-//KnoxPa.com - ECPv6.11.2.1//NONSGML v1.0//EN
CALSCALE:GREGORIAN
METHOD:PUBLISH
X-WR-CALNAME:KnoxPa.com
X-ORIGINAL-URL:https://knoxpa.com
X-WR-CALDESC:Events for KnoxPa.com
REFRESH-INTERVAL;VALUE=DURATION:PT1H
X-Robots-Tag:noindex
X-PUBLISHED-TTL:PT1H
BEGIN:VTIMEZONE
TZID:America/New_York
BEGIN:DAYLIGHT
TZOFFSETFROM:-0500
TZOFFSETTO:-0400
TZNAME:EDT
DTSTART:20280312T070000
END:DAYLIGHT
BEGIN:STANDARD
TZOFFSETFROM:-0400
TZOFFSETTO:-0500
TZNAME:EST
DTSTART:20281105T060000
END:STANDARD
END:VTIMEZONE
BEGIN:VEVENT
DTSTART;TZID=America/New_York:20280303T140000
DTEND;TZID=America/New_York:20280303T180000
DTSTAMP:20260420T210232
CREATED:20240331T150145Z
LAST-MODIFIED:20240912T222809Z
UID:10000708-1835704800-1835719200@knoxpa.com
SUMMARY:Henry Dairy Farms Milk & Cheese Sale
DESCRIPTION:Come visit us at the farm for your weekly fresh milk and cheese. \nEvery Tuesday & Friday in September: 2:00 p.m. – 6:00 p.m.
URL:https://knoxpa.com/event/henry-dairy-farms-april-milk-cheese-sale/2028-03-03/
LOCATION:Henry Dairy Farms\, 263 McGiffin Road\, Knox\, 16232\, United States
ATTACH;FMTTYPE=image/jpeg:https://knoxpa.com/wp-content/uploads/2024/05/September-Milk-Sales.jpg
END:VEVENT
BEGIN:VEVENT
DTSTART;TZID=America/New_York:20280307T140000
DTEND;TZID=America/New_York:20280307T180000
DTSTAMP:20260420T210232
CREATED:20240505T212242Z
LAST-MODIFIED:20240912T222639Z
UID:10001232-1836050400-1836064800@knoxpa.com
SUMMARY:Henry Dairy Farms Milk & Cheese Sale
DESCRIPTION:Come visit us at the farm for your weekly fresh milk and cheese. \nEvery Tuesday & Friday in September: 2:00 p.m. – 6:00 p.m.
URL:https://knoxpa.com/event/henry-dairy-farms-april-milk-cheese-sale-2/2028-03-07/
LOCATION:Henry Dairy Farms\, 263 McGiffin Road\, Knox\, 16232\, United States
ATTACH;FMTTYPE=image/jpeg:https://knoxpa.com/wp-content/uploads/2024/05/September-Milk-Sales.jpg
END:VEVENT
BEGIN:VEVENT
DTSTART;TZID=America/New_York:20280309T183000
DTEND;TZID=America/New_York:20280309T203000
DTSTAMP:20260420T210232
CREATED:20250220T132609Z
LAST-MODIFIED:20250220T132609Z
UID:10003422-1836239400-1836246600@knoxpa.com
SUMMARY:Trivia Night at Deer Creek Winery
DESCRIPTION:DJ Trivia will be hosting Trivia Night every Thursday at Deer Creek Winery in Shippenville from 6:30 p.m. to 8:30 p.m.
URL:https://knoxpa.com/event/trivia-night-at-deer-creek-winery-2/2028-03-09/
LOCATION:Deer Creek Winery\, 3333 Soap Fat Road\, Shippenville\, PA\, 16254\, United States
ATTACH;FMTTYPE=image/jpeg:https://knoxpa.com/wp-content/uploads/2025/02/DCW-Trivia-Night.jpg
END:VEVENT
BEGIN:VEVENT
DTSTART;TZID=America/New_York:20280310T140000
DTEND;TZID=America/New_York:20280310T180000
DTSTAMP:20260420T210232
CREATED:20240331T150145Z
LAST-MODIFIED:20240912T222809Z
UID:10000709-1836309600-1836324000@knoxpa.com
SUMMARY:Henry Dairy Farms Milk & Cheese Sale
DESCRIPTION:Come visit us at the farm for your weekly fresh milk and cheese. \nEvery Tuesday & Friday in September: 2:00 p.m. – 6:00 p.m.
URL:https://knoxpa.com/event/henry-dairy-farms-april-milk-cheese-sale/2028-03-10/
LOCATION:Henry Dairy Farms\, 263 McGiffin Road\, Knox\, 16232\, United States
ATTACH;FMTTYPE=image/jpeg:https://knoxpa.com/wp-content/uploads/2024/05/September-Milk-Sales.jpg
END:VEVENT
BEGIN:VEVENT
DTSTART;TZID=America/New_York:20280314T140000
DTEND;TZID=America/New_York:20280314T180000
DTSTAMP:20260420T210232
CREATED:20240505T212242Z
LAST-MODIFIED:20240912T222639Z
UID:10001233-1836655200-1836669600@knoxpa.com
SUMMARY:Henry Dairy Farms Milk & Cheese Sale
DESCRIPTION:Come visit us at the farm for your weekly fresh milk and cheese. \nEvery Tuesday & Friday in September: 2:00 p.m. – 6:00 p.m.
URL:https://knoxpa.com/event/henry-dairy-farms-april-milk-cheese-sale-2/2028-03-14/
LOCATION:Henry Dairy Farms\, 263 McGiffin Road\, Knox\, 16232\, United States
ATTACH;FMTTYPE=image/jpeg:https://knoxpa.com/wp-content/uploads/2024/05/September-Milk-Sales.jpg
END:VEVENT
BEGIN:VEVENT
DTSTART;TZID=America/New_York:20280316T183000
DTEND;TZID=America/New_York:20280316T203000
DTSTAMP:20260420T210232
CREATED:20250220T132609Z
LAST-MODIFIED:20250220T132609Z
UID:10003423-1836844200-1836851400@knoxpa.com
SUMMARY:Trivia Night at Deer Creek Winery
DESCRIPTION:DJ Trivia will be hosting Trivia Night every Thursday at Deer Creek Winery in Shippenville from 6:30 p.m. to 8:30 p.m.
URL:https://knoxpa.com/event/trivia-night-at-deer-creek-winery-2/2028-03-16/
LOCATION:Deer Creek Winery\, 3333 Soap Fat Road\, Shippenville\, PA\, 16254\, United States
ATTACH;FMTTYPE=image/jpeg:https://knoxpa.com/wp-content/uploads/2025/02/DCW-Trivia-Night.jpg
END:VEVENT
BEGIN:VEVENT
DTSTART;TZID=America/New_York:20280317T140000
DTEND;TZID=America/New_York:20280317T180000
DTSTAMP:20260420T210232
CREATED:20240331T150145Z
LAST-MODIFIED:20240912T222809Z
UID:10000710-1836914400-1836928800@knoxpa.com
SUMMARY:Henry Dairy Farms Milk & Cheese Sale
DESCRIPTION:Come visit us at the farm for your weekly fresh milk and cheese. \nEvery Tuesday & Friday in September: 2:00 p.m. – 6:00 p.m.
URL:https://knoxpa.com/event/henry-dairy-farms-april-milk-cheese-sale/2028-03-17/
LOCATION:Henry Dairy Farms\, 263 McGiffin Road\, Knox\, 16232\, United States
ATTACH;FMTTYPE=image/jpeg:https://knoxpa.com/wp-content/uploads/2024/05/September-Milk-Sales.jpg
END:VEVENT
BEGIN:VEVENT
DTSTART;TZID=America/New_York:20280321T140000
DTEND;TZID=America/New_York:20280321T180000
DTSTAMP:20260420T210232
CREATED:20240505T212242Z
LAST-MODIFIED:20240912T222639Z
UID:10001234-1837260000-1837274400@knoxpa.com
SUMMARY:Henry Dairy Farms Milk & Cheese Sale
DESCRIPTION:Come visit us at the farm for your weekly fresh milk and cheese. \nEvery Tuesday & Friday in September: 2:00 p.m. – 6:00 p.m.
URL:https://knoxpa.com/event/henry-dairy-farms-april-milk-cheese-sale-2/2028-03-21/
LOCATION:Henry Dairy Farms\, 263 McGiffin Road\, Knox\, 16232\, United States
ATTACH;FMTTYPE=image/jpeg:https://knoxpa.com/wp-content/uploads/2024/05/September-Milk-Sales.jpg
END:VEVENT
BEGIN:VEVENT
DTSTART;TZID=America/New_York:20280323T183000
DTEND;TZID=America/New_York:20280323T203000
DTSTAMP:20260420T210232
CREATED:20250220T132609Z
LAST-MODIFIED:20250220T132609Z
UID:10003424-1837449000-1837456200@knoxpa.com
SUMMARY:Trivia Night at Deer Creek Winery
DESCRIPTION:DJ Trivia will be hosting Trivia Night every Thursday at Deer Creek Winery in Shippenville from 6:30 p.m. to 8:30 p.m.
URL:https://knoxpa.com/event/trivia-night-at-deer-creek-winery-2/2028-03-23/
LOCATION:Deer Creek Winery\, 3333 Soap Fat Road\, Shippenville\, PA\, 16254\, United States
ATTACH;FMTTYPE=image/jpeg:https://knoxpa.com/wp-content/uploads/2025/02/DCW-Trivia-Night.jpg
END:VEVENT
BEGIN:VEVENT
DTSTART;TZID=America/New_York:20280324T140000
DTEND;TZID=America/New_York:20280324T180000
DTSTAMP:20260420T210232
CREATED:20240331T150145Z
LAST-MODIFIED:20240912T222809Z
UID:10000711-1837519200-1837533600@knoxpa.com
SUMMARY:Henry Dairy Farms Milk & Cheese Sale
DESCRIPTION:Come visit us at the farm for your weekly fresh milk and cheese. \nEvery Tuesday & Friday in September: 2:00 p.m. – 6:00 p.m.
URL:https://knoxpa.com/event/henry-dairy-farms-april-milk-cheese-sale/2028-03-24/
LOCATION:Henry Dairy Farms\, 263 McGiffin Road\, Knox\, 16232\, United States
ATTACH;FMTTYPE=image/jpeg:https://knoxpa.com/wp-content/uploads/2024/05/September-Milk-Sales.jpg
END:VEVENT
BEGIN:VEVENT
DTSTART;TZID=America/New_York:20280328T140000
DTEND;TZID=America/New_York:20280328T180000
DTSTAMP:20260420T210232
CREATED:20240505T212242Z
LAST-MODIFIED:20240912T222639Z
UID:10001235-1837864800-1837879200@knoxpa.com
SUMMARY:Henry Dairy Farms Milk & Cheese Sale
DESCRIPTION:Come visit us at the farm for your weekly fresh milk and cheese. \nEvery Tuesday & Friday in September: 2:00 p.m. – 6:00 p.m.
URL:https://knoxpa.com/event/henry-dairy-farms-april-milk-cheese-sale-2/2028-03-28/
LOCATION:Henry Dairy Farms\, 263 McGiffin Road\, Knox\, 16232\, United States
ATTACH;FMTTYPE=image/jpeg:https://knoxpa.com/wp-content/uploads/2024/05/September-Milk-Sales.jpg
END:VEVENT
BEGIN:VEVENT
DTSTART;TZID=America/New_York:20280330T183000
DTEND;TZID=America/New_York:20280330T203000
DTSTAMP:20260420T210232
CREATED:20250220T132609Z
LAST-MODIFIED:20250220T132609Z
UID:10003425-1838053800-1838061000@knoxpa.com
SUMMARY:Trivia Night at Deer Creek Winery
DESCRIPTION:DJ Trivia will be hosting Trivia Night every Thursday at Deer Creek Winery in Shippenville from 6:30 p.m. to 8:30 p.m.
URL:https://knoxpa.com/event/trivia-night-at-deer-creek-winery-2/2028-03-30/
LOCATION:Deer Creek Winery\, 3333 Soap Fat Road\, Shippenville\, PA\, 16254\, United States
ATTACH;FMTTYPE=image/jpeg:https://knoxpa.com/wp-content/uploads/2025/02/DCW-Trivia-Night.jpg
END:VEVENT
BEGIN:VEVENT
DTSTART;TZID=America/New_York:20280331T140000
DTEND;TZID=America/New_York:20280331T180000
DTSTAMP:20260420T210232
CREATED:20240331T150145Z
LAST-MODIFIED:20240912T222809Z
UID:10000712-1838124000-1838138400@knoxpa.com
SUMMARY:Henry Dairy Farms Milk & Cheese Sale
DESCRIPTION:Come visit us at the farm for your weekly fresh milk and cheese. \nEvery Tuesday & Friday in September: 2:00 p.m. – 6:00 p.m.
URL:https://knoxpa.com/event/henry-dairy-farms-april-milk-cheese-sale/2028-03-31/
LOCATION:Henry Dairy Farms\, 263 McGiffin Road\, Knox\, 16232\, United States
ATTACH;FMTTYPE=image/jpeg:https://knoxpa.com/wp-content/uploads/2024/05/September-Milk-Sales.jpg
END:VEVENT
BEGIN:VEVENT
DTSTART;TZID=America/New_York:20280404T140000
DTEND;TZID=America/New_York:20280404T180000
DTSTAMP:20260420T210232
CREATED:20240505T212242Z
LAST-MODIFIED:20240912T222639Z
UID:10001236-1838469600-1838484000@knoxpa.com
SUMMARY:Henry Dairy Farms Milk & Cheese Sale
DESCRIPTION:Come visit us at the farm for your weekly fresh milk and cheese. \nEvery Tuesday & Friday in September: 2:00 p.m. – 6:00 p.m.
URL:https://knoxpa.com/event/henry-dairy-farms-april-milk-cheese-sale-2/2028-04-04/
LOCATION:Henry Dairy Farms\, 263 McGiffin Road\, Knox\, 16232\, United States
ATTACH;FMTTYPE=image/jpeg:https://knoxpa.com/wp-content/uploads/2024/05/September-Milk-Sales.jpg
END:VEVENT
BEGIN:VEVENT
DTSTART;TZID=America/New_York:20280406T183000
DTEND;TZID=America/New_York:20280406T203000
DTSTAMP:20260420T210232
CREATED:20250220T132609Z
LAST-MODIFIED:20250220T132609Z
UID:10003426-1838658600-1838665800@knoxpa.com
SUMMARY:Trivia Night at Deer Creek Winery
DESCRIPTION:DJ Trivia will be hosting Trivia Night every Thursday at Deer Creek Winery in Shippenville from 6:30 p.m. to 8:30 p.m.
URL:https://knoxpa.com/event/trivia-night-at-deer-creek-winery-2/2028-04-06/
LOCATION:Deer Creek Winery\, 3333 Soap Fat Road\, Shippenville\, PA\, 16254\, United States
ATTACH;FMTTYPE=image/jpeg:https://knoxpa.com/wp-content/uploads/2025/02/DCW-Trivia-Night.jpg
END:VEVENT
BEGIN:VEVENT
DTSTART;TZID=America/New_York:20280407T140000
DTEND;TZID=America/New_York:20280407T180000
DTSTAMP:20260420T210232
CREATED:20240331T150145Z
LAST-MODIFIED:20240912T222809Z
UID:10000713-1838728800-1838743200@knoxpa.com
SUMMARY:Henry Dairy Farms Milk & Cheese Sale
DESCRIPTION:Come visit us at the farm for your weekly fresh milk and cheese. \nEvery Tuesday & Friday in September: 2:00 p.m. – 6:00 p.m.
URL:https://knoxpa.com/event/henry-dairy-farms-april-milk-cheese-sale/2028-04-07/
LOCATION:Henry Dairy Farms\, 263 McGiffin Road\, Knox\, 16232\, United States
ATTACH;FMTTYPE=image/jpeg:https://knoxpa.com/wp-content/uploads/2024/05/September-Milk-Sales.jpg
END:VEVENT
BEGIN:VEVENT
DTSTART;TZID=America/New_York:20280411T140000
DTEND;TZID=America/New_York:20280411T180000
DTSTAMP:20260420T210232
CREATED:20240505T212242Z
LAST-MODIFIED:20240912T222639Z
UID:10001237-1839074400-1839088800@knoxpa.com
SUMMARY:Henry Dairy Farms Milk & Cheese Sale
DESCRIPTION:Come visit us at the farm for your weekly fresh milk and cheese. \nEvery Tuesday & Friday in September: 2:00 p.m. – 6:00 p.m.
URL:https://knoxpa.com/event/henry-dairy-farms-april-milk-cheese-sale-2/2028-04-11/
LOCATION:Henry Dairy Farms\, 263 McGiffin Road\, Knox\, 16232\, United States
ATTACH;FMTTYPE=image/jpeg:https://knoxpa.com/wp-content/uploads/2024/05/September-Milk-Sales.jpg
END:VEVENT
BEGIN:VEVENT
DTSTART;TZID=America/New_York:20280413T183000
DTEND;TZID=America/New_York:20280413T203000
DTSTAMP:20260420T210232
CREATED:20250220T132609Z
LAST-MODIFIED:20250220T132609Z
UID:10003427-1839263400-1839270600@knoxpa.com
SUMMARY:Trivia Night at Deer Creek Winery
DESCRIPTION:DJ Trivia will be hosting Trivia Night every Thursday at Deer Creek Winery in Shippenville from 6:30 p.m. to 8:30 p.m.
URL:https://knoxpa.com/event/trivia-night-at-deer-creek-winery-2/2028-04-13/
LOCATION:Deer Creek Winery\, 3333 Soap Fat Road\, Shippenville\, PA\, 16254\, United States
ATTACH;FMTTYPE=image/jpeg:https://knoxpa.com/wp-content/uploads/2025/02/DCW-Trivia-Night.jpg
END:VEVENT
BEGIN:VEVENT
DTSTART;TZID=America/New_York:20280414T140000
DTEND;TZID=America/New_York:20280414T180000
DTSTAMP:20260420T210232
CREATED:20240331T150145Z
LAST-MODIFIED:20240912T222809Z
UID:10000714-1839333600-1839348000@knoxpa.com
SUMMARY:Henry Dairy Farms Milk & Cheese Sale
DESCRIPTION:Come visit us at the farm for your weekly fresh milk and cheese. \nEvery Tuesday & Friday in September: 2:00 p.m. – 6:00 p.m.
URL:https://knoxpa.com/event/henry-dairy-farms-april-milk-cheese-sale/2028-04-14/
LOCATION:Henry Dairy Farms\, 263 McGiffin Road\, Knox\, 16232\, United States
ATTACH;FMTTYPE=image/jpeg:https://knoxpa.com/wp-content/uploads/2024/05/September-Milk-Sales.jpg
END:VEVENT
BEGIN:VEVENT
DTSTART;TZID=America/New_York:20280418T140000
DTEND;TZID=America/New_York:20280418T180000
DTSTAMP:20260420T210232
CREATED:20240505T212242Z
LAST-MODIFIED:20240912T222639Z
UID:10001238-1839679200-1839693600@knoxpa.com
SUMMARY:Henry Dairy Farms Milk & Cheese Sale
DESCRIPTION:Come visit us at the farm for your weekly fresh milk and cheese. \nEvery Tuesday & Friday in September: 2:00 p.m. – 6:00 p.m.
URL:https://knoxpa.com/event/henry-dairy-farms-april-milk-cheese-sale-2/2028-04-18/
LOCATION:Henry Dairy Farms\, 263 McGiffin Road\, Knox\, 16232\, United States
ATTACH;FMTTYPE=image/jpeg:https://knoxpa.com/wp-content/uploads/2024/05/September-Milk-Sales.jpg
END:VEVENT
BEGIN:VEVENT
DTSTART;TZID=America/New_York:20280420T183000
DTEND;TZID=America/New_York:20280420T203000
DTSTAMP:20260420T210232
CREATED:20250220T132609Z
LAST-MODIFIED:20250220T132609Z
UID:10003428-1839868200-1839875400@knoxpa.com
SUMMARY:Trivia Night at Deer Creek Winery
DESCRIPTION:DJ Trivia will be hosting Trivia Night every Thursday at Deer Creek Winery in Shippenville from 6:30 p.m. to 8:30 p.m.
URL:https://knoxpa.com/event/trivia-night-at-deer-creek-winery-2/2028-04-20/
LOCATION:Deer Creek Winery\, 3333 Soap Fat Road\, Shippenville\, PA\, 16254\, United States
ATTACH;FMTTYPE=image/jpeg:https://knoxpa.com/wp-content/uploads/2025/02/DCW-Trivia-Night.jpg
END:VEVENT
BEGIN:VEVENT
DTSTART;TZID=America/New_York:20280421T140000
DTEND;TZID=America/New_York:20280421T180000
DTSTAMP:20260420T210232
CREATED:20240331T150145Z
LAST-MODIFIED:20240912T222809Z
UID:10000715-1839938400-1839952800@knoxpa.com
SUMMARY:Henry Dairy Farms Milk & Cheese Sale
DESCRIPTION:Come visit us at the farm for your weekly fresh milk and cheese. \nEvery Tuesday & Friday in September: 2:00 p.m. – 6:00 p.m.
URL:https://knoxpa.com/event/henry-dairy-farms-april-milk-cheese-sale/2028-04-21/
LOCATION:Henry Dairy Farms\, 263 McGiffin Road\, Knox\, 16232\, United States
ATTACH;FMTTYPE=image/jpeg:https://knoxpa.com/wp-content/uploads/2024/05/September-Milk-Sales.jpg
END:VEVENT
BEGIN:VEVENT
DTSTART;TZID=America/New_York:20280425T140000
DTEND;TZID=America/New_York:20280425T180000
DTSTAMP:20260420T210232
CREATED:20240505T212242Z
LAST-MODIFIED:20240912T222639Z
UID:10001239-1840284000-1840298400@knoxpa.com
SUMMARY:Henry Dairy Farms Milk & Cheese Sale
DESCRIPTION:Come visit us at the farm for your weekly fresh milk and cheese. \nEvery Tuesday & Friday in September: 2:00 p.m. – 6:00 p.m.
URL:https://knoxpa.com/event/henry-dairy-farms-april-milk-cheese-sale-2/2028-04-25/
LOCATION:Henry Dairy Farms\, 263 McGiffin Road\, Knox\, 16232\, United States
ATTACH;FMTTYPE=image/jpeg:https://knoxpa.com/wp-content/uploads/2024/05/September-Milk-Sales.jpg
END:VEVENT
BEGIN:VEVENT
DTSTART;TZID=America/New_York:20280427T183000
DTEND;TZID=America/New_York:20280427T203000
DTSTAMP:20260420T210232
CREATED:20250220T132609Z
LAST-MODIFIED:20250220T132609Z
UID:10003429-1840473000-1840480200@knoxpa.com
SUMMARY:Trivia Night at Deer Creek Winery
DESCRIPTION:DJ Trivia will be hosting Trivia Night every Thursday at Deer Creek Winery in Shippenville from 6:30 p.m. to 8:30 p.m.
URL:https://knoxpa.com/event/trivia-night-at-deer-creek-winery-2/2028-04-27/
LOCATION:Deer Creek Winery\, 3333 Soap Fat Road\, Shippenville\, PA\, 16254\, United States
ATTACH;FMTTYPE=image/jpeg:https://knoxpa.com/wp-content/uploads/2025/02/DCW-Trivia-Night.jpg
END:VEVENT
BEGIN:VEVENT
DTSTART;TZID=America/New_York:20280428T140000
DTEND;TZID=America/New_York:20280428T180000
DTSTAMP:20260420T210232
CREATED:20240331T150145Z
LAST-MODIFIED:20240912T222809Z
UID:10000716-1840543200-1840557600@knoxpa.com
SUMMARY:Henry Dairy Farms Milk & Cheese Sale
DESCRIPTION:Come visit us at the farm for your weekly fresh milk and cheese. \nEvery Tuesday & Friday in September: 2:00 p.m. – 6:00 p.m.
URL:https://knoxpa.com/event/henry-dairy-farms-april-milk-cheese-sale/2028-04-28/
LOCATION:Henry Dairy Farms\, 263 McGiffin Road\, Knox\, 16232\, United States
ATTACH;FMTTYPE=image/jpeg:https://knoxpa.com/wp-content/uploads/2024/05/September-Milk-Sales.jpg
END:VEVENT
BEGIN:VEVENT
DTSTART;TZID=America/New_York:20280502T140000
DTEND;TZID=America/New_York:20280502T180000
DTSTAMP:20260420T210232
CREATED:20240505T212242Z
LAST-MODIFIED:20240912T222639Z
UID:10001240-1840888800-1840903200@knoxpa.com
SUMMARY:Henry Dairy Farms Milk & Cheese Sale
DESCRIPTION:Come visit us at the farm for your weekly fresh milk and cheese. \nEvery Tuesday & Friday in September: 2:00 p.m. – 6:00 p.m.
URL:https://knoxpa.com/event/henry-dairy-farms-april-milk-cheese-sale-2/2028-05-02/
LOCATION:Henry Dairy Farms\, 263 McGiffin Road\, Knox\, 16232\, United States
ATTACH;FMTTYPE=image/jpeg:https://knoxpa.com/wp-content/uploads/2024/05/September-Milk-Sales.jpg
END:VEVENT
BEGIN:VEVENT
DTSTART;TZID=America/New_York:20280504T183000
DTEND;TZID=America/New_York:20280504T203000
DTSTAMP:20260420T210232
CREATED:20250220T132609Z
LAST-MODIFIED:20250220T132609Z
UID:10003430-1841077800-1841085000@knoxpa.com
SUMMARY:Trivia Night at Deer Creek Winery
DESCRIPTION:DJ Trivia will be hosting Trivia Night every Thursday at Deer Creek Winery in Shippenville from 6:30 p.m. to 8:30 p.m.
URL:https://knoxpa.com/event/trivia-night-at-deer-creek-winery-2/2028-05-04/
LOCATION:Deer Creek Winery\, 3333 Soap Fat Road\, Shippenville\, PA\, 16254\, United States
ATTACH;FMTTYPE=image/jpeg:https://knoxpa.com/wp-content/uploads/2025/02/DCW-Trivia-Night.jpg
END:VEVENT
BEGIN:VEVENT
DTSTART;TZID=America/New_York:20280505T140000
DTEND;TZID=America/New_York:20280505T180000
DTSTAMP:20260420T210232
CREATED:20240331T150145Z
LAST-MODIFIED:20240912T222809Z
UID:10000717-1841148000-1841162400@knoxpa.com
SUMMARY:Henry Dairy Farms Milk & Cheese Sale
DESCRIPTION:Come visit us at the farm for your weekly fresh milk and cheese. \nEvery Tuesday & Friday in September: 2:00 p.m. – 6:00 p.m.
URL:https://knoxpa.com/event/henry-dairy-farms-april-milk-cheese-sale/2028-05-05/
LOCATION:Henry Dairy Farms\, 263 McGiffin Road\, Knox\, 16232\, United States
ATTACH;FMTTYPE=image/jpeg:https://knoxpa.com/wp-content/uploads/2024/05/September-Milk-Sales.jpg
END:VEVENT
BEGIN:VEVENT
DTSTART;TZID=America/New_York:20280509T140000
DTEND;TZID=America/New_York:20280509T180000
DTSTAMP:20260420T210232
CREATED:20240505T212242Z
LAST-MODIFIED:20240912T222639Z
UID:10001241-1841493600-1841508000@knoxpa.com
SUMMARY:Henry Dairy Farms Milk & Cheese Sale
DESCRIPTION:Come visit us at the farm for your weekly fresh milk and cheese. \nEvery Tuesday & Friday in September: 2:00 p.m. – 6:00 p.m.
URL:https://knoxpa.com/event/henry-dairy-farms-april-milk-cheese-sale-2/2028-05-09/
LOCATION:Henry Dairy Farms\, 263 McGiffin Road\, Knox\, 16232\, United States
ATTACH;FMTTYPE=image/jpeg:https://knoxpa.com/wp-content/uploads/2024/05/September-Milk-Sales.jpg
END:VEVENT
BEGIN:VEVENT
DTSTART;TZID=America/New_York:20280511T183000
DTEND;TZID=America/New_York:20280511T203000
DTSTAMP:20260420T210232
CREATED:20250220T132609Z
LAST-MODIFIED:20250220T132609Z
UID:10003431-1841682600-1841689800@knoxpa.com
SUMMARY:Trivia Night at Deer Creek Winery
DESCRIPTION:DJ Trivia will be hosting Trivia Night every Thursday at Deer Creek Winery in Shippenville from 6:30 p.m. to 8:30 p.m.
URL:https://knoxpa.com/event/trivia-night-at-deer-creek-winery-2/2028-05-11/
LOCATION:Deer Creek Winery\, 3333 Soap Fat Road\, Shippenville\, PA\, 16254\, United States
ATTACH;FMTTYPE=image/jpeg:https://knoxpa.com/wp-content/uploads/2025/02/DCW-Trivia-Night.jpg
END:VEVENT
END:VCALENDAR