BEGIN:VCALENDAR
VERSION:2.0
PRODID:-//KnoxPa.com - ECPv6.11.2.1//NONSGML v1.0//EN
CALSCALE:GREGORIAN
METHOD:PUBLISH
X-WR-CALNAME:KnoxPa.com
X-ORIGINAL-URL:https://knoxpa.com
X-WR-CALDESC:Events for KnoxPa.com
REFRESH-INTERVAL;VALUE=DURATION:PT1H
X-Robots-Tag:noindex
X-PUBLISHED-TTL:PT1H
BEGIN:VTIMEZONE
TZID:America/New_York
BEGIN:DAYLIGHT
TZOFFSETFROM:-0500
TZOFFSETTO:-0400
TZNAME:EDT
DTSTART:20280312T070000
END:DAYLIGHT
BEGIN:STANDARD
TZOFFSETFROM:-0400
TZOFFSETTO:-0500
TZNAME:EST
DTSTART:20281105T060000
END:STANDARD
END:VTIMEZONE
BEGIN:VEVENT
DTSTART;TZID=America/New_York:20280831T183000
DTEND;TZID=America/New_York:20280831T203000
DTSTAMP:20260421T155821
CREATED:20250220T132609Z
LAST-MODIFIED:20250220T132609Z
UID:10003447-1851359400-1851366600@knoxpa.com
SUMMARY:Trivia Night at Deer Creek Winery
DESCRIPTION:DJ Trivia will be hosting Trivia Night every Thursday at Deer Creek Winery in Shippenville from 6:30 p.m. to 8:30 p.m.
URL:https://knoxpa.com/event/trivia-night-at-deer-creek-winery-2/2028-08-31/
LOCATION:Deer Creek Winery\, 3333 Soap Fat Road\, Shippenville\, PA\, 16254\, United States
ATTACH;FMTTYPE=image/jpeg:https://knoxpa.com/wp-content/uploads/2025/02/DCW-Trivia-Night.jpg
END:VEVENT
BEGIN:VEVENT
DTSTART;TZID=America/New_York:20280901T140000
DTEND;TZID=America/New_York:20280901T180000
DTSTAMP:20260421T155821
CREATED:20240331T150145Z
LAST-MODIFIED:20240912T222809Z
UID:10000734-1851429600-1851444000@knoxpa.com
SUMMARY:Henry Dairy Farms Milk & Cheese Sale
DESCRIPTION:Come visit us at the farm for your weekly fresh milk and cheese. \nEvery Tuesday & Friday in September: 2:00 p.m. – 6:00 p.m.
URL:https://knoxpa.com/event/henry-dairy-farms-april-milk-cheese-sale/2028-09-01/
LOCATION:Henry Dairy Farms\, 263 McGiffin Road\, Knox\, 16232\, United States
ATTACH;FMTTYPE=image/jpeg:https://knoxpa.com/wp-content/uploads/2024/05/September-Milk-Sales.jpg
END:VEVENT
BEGIN:VEVENT
DTSTART;TZID=America/New_York:20280905T140000
DTEND;TZID=America/New_York:20280905T180000
DTSTAMP:20260421T155821
CREATED:20240505T212242Z
LAST-MODIFIED:20240912T222639Z
UID:10001258-1851775200-1851789600@knoxpa.com
SUMMARY:Henry Dairy Farms Milk & Cheese Sale
DESCRIPTION:Come visit us at the farm for your weekly fresh milk and cheese. \nEvery Tuesday & Friday in September: 2:00 p.m. – 6:00 p.m.
URL:https://knoxpa.com/event/henry-dairy-farms-april-milk-cheese-sale-2/2028-09-05/
LOCATION:Henry Dairy Farms\, 263 McGiffin Road\, Knox\, 16232\, United States
ATTACH;FMTTYPE=image/jpeg:https://knoxpa.com/wp-content/uploads/2024/05/September-Milk-Sales.jpg
END:VEVENT
BEGIN:VEVENT
DTSTART;TZID=America/New_York:20280907T183000
DTEND;TZID=America/New_York:20280907T203000
DTSTAMP:20260421T155821
CREATED:20250220T132609Z
LAST-MODIFIED:20250220T132609Z
UID:10003448-1851964200-1851971400@knoxpa.com
SUMMARY:Trivia Night at Deer Creek Winery
DESCRIPTION:DJ Trivia will be hosting Trivia Night every Thursday at Deer Creek Winery in Shippenville from 6:30 p.m. to 8:30 p.m.
URL:https://knoxpa.com/event/trivia-night-at-deer-creek-winery-2/2028-09-07/
LOCATION:Deer Creek Winery\, 3333 Soap Fat Road\, Shippenville\, PA\, 16254\, United States
ATTACH;FMTTYPE=image/jpeg:https://knoxpa.com/wp-content/uploads/2025/02/DCW-Trivia-Night.jpg
END:VEVENT
BEGIN:VEVENT
DTSTART;TZID=America/New_York:20280908T140000
DTEND;TZID=America/New_York:20280908T180000
DTSTAMP:20260421T155821
CREATED:20240331T150145Z
LAST-MODIFIED:20240912T222809Z
UID:10000735-1852034400-1852048800@knoxpa.com
SUMMARY:Henry Dairy Farms Milk & Cheese Sale
DESCRIPTION:Come visit us at the farm for your weekly fresh milk and cheese. \nEvery Tuesday & Friday in September: 2:00 p.m. – 6:00 p.m.
URL:https://knoxpa.com/event/henry-dairy-farms-april-milk-cheese-sale/2028-09-08/
LOCATION:Henry Dairy Farms\, 263 McGiffin Road\, Knox\, 16232\, United States
ATTACH;FMTTYPE=image/jpeg:https://knoxpa.com/wp-content/uploads/2024/05/September-Milk-Sales.jpg
END:VEVENT
BEGIN:VEVENT
DTSTART;TZID=America/New_York:20280912T140000
DTEND;TZID=America/New_York:20280912T180000
DTSTAMP:20260421T155821
CREATED:20240505T212242Z
LAST-MODIFIED:20240912T222639Z
UID:10001259-1852380000-1852394400@knoxpa.com
SUMMARY:Henry Dairy Farms Milk & Cheese Sale
DESCRIPTION:Come visit us at the farm for your weekly fresh milk and cheese. \nEvery Tuesday & Friday in September: 2:00 p.m. – 6:00 p.m.
URL:https://knoxpa.com/event/henry-dairy-farms-april-milk-cheese-sale-2/2028-09-12/
LOCATION:Henry Dairy Farms\, 263 McGiffin Road\, Knox\, 16232\, United States
ATTACH;FMTTYPE=image/jpeg:https://knoxpa.com/wp-content/uploads/2024/05/September-Milk-Sales.jpg
END:VEVENT
BEGIN:VEVENT
DTSTART;TZID=America/New_York:20280914T183000
DTEND;TZID=America/New_York:20280914T203000
DTSTAMP:20260421T155821
CREATED:20250220T132609Z
LAST-MODIFIED:20250220T132609Z
UID:10003449-1852569000-1852576200@knoxpa.com
SUMMARY:Trivia Night at Deer Creek Winery
DESCRIPTION:DJ Trivia will be hosting Trivia Night every Thursday at Deer Creek Winery in Shippenville from 6:30 p.m. to 8:30 p.m.
URL:https://knoxpa.com/event/trivia-night-at-deer-creek-winery-2/2028-09-14/
LOCATION:Deer Creek Winery\, 3333 Soap Fat Road\, Shippenville\, PA\, 16254\, United States
ATTACH;FMTTYPE=image/jpeg:https://knoxpa.com/wp-content/uploads/2025/02/DCW-Trivia-Night.jpg
END:VEVENT
BEGIN:VEVENT
DTSTART;TZID=America/New_York:20280915T140000
DTEND;TZID=America/New_York:20280915T180000
DTSTAMP:20260421T155821
CREATED:20240331T150145Z
LAST-MODIFIED:20240912T222809Z
UID:10000736-1852639200-1852653600@knoxpa.com
SUMMARY:Henry Dairy Farms Milk & Cheese Sale
DESCRIPTION:Come visit us at the farm for your weekly fresh milk and cheese. \nEvery Tuesday & Friday in September: 2:00 p.m. – 6:00 p.m.
URL:https://knoxpa.com/event/henry-dairy-farms-april-milk-cheese-sale/2028-09-15/
LOCATION:Henry Dairy Farms\, 263 McGiffin Road\, Knox\, 16232\, United States
ATTACH;FMTTYPE=image/jpeg:https://knoxpa.com/wp-content/uploads/2024/05/September-Milk-Sales.jpg
END:VEVENT
BEGIN:VEVENT
DTSTART;TZID=America/New_York:20280919T140000
DTEND;TZID=America/New_York:20280919T180000
DTSTAMP:20260421T155821
CREATED:20240505T212242Z
LAST-MODIFIED:20240912T222639Z
UID:10001260-1852984800-1852999200@knoxpa.com
SUMMARY:Henry Dairy Farms Milk & Cheese Sale
DESCRIPTION:Come visit us at the farm for your weekly fresh milk and cheese. \nEvery Tuesday & Friday in September: 2:00 p.m. – 6:00 p.m.
URL:https://knoxpa.com/event/henry-dairy-farms-april-milk-cheese-sale-2/2028-09-19/
LOCATION:Henry Dairy Farms\, 263 McGiffin Road\, Knox\, 16232\, United States
ATTACH;FMTTYPE=image/jpeg:https://knoxpa.com/wp-content/uploads/2024/05/September-Milk-Sales.jpg
END:VEVENT
BEGIN:VEVENT
DTSTART;TZID=America/New_York:20280921T183000
DTEND;TZID=America/New_York:20280921T203000
DTSTAMP:20260421T155821
CREATED:20250220T132609Z
LAST-MODIFIED:20250220T132609Z
UID:10003450-1853173800-1853181000@knoxpa.com
SUMMARY:Trivia Night at Deer Creek Winery
DESCRIPTION:DJ Trivia will be hosting Trivia Night every Thursday at Deer Creek Winery in Shippenville from 6:30 p.m. to 8:30 p.m.
URL:https://knoxpa.com/event/trivia-night-at-deer-creek-winery-2/2028-09-21/
LOCATION:Deer Creek Winery\, 3333 Soap Fat Road\, Shippenville\, PA\, 16254\, United States
ATTACH;FMTTYPE=image/jpeg:https://knoxpa.com/wp-content/uploads/2025/02/DCW-Trivia-Night.jpg
END:VEVENT
BEGIN:VEVENT
DTSTART;TZID=America/New_York:20280922T140000
DTEND;TZID=America/New_York:20280922T180000
DTSTAMP:20260421T155821
CREATED:20240331T150145Z
LAST-MODIFIED:20240912T222809Z
UID:10000737-1853244000-1853258400@knoxpa.com
SUMMARY:Henry Dairy Farms Milk & Cheese Sale
DESCRIPTION:Come visit us at the farm for your weekly fresh milk and cheese. \nEvery Tuesday & Friday in September: 2:00 p.m. – 6:00 p.m.
URL:https://knoxpa.com/event/henry-dairy-farms-april-milk-cheese-sale/2028-09-22/
LOCATION:Henry Dairy Farms\, 263 McGiffin Road\, Knox\, 16232\, United States
ATTACH;FMTTYPE=image/jpeg:https://knoxpa.com/wp-content/uploads/2024/05/September-Milk-Sales.jpg
END:VEVENT
BEGIN:VEVENT
DTSTART;TZID=America/New_York:20280926T140000
DTEND;TZID=America/New_York:20280926T180000
DTSTAMP:20260421T155821
CREATED:20240505T212242Z
LAST-MODIFIED:20240912T222639Z
UID:10001261-1853589600-1853604000@knoxpa.com
SUMMARY:Henry Dairy Farms Milk & Cheese Sale
DESCRIPTION:Come visit us at the farm for your weekly fresh milk and cheese. \nEvery Tuesday & Friday in September: 2:00 p.m. – 6:00 p.m.
URL:https://knoxpa.com/event/henry-dairy-farms-april-milk-cheese-sale-2/2028-09-26/
LOCATION:Henry Dairy Farms\, 263 McGiffin Road\, Knox\, 16232\, United States
ATTACH;FMTTYPE=image/jpeg:https://knoxpa.com/wp-content/uploads/2024/05/September-Milk-Sales.jpg
END:VEVENT
BEGIN:VEVENT
DTSTART;TZID=America/New_York:20280928T183000
DTEND;TZID=America/New_York:20280928T203000
DTSTAMP:20260421T155821
CREATED:20250220T132609Z
LAST-MODIFIED:20250220T132609Z
UID:10003451-1853778600-1853785800@knoxpa.com
SUMMARY:Trivia Night at Deer Creek Winery
DESCRIPTION:DJ Trivia will be hosting Trivia Night every Thursday at Deer Creek Winery in Shippenville from 6:30 p.m. to 8:30 p.m.
URL:https://knoxpa.com/event/trivia-night-at-deer-creek-winery-2/2028-09-28/
LOCATION:Deer Creek Winery\, 3333 Soap Fat Road\, Shippenville\, PA\, 16254\, United States
ATTACH;FMTTYPE=image/jpeg:https://knoxpa.com/wp-content/uploads/2025/02/DCW-Trivia-Night.jpg
END:VEVENT
BEGIN:VEVENT
DTSTART;TZID=America/New_York:20280929T140000
DTEND;TZID=America/New_York:20280929T180000
DTSTAMP:20260421T155821
CREATED:20240331T150145Z
LAST-MODIFIED:20240912T222809Z
UID:10000738-1853848800-1853863200@knoxpa.com
SUMMARY:Henry Dairy Farms Milk & Cheese Sale
DESCRIPTION:Come visit us at the farm for your weekly fresh milk and cheese. \nEvery Tuesday & Friday in September: 2:00 p.m. – 6:00 p.m.
URL:https://knoxpa.com/event/henry-dairy-farms-april-milk-cheese-sale/2028-09-29/
LOCATION:Henry Dairy Farms\, 263 McGiffin Road\, Knox\, 16232\, United States
ATTACH;FMTTYPE=image/jpeg:https://knoxpa.com/wp-content/uploads/2024/05/September-Milk-Sales.jpg
END:VEVENT
BEGIN:VEVENT
DTSTART;TZID=America/New_York:20281003T140000
DTEND;TZID=America/New_York:20281003T180000
DTSTAMP:20260421T155821
CREATED:20240505T212242Z
LAST-MODIFIED:20240912T222639Z
UID:10001262-1854194400-1854208800@knoxpa.com
SUMMARY:Henry Dairy Farms Milk & Cheese Sale
DESCRIPTION:Come visit us at the farm for your weekly fresh milk and cheese. \nEvery Tuesday & Friday in September: 2:00 p.m. – 6:00 p.m.
URL:https://knoxpa.com/event/henry-dairy-farms-april-milk-cheese-sale-2/2028-10-03/
LOCATION:Henry Dairy Farms\, 263 McGiffin Road\, Knox\, 16232\, United States
ATTACH;FMTTYPE=image/jpeg:https://knoxpa.com/wp-content/uploads/2024/05/September-Milk-Sales.jpg
END:VEVENT
BEGIN:VEVENT
DTSTART;TZID=America/New_York:20281005T183000
DTEND;TZID=America/New_York:20281005T203000
DTSTAMP:20260421T155821
CREATED:20250220T132609Z
LAST-MODIFIED:20250220T132609Z
UID:10003452-1854383400-1854390600@knoxpa.com
SUMMARY:Trivia Night at Deer Creek Winery
DESCRIPTION:DJ Trivia will be hosting Trivia Night every Thursday at Deer Creek Winery in Shippenville from 6:30 p.m. to 8:30 p.m.
URL:https://knoxpa.com/event/trivia-night-at-deer-creek-winery-2/2028-10-05/
LOCATION:Deer Creek Winery\, 3333 Soap Fat Road\, Shippenville\, PA\, 16254\, United States
ATTACH;FMTTYPE=image/jpeg:https://knoxpa.com/wp-content/uploads/2025/02/DCW-Trivia-Night.jpg
END:VEVENT
BEGIN:VEVENT
DTSTART;TZID=America/New_York:20281006T140000
DTEND;TZID=America/New_York:20281006T180000
DTSTAMP:20260421T155821
CREATED:20240331T150145Z
LAST-MODIFIED:20240912T222809Z
UID:10000739-1854453600-1854468000@knoxpa.com
SUMMARY:Henry Dairy Farms Milk & Cheese Sale
DESCRIPTION:Come visit us at the farm for your weekly fresh milk and cheese. \nEvery Tuesday & Friday in September: 2:00 p.m. – 6:00 p.m.
URL:https://knoxpa.com/event/henry-dairy-farms-april-milk-cheese-sale/2028-10-06/
LOCATION:Henry Dairy Farms\, 263 McGiffin Road\, Knox\, 16232\, United States
ATTACH;FMTTYPE=image/jpeg:https://knoxpa.com/wp-content/uploads/2024/05/September-Milk-Sales.jpg
END:VEVENT
BEGIN:VEVENT
DTSTART;TZID=America/New_York:20281010T140000
DTEND;TZID=America/New_York:20281010T180000
DTSTAMP:20260421T155821
CREATED:20240505T212242Z
LAST-MODIFIED:20240912T222639Z
UID:10001263-1854799200-1854813600@knoxpa.com
SUMMARY:Henry Dairy Farms Milk & Cheese Sale
DESCRIPTION:Come visit us at the farm for your weekly fresh milk and cheese. \nEvery Tuesday & Friday in September: 2:00 p.m. – 6:00 p.m.
URL:https://knoxpa.com/event/henry-dairy-farms-april-milk-cheese-sale-2/2028-10-10/
LOCATION:Henry Dairy Farms\, 263 McGiffin Road\, Knox\, 16232\, United States
ATTACH;FMTTYPE=image/jpeg:https://knoxpa.com/wp-content/uploads/2024/05/September-Milk-Sales.jpg
END:VEVENT
BEGIN:VEVENT
DTSTART;TZID=America/New_York:20281012T183000
DTEND;TZID=America/New_York:20281012T203000
DTSTAMP:20260421T155821
CREATED:20250220T132609Z
LAST-MODIFIED:20250220T132609Z
UID:10003453-1854988200-1854995400@knoxpa.com
SUMMARY:Trivia Night at Deer Creek Winery
DESCRIPTION:DJ Trivia will be hosting Trivia Night every Thursday at Deer Creek Winery in Shippenville from 6:30 p.m. to 8:30 p.m.
URL:https://knoxpa.com/event/trivia-night-at-deer-creek-winery-2/2028-10-12/
LOCATION:Deer Creek Winery\, 3333 Soap Fat Road\, Shippenville\, PA\, 16254\, United States
ATTACH;FMTTYPE=image/jpeg:https://knoxpa.com/wp-content/uploads/2025/02/DCW-Trivia-Night.jpg
END:VEVENT
BEGIN:VEVENT
DTSTART;TZID=America/New_York:20281013T140000
DTEND;TZID=America/New_York:20281013T180000
DTSTAMP:20260421T155821
CREATED:20240331T150145Z
LAST-MODIFIED:20240912T222809Z
UID:10000740-1855058400-1855072800@knoxpa.com
SUMMARY:Henry Dairy Farms Milk & Cheese Sale
DESCRIPTION:Come visit us at the farm for your weekly fresh milk and cheese. \nEvery Tuesday & Friday in September: 2:00 p.m. – 6:00 p.m.
URL:https://knoxpa.com/event/henry-dairy-farms-april-milk-cheese-sale/2028-10-13/
LOCATION:Henry Dairy Farms\, 263 McGiffin Road\, Knox\, 16232\, United States
ATTACH;FMTTYPE=image/jpeg:https://knoxpa.com/wp-content/uploads/2024/05/September-Milk-Sales.jpg
END:VEVENT
BEGIN:VEVENT
DTSTART;TZID=America/New_York:20281017T140000
DTEND;TZID=America/New_York:20281017T180000
DTSTAMP:20260421T155821
CREATED:20240505T212242Z
LAST-MODIFIED:20240912T222639Z
UID:10001264-1855404000-1855418400@knoxpa.com
SUMMARY:Henry Dairy Farms Milk & Cheese Sale
DESCRIPTION:Come visit us at the farm for your weekly fresh milk and cheese. \nEvery Tuesday & Friday in September: 2:00 p.m. – 6:00 p.m.
URL:https://knoxpa.com/event/henry-dairy-farms-april-milk-cheese-sale-2/2028-10-17/
LOCATION:Henry Dairy Farms\, 263 McGiffin Road\, Knox\, 16232\, United States
ATTACH;FMTTYPE=image/jpeg:https://knoxpa.com/wp-content/uploads/2024/05/September-Milk-Sales.jpg
END:VEVENT
BEGIN:VEVENT
DTSTART;TZID=America/New_York:20281019T183000
DTEND;TZID=America/New_York:20281019T203000
DTSTAMP:20260421T155821
CREATED:20250220T132609Z
LAST-MODIFIED:20250220T132609Z
UID:10003454-1855593000-1855600200@knoxpa.com
SUMMARY:Trivia Night at Deer Creek Winery
DESCRIPTION:DJ Trivia will be hosting Trivia Night every Thursday at Deer Creek Winery in Shippenville from 6:30 p.m. to 8:30 p.m.
URL:https://knoxpa.com/event/trivia-night-at-deer-creek-winery-2/2028-10-19/
LOCATION:Deer Creek Winery\, 3333 Soap Fat Road\, Shippenville\, PA\, 16254\, United States
ATTACH;FMTTYPE=image/jpeg:https://knoxpa.com/wp-content/uploads/2025/02/DCW-Trivia-Night.jpg
END:VEVENT
BEGIN:VEVENT
DTSTART;TZID=America/New_York:20281020T140000
DTEND;TZID=America/New_York:20281020T180000
DTSTAMP:20260421T155821
CREATED:20240331T150145Z
LAST-MODIFIED:20240912T222809Z
UID:10000741-1855663200-1855677600@knoxpa.com
SUMMARY:Henry Dairy Farms Milk & Cheese Sale
DESCRIPTION:Come visit us at the farm for your weekly fresh milk and cheese. \nEvery Tuesday & Friday in September: 2:00 p.m. – 6:00 p.m.
URL:https://knoxpa.com/event/henry-dairy-farms-april-milk-cheese-sale/2028-10-20/
LOCATION:Henry Dairy Farms\, 263 McGiffin Road\, Knox\, 16232\, United States
ATTACH;FMTTYPE=image/jpeg:https://knoxpa.com/wp-content/uploads/2024/05/September-Milk-Sales.jpg
END:VEVENT
BEGIN:VEVENT
DTSTART;TZID=America/New_York:20281024T140000
DTEND;TZID=America/New_York:20281024T180000
DTSTAMP:20260421T155821
CREATED:20240505T212242Z
LAST-MODIFIED:20240912T222639Z
UID:10001265-1856008800-1856023200@knoxpa.com
SUMMARY:Henry Dairy Farms Milk & Cheese Sale
DESCRIPTION:Come visit us at the farm for your weekly fresh milk and cheese. \nEvery Tuesday & Friday in September: 2:00 p.m. – 6:00 p.m.
URL:https://knoxpa.com/event/henry-dairy-farms-april-milk-cheese-sale-2/2028-10-24/
LOCATION:Henry Dairy Farms\, 263 McGiffin Road\, Knox\, 16232\, United States
ATTACH;FMTTYPE=image/jpeg:https://knoxpa.com/wp-content/uploads/2024/05/September-Milk-Sales.jpg
END:VEVENT
BEGIN:VEVENT
DTSTART;TZID=America/New_York:20281026T183000
DTEND;TZID=America/New_York:20281026T203000
DTSTAMP:20260421T155821
CREATED:20250220T132609Z
LAST-MODIFIED:20250220T132609Z
UID:10003455-1856197800-1856205000@knoxpa.com
SUMMARY:Trivia Night at Deer Creek Winery
DESCRIPTION:DJ Trivia will be hosting Trivia Night every Thursday at Deer Creek Winery in Shippenville from 6:30 p.m. to 8:30 p.m.
URL:https://knoxpa.com/event/trivia-night-at-deer-creek-winery-2/2028-10-26/
LOCATION:Deer Creek Winery\, 3333 Soap Fat Road\, Shippenville\, PA\, 16254\, United States
ATTACH;FMTTYPE=image/jpeg:https://knoxpa.com/wp-content/uploads/2025/02/DCW-Trivia-Night.jpg
END:VEVENT
BEGIN:VEVENT
DTSTART;TZID=America/New_York:20281027T140000
DTEND;TZID=America/New_York:20281027T180000
DTSTAMP:20260421T155821
CREATED:20240331T150145Z
LAST-MODIFIED:20240912T222809Z
UID:10000742-1856268000-1856282400@knoxpa.com
SUMMARY:Henry Dairy Farms Milk & Cheese Sale
DESCRIPTION:Come visit us at the farm for your weekly fresh milk and cheese. \nEvery Tuesday & Friday in September: 2:00 p.m. – 6:00 p.m.
URL:https://knoxpa.com/event/henry-dairy-farms-april-milk-cheese-sale/2028-10-27/
LOCATION:Henry Dairy Farms\, 263 McGiffin Road\, Knox\, 16232\, United States
ATTACH;FMTTYPE=image/jpeg:https://knoxpa.com/wp-content/uploads/2024/05/September-Milk-Sales.jpg
END:VEVENT
BEGIN:VEVENT
DTSTART;TZID=America/New_York:20281031T140000
DTEND;TZID=America/New_York:20281031T180000
DTSTAMP:20260421T155821
CREATED:20240505T212242Z
LAST-MODIFIED:20240912T222639Z
UID:10001266-1856613600-1856628000@knoxpa.com
SUMMARY:Henry Dairy Farms Milk & Cheese Sale
DESCRIPTION:Come visit us at the farm for your weekly fresh milk and cheese. \nEvery Tuesday & Friday in September: 2:00 p.m. – 6:00 p.m.
URL:https://knoxpa.com/event/henry-dairy-farms-april-milk-cheese-sale-2/2028-10-31/
LOCATION:Henry Dairy Farms\, 263 McGiffin Road\, Knox\, 16232\, United States
ATTACH;FMTTYPE=image/jpeg:https://knoxpa.com/wp-content/uploads/2024/05/September-Milk-Sales.jpg
END:VEVENT
BEGIN:VEVENT
DTSTART;TZID=America/New_York:20281102T183000
DTEND;TZID=America/New_York:20281102T203000
DTSTAMP:20260421T155821
CREATED:20250220T132609Z
LAST-MODIFIED:20250220T132609Z
UID:10003456-1856802600-1856809800@knoxpa.com
SUMMARY:Trivia Night at Deer Creek Winery
DESCRIPTION:DJ Trivia will be hosting Trivia Night every Thursday at Deer Creek Winery in Shippenville from 6:30 p.m. to 8:30 p.m.
URL:https://knoxpa.com/event/trivia-night-at-deer-creek-winery-2/2028-11-02/
LOCATION:Deer Creek Winery\, 3333 Soap Fat Road\, Shippenville\, PA\, 16254\, United States
ATTACH;FMTTYPE=image/jpeg:https://knoxpa.com/wp-content/uploads/2025/02/DCW-Trivia-Night.jpg
END:VEVENT
BEGIN:VEVENT
DTSTART;TZID=America/New_York:20281103T140000
DTEND;TZID=America/New_York:20281103T180000
DTSTAMP:20260421T155821
CREATED:20240331T150145Z
LAST-MODIFIED:20240912T222809Z
UID:10000743-1856872800-1856887200@knoxpa.com
SUMMARY:Henry Dairy Farms Milk & Cheese Sale
DESCRIPTION:Come visit us at the farm for your weekly fresh milk and cheese. \nEvery Tuesday & Friday in September: 2:00 p.m. – 6:00 p.m.
URL:https://knoxpa.com/event/henry-dairy-farms-april-milk-cheese-sale/2028-11-03/
LOCATION:Henry Dairy Farms\, 263 McGiffin Road\, Knox\, 16232\, United States
ATTACH;FMTTYPE=image/jpeg:https://knoxpa.com/wp-content/uploads/2024/05/September-Milk-Sales.jpg
END:VEVENT
BEGIN:VEVENT
DTSTART;TZID=America/New_York:20281107T140000
DTEND;TZID=America/New_York:20281107T180000
DTSTAMP:20260421T155821
CREATED:20240505T212242Z
LAST-MODIFIED:20240912T222639Z
UID:10001267-1857218400-1857232800@knoxpa.com
SUMMARY:Henry Dairy Farms Milk & Cheese Sale
DESCRIPTION:Come visit us at the farm for your weekly fresh milk and cheese. \nEvery Tuesday & Friday in September: 2:00 p.m. – 6:00 p.m.
URL:https://knoxpa.com/event/henry-dairy-farms-april-milk-cheese-sale-2/2028-11-07/
LOCATION:Henry Dairy Farms\, 263 McGiffin Road\, Knox\, 16232\, United States
ATTACH;FMTTYPE=image/jpeg:https://knoxpa.com/wp-content/uploads/2024/05/September-Milk-Sales.jpg
END:VEVENT
END:VCALENDAR