BEGIN:VCALENDAR
VERSION:2.0
PRODID:-//KnoxPa.com - ECPv6.11.2.1//NONSGML v1.0//EN
CALSCALE:GREGORIAN
METHOD:PUBLISH
X-ORIGINAL-URL:https://knoxpa.com
X-WR-CALDESC:Events for KnoxPa.com
REFRESH-INTERVAL;VALUE=DURATION:PT1H
X-Robots-Tag:noindex
X-PUBLISHED-TTL:PT1H
BEGIN:VTIMEZONE
TZID:America/New_York
BEGIN:DAYLIGHT
TZOFFSETFROM:-0500
TZOFFSETTO:-0400
TZNAME:EDT
DTSTART:20290311T070000
END:DAYLIGHT
BEGIN:STANDARD
TZOFFSETFROM:-0400
TZOFFSETTO:-0500
TZNAME:EST
DTSTART:20291104T060000
END:STANDARD
END:VTIMEZONE
BEGIN:VEVENT
DTSTART;TZID=America/New_York:20290126T140000
DTEND;TZID=America/New_York:20290126T180000
DTSTAMP:20260421T220802
CREATED:20240331T150145Z
LAST-MODIFIED:20240912T222809Z
UID:10000755-1864130400-1864144800@knoxpa.com
SUMMARY:Henry Dairy Farms Milk & Cheese Sale
DESCRIPTION:Come visit us at the farm for your weekly fresh milk and cheese. \nEvery Tuesday & Friday in September: 2:00 p.m. – 6:00 p.m.
URL:https://knoxpa.com/event/henry-dairy-farms-april-milk-cheese-sale/2029-01-26/
LOCATION:Henry Dairy Farms\, 263 McGiffin Road\, Knox\, 16232\, United States
ATTACH;FMTTYPE=image/jpeg:https://knoxpa.com/wp-content/uploads/2024/05/September-Milk-Sales.jpg
END:VEVENT
BEGIN:VEVENT
DTSTART;TZID=America/New_York:20290130T140000
DTEND;TZID=America/New_York:20290130T180000
DTSTAMP:20260421T220802
CREATED:20240505T212242Z
LAST-MODIFIED:20240912T222639Z
UID:10001279-1864476000-1864490400@knoxpa.com
SUMMARY:Henry Dairy Farms Milk & Cheese Sale
DESCRIPTION:Come visit us at the farm for your weekly fresh milk and cheese. \nEvery Tuesday & Friday in September: 2:00 p.m. – 6:00 p.m.
URL:https://knoxpa.com/event/henry-dairy-farms-april-milk-cheese-sale-2/2029-01-30/
LOCATION:Henry Dairy Farms\, 263 McGiffin Road\, Knox\, 16232\, United States
ATTACH;FMTTYPE=image/jpeg:https://knoxpa.com/wp-content/uploads/2024/05/September-Milk-Sales.jpg
END:VEVENT
BEGIN:VEVENT
DTSTART;TZID=America/New_York:20290201T183000
DTEND;TZID=America/New_York:20290201T203000
DTSTAMP:20260421T220802
CREATED:20250220T132609Z
LAST-MODIFIED:20250220T132609Z
UID:10003469-1864665000-1864672200@knoxpa.com
SUMMARY:Trivia Night at Deer Creek Winery
DESCRIPTION:DJ Trivia will be hosting Trivia Night every Thursday at Deer Creek Winery in Shippenville from 6:30 p.m. to 8:30 p.m.
URL:https://knoxpa.com/event/trivia-night-at-deer-creek-winery-2/2029-02-01/
LOCATION:Deer Creek Winery\, 3333 Soap Fat Road\, Shippenville\, PA\, 16254\, United States
ATTACH;FMTTYPE=image/jpeg:https://knoxpa.com/wp-content/uploads/2025/02/DCW-Trivia-Night.jpg
END:VEVENT
BEGIN:VEVENT
DTSTART;TZID=America/New_York:20290202T140000
DTEND;TZID=America/New_York:20290202T180000
DTSTAMP:20260421T220802
CREATED:20240331T150145Z
LAST-MODIFIED:20240912T222809Z
UID:10000756-1864735200-1864749600@knoxpa.com
SUMMARY:Henry Dairy Farms Milk & Cheese Sale
DESCRIPTION:Come visit us at the farm for your weekly fresh milk and cheese. \nEvery Tuesday & Friday in September: 2:00 p.m. – 6:00 p.m.
URL:https://knoxpa.com/event/henry-dairy-farms-april-milk-cheese-sale/2029-02-02/
LOCATION:Henry Dairy Farms\, 263 McGiffin Road\, Knox\, 16232\, United States
ATTACH;FMTTYPE=image/jpeg:https://knoxpa.com/wp-content/uploads/2024/05/September-Milk-Sales.jpg
END:VEVENT
BEGIN:VEVENT
DTSTART;TZID=America/New_York:20290206T140000
DTEND;TZID=America/New_York:20290206T180000
DTSTAMP:20260421T220802
CREATED:20240505T212242Z
LAST-MODIFIED:20240912T222639Z
UID:10001280-1865080800-1865095200@knoxpa.com
SUMMARY:Henry Dairy Farms Milk & Cheese Sale
DESCRIPTION:Come visit us at the farm for your weekly fresh milk and cheese. \nEvery Tuesday & Friday in September: 2:00 p.m. – 6:00 p.m.
URL:https://knoxpa.com/event/henry-dairy-farms-april-milk-cheese-sale-2/2029-02-06/
LOCATION:Henry Dairy Farms\, 263 McGiffin Road\, Knox\, 16232\, United States
ATTACH;FMTTYPE=image/jpeg:https://knoxpa.com/wp-content/uploads/2024/05/September-Milk-Sales.jpg
END:VEVENT
BEGIN:VEVENT
DTSTART;TZID=America/New_York:20290208T183000
DTEND;TZID=America/New_York:20290208T203000
DTSTAMP:20260421T220802
CREATED:20250220T132609Z
LAST-MODIFIED:20250220T132609Z
UID:10003470-1865269800-1865277000@knoxpa.com
SUMMARY:Trivia Night at Deer Creek Winery
DESCRIPTION:DJ Trivia will be hosting Trivia Night every Thursday at Deer Creek Winery in Shippenville from 6:30 p.m. to 8:30 p.m.
URL:https://knoxpa.com/event/trivia-night-at-deer-creek-winery-2/2029-02-08/
LOCATION:Deer Creek Winery\, 3333 Soap Fat Road\, Shippenville\, PA\, 16254\, United States
ATTACH;FMTTYPE=image/jpeg:https://knoxpa.com/wp-content/uploads/2025/02/DCW-Trivia-Night.jpg
END:VEVENT
BEGIN:VEVENT
DTSTART;TZID=America/New_York:20290209T140000
DTEND;TZID=America/New_York:20290209T180000
DTSTAMP:20260421T220802
CREATED:20240331T150145Z
LAST-MODIFIED:20240912T222809Z
UID:10000757-1865340000-1865354400@knoxpa.com
SUMMARY:Henry Dairy Farms Milk & Cheese Sale
DESCRIPTION:Come visit us at the farm for your weekly fresh milk and cheese. \nEvery Tuesday & Friday in September: 2:00 p.m. – 6:00 p.m.
URL:https://knoxpa.com/event/henry-dairy-farms-april-milk-cheese-sale/2029-02-09/
LOCATION:Henry Dairy Farms\, 263 McGiffin Road\, Knox\, 16232\, United States
ATTACH;FMTTYPE=image/jpeg:https://knoxpa.com/wp-content/uploads/2024/05/September-Milk-Sales.jpg
END:VEVENT
BEGIN:VEVENT
DTSTART;TZID=America/New_York:20290213T140000
DTEND;TZID=America/New_York:20290213T180000
DTSTAMP:20260421T220802
CREATED:20240505T212242Z
LAST-MODIFIED:20240912T222639Z
UID:10001281-1865685600-1865700000@knoxpa.com
SUMMARY:Henry Dairy Farms Milk & Cheese Sale
DESCRIPTION:Come visit us at the farm for your weekly fresh milk and cheese. \nEvery Tuesday & Friday in September: 2:00 p.m. – 6:00 p.m.
URL:https://knoxpa.com/event/henry-dairy-farms-april-milk-cheese-sale-2/2029-02-13/
LOCATION:Henry Dairy Farms\, 263 McGiffin Road\, Knox\, 16232\, United States
ATTACH;FMTTYPE=image/jpeg:https://knoxpa.com/wp-content/uploads/2024/05/September-Milk-Sales.jpg
END:VEVENT
BEGIN:VEVENT
DTSTART;TZID=America/New_York:20290215T183000
DTEND;TZID=America/New_York:20290215T203000
DTSTAMP:20260421T220802
CREATED:20250220T132609Z
LAST-MODIFIED:20250220T132609Z
UID:10003471-1865874600-1865881800@knoxpa.com
SUMMARY:Trivia Night at Deer Creek Winery
DESCRIPTION:DJ Trivia will be hosting Trivia Night every Thursday at Deer Creek Winery in Shippenville from 6:30 p.m. to 8:30 p.m.
URL:https://knoxpa.com/event/trivia-night-at-deer-creek-winery-2/2029-02-15/
LOCATION:Deer Creek Winery\, 3333 Soap Fat Road\, Shippenville\, PA\, 16254\, United States
ATTACH;FMTTYPE=image/jpeg:https://knoxpa.com/wp-content/uploads/2025/02/DCW-Trivia-Night.jpg
END:VEVENT
BEGIN:VEVENT
DTSTART;TZID=America/New_York:20290216T140000
DTEND;TZID=America/New_York:20290216T180000
DTSTAMP:20260421T220802
CREATED:20240331T150145Z
LAST-MODIFIED:20240912T222809Z
UID:10000758-1865944800-1865959200@knoxpa.com
SUMMARY:Henry Dairy Farms Milk & Cheese Sale
DESCRIPTION:Come visit us at the farm for your weekly fresh milk and cheese. \nEvery Tuesday & Friday in September: 2:00 p.m. – 6:00 p.m.
URL:https://knoxpa.com/event/henry-dairy-farms-april-milk-cheese-sale/2029-02-16/
LOCATION:Henry Dairy Farms\, 263 McGiffin Road\, Knox\, 16232\, United States
ATTACH;FMTTYPE=image/jpeg:https://knoxpa.com/wp-content/uploads/2024/05/September-Milk-Sales.jpg
END:VEVENT
BEGIN:VEVENT
DTSTART;TZID=America/New_York:20290220T140000
DTEND;TZID=America/New_York:20290220T180000
DTSTAMP:20260421T220802
CREATED:20240505T212242Z
LAST-MODIFIED:20240912T222639Z
UID:10001282-1866290400-1866304800@knoxpa.com
SUMMARY:Henry Dairy Farms Milk & Cheese Sale
DESCRIPTION:Come visit us at the farm for your weekly fresh milk and cheese. \nEvery Tuesday & Friday in September: 2:00 p.m. – 6:00 p.m.
URL:https://knoxpa.com/event/henry-dairy-farms-april-milk-cheese-sale-2/2029-02-20/
LOCATION:Henry Dairy Farms\, 263 McGiffin Road\, Knox\, 16232\, United States
ATTACH;FMTTYPE=image/jpeg:https://knoxpa.com/wp-content/uploads/2024/05/September-Milk-Sales.jpg
END:VEVENT
BEGIN:VEVENT
DTSTART;TZID=America/New_York:20290222T183000
DTEND;TZID=America/New_York:20290222T203000
DTSTAMP:20260421T220802
CREATED:20250220T132609Z
LAST-MODIFIED:20250220T132609Z
UID:10003472-1866479400-1866486600@knoxpa.com
SUMMARY:Trivia Night at Deer Creek Winery
DESCRIPTION:DJ Trivia will be hosting Trivia Night every Thursday at Deer Creek Winery in Shippenville from 6:30 p.m. to 8:30 p.m.
URL:https://knoxpa.com/event/trivia-night-at-deer-creek-winery-2/2029-02-22/
LOCATION:Deer Creek Winery\, 3333 Soap Fat Road\, Shippenville\, PA\, 16254\, United States
ATTACH;FMTTYPE=image/jpeg:https://knoxpa.com/wp-content/uploads/2025/02/DCW-Trivia-Night.jpg
END:VEVENT
BEGIN:VEVENT
DTSTART;TZID=America/New_York:20290223T140000
DTEND;TZID=America/New_York:20290223T180000
DTSTAMP:20260421T220802
CREATED:20240331T150145Z
LAST-MODIFIED:20240912T222809Z
UID:10000759-1866549600-1866564000@knoxpa.com
SUMMARY:Henry Dairy Farms Milk & Cheese Sale
DESCRIPTION:Come visit us at the farm for your weekly fresh milk and cheese. \nEvery Tuesday & Friday in September: 2:00 p.m. – 6:00 p.m.
URL:https://knoxpa.com/event/henry-dairy-farms-april-milk-cheese-sale/2029-02-23/
LOCATION:Henry Dairy Farms\, 263 McGiffin Road\, Knox\, 16232\, United States
ATTACH;FMTTYPE=image/jpeg:https://knoxpa.com/wp-content/uploads/2024/05/September-Milk-Sales.jpg
END:VEVENT
BEGIN:VEVENT
DTSTART;TZID=America/New_York:20290227T140000
DTEND;TZID=America/New_York:20290227T180000
DTSTAMP:20260421T220802
CREATED:20240505T212242Z
LAST-MODIFIED:20240912T222639Z
UID:10001283-1866895200-1866909600@knoxpa.com
SUMMARY:Henry Dairy Farms Milk & Cheese Sale
DESCRIPTION:Come visit us at the farm for your weekly fresh milk and cheese. \nEvery Tuesday & Friday in September: 2:00 p.m. – 6:00 p.m.
URL:https://knoxpa.com/event/henry-dairy-farms-april-milk-cheese-sale-2/2029-02-27/
LOCATION:Henry Dairy Farms\, 263 McGiffin Road\, Knox\, 16232\, United States
ATTACH;FMTTYPE=image/jpeg:https://knoxpa.com/wp-content/uploads/2024/05/September-Milk-Sales.jpg
END:VEVENT
BEGIN:VEVENT
DTSTART;TZID=America/New_York:20290301T183000
DTEND;TZID=America/New_York:20290301T203000
DTSTAMP:20260421T220802
CREATED:20250220T132609Z
LAST-MODIFIED:20250220T132609Z
UID:10003473-1867084200-1867091400@knoxpa.com
SUMMARY:Trivia Night at Deer Creek Winery
DESCRIPTION:DJ Trivia will be hosting Trivia Night every Thursday at Deer Creek Winery in Shippenville from 6:30 p.m. to 8:30 p.m.
URL:https://knoxpa.com/event/trivia-night-at-deer-creek-winery-2/2029-03-01/
LOCATION:Deer Creek Winery\, 3333 Soap Fat Road\, Shippenville\, PA\, 16254\, United States
ATTACH;FMTTYPE=image/jpeg:https://knoxpa.com/wp-content/uploads/2025/02/DCW-Trivia-Night.jpg
END:VEVENT
BEGIN:VEVENT
DTSTART;TZID=America/New_York:20290302T140000
DTEND;TZID=America/New_York:20290302T180000
DTSTAMP:20260421T220802
CREATED:20240331T150145Z
LAST-MODIFIED:20240912T222809Z
UID:10000760-1867154400-1867168800@knoxpa.com
SUMMARY:Henry Dairy Farms Milk & Cheese Sale
DESCRIPTION:Come visit us at the farm for your weekly fresh milk and cheese. \nEvery Tuesday & Friday in September: 2:00 p.m. – 6:00 p.m.
URL:https://knoxpa.com/event/henry-dairy-farms-april-milk-cheese-sale/2029-03-02/
LOCATION:Henry Dairy Farms\, 263 McGiffin Road\, Knox\, 16232\, United States
ATTACH;FMTTYPE=image/jpeg:https://knoxpa.com/wp-content/uploads/2024/05/September-Milk-Sales.jpg
END:VEVENT
BEGIN:VEVENT
DTSTART;TZID=America/New_York:20290306T140000
DTEND;TZID=America/New_York:20290306T180000
DTSTAMP:20260421T220802
CREATED:20240505T212242Z
LAST-MODIFIED:20240912T222639Z
UID:10001284-1867500000-1867514400@knoxpa.com
SUMMARY:Henry Dairy Farms Milk & Cheese Sale
DESCRIPTION:Come visit us at the farm for your weekly fresh milk and cheese. \nEvery Tuesday & Friday in September: 2:00 p.m. – 6:00 p.m.
URL:https://knoxpa.com/event/henry-dairy-farms-april-milk-cheese-sale-2/2029-03-06/
LOCATION:Henry Dairy Farms\, 263 McGiffin Road\, Knox\, 16232\, United States
ATTACH;FMTTYPE=image/jpeg:https://knoxpa.com/wp-content/uploads/2024/05/September-Milk-Sales.jpg
END:VEVENT
BEGIN:VEVENT
DTSTART;TZID=America/New_York:20290308T183000
DTEND;TZID=America/New_York:20290308T203000
DTSTAMP:20260421T220802
CREATED:20250220T132609Z
LAST-MODIFIED:20250220T132609Z
UID:10003474-1867689000-1867696200@knoxpa.com
SUMMARY:Trivia Night at Deer Creek Winery
DESCRIPTION:DJ Trivia will be hosting Trivia Night every Thursday at Deer Creek Winery in Shippenville from 6:30 p.m. to 8:30 p.m.
URL:https://knoxpa.com/event/trivia-night-at-deer-creek-winery-2/2029-03-08/
LOCATION:Deer Creek Winery\, 3333 Soap Fat Road\, Shippenville\, PA\, 16254\, United States
ATTACH;FMTTYPE=image/jpeg:https://knoxpa.com/wp-content/uploads/2025/02/DCW-Trivia-Night.jpg
END:VEVENT
BEGIN:VEVENT
DTSTART;TZID=America/New_York:20290309T140000
DTEND;TZID=America/New_York:20290309T180000
DTSTAMP:20260421T220802
CREATED:20240331T150145Z
LAST-MODIFIED:20240912T222809Z
UID:10000761-1867759200-1867773600@knoxpa.com
SUMMARY:Henry Dairy Farms Milk & Cheese Sale
DESCRIPTION:Come visit us at the farm for your weekly fresh milk and cheese. \nEvery Tuesday & Friday in September: 2:00 p.m. – 6:00 p.m.
URL:https://knoxpa.com/event/henry-dairy-farms-april-milk-cheese-sale/2029-03-09/
LOCATION:Henry Dairy Farms\, 263 McGiffin Road\, Knox\, 16232\, United States
ATTACH;FMTTYPE=image/jpeg:https://knoxpa.com/wp-content/uploads/2024/05/September-Milk-Sales.jpg
END:VEVENT
BEGIN:VEVENT
DTSTART;TZID=America/New_York:20290313T140000
DTEND;TZID=America/New_York:20290313T180000
DTSTAMP:20260421T220802
CREATED:20240505T212242Z
LAST-MODIFIED:20240912T222639Z
UID:10001285-1868104800-1868119200@knoxpa.com
SUMMARY:Henry Dairy Farms Milk & Cheese Sale
DESCRIPTION:Come visit us at the farm for your weekly fresh milk and cheese. \nEvery Tuesday & Friday in September: 2:00 p.m. – 6:00 p.m.
URL:https://knoxpa.com/event/henry-dairy-farms-april-milk-cheese-sale-2/2029-03-13/
LOCATION:Henry Dairy Farms\, 263 McGiffin Road\, Knox\, 16232\, United States
ATTACH;FMTTYPE=image/jpeg:https://knoxpa.com/wp-content/uploads/2024/05/September-Milk-Sales.jpg
END:VEVENT
BEGIN:VEVENT
DTSTART;TZID=America/New_York:20290315T183000
DTEND;TZID=America/New_York:20290315T203000
DTSTAMP:20260421T220802
CREATED:20250220T132609Z
LAST-MODIFIED:20250220T132609Z
UID:10003475-1868293800-1868301000@knoxpa.com
SUMMARY:Trivia Night at Deer Creek Winery
DESCRIPTION:DJ Trivia will be hosting Trivia Night every Thursday at Deer Creek Winery in Shippenville from 6:30 p.m. to 8:30 p.m.
URL:https://knoxpa.com/event/trivia-night-at-deer-creek-winery-2/2029-03-15/
LOCATION:Deer Creek Winery\, 3333 Soap Fat Road\, Shippenville\, PA\, 16254\, United States
ATTACH;FMTTYPE=image/jpeg:https://knoxpa.com/wp-content/uploads/2025/02/DCW-Trivia-Night.jpg
END:VEVENT
BEGIN:VEVENT
DTSTART;TZID=America/New_York:20290316T140000
DTEND;TZID=America/New_York:20290316T180000
DTSTAMP:20260421T220802
CREATED:20240331T150145Z
LAST-MODIFIED:20240912T222809Z
UID:10000762-1868364000-1868378400@knoxpa.com
SUMMARY:Henry Dairy Farms Milk & Cheese Sale
DESCRIPTION:Come visit us at the farm for your weekly fresh milk and cheese. \nEvery Tuesday & Friday in September: 2:00 p.m. – 6:00 p.m.
URL:https://knoxpa.com/event/henry-dairy-farms-april-milk-cheese-sale/2029-03-16/
LOCATION:Henry Dairy Farms\, 263 McGiffin Road\, Knox\, 16232\, United States
ATTACH;FMTTYPE=image/jpeg:https://knoxpa.com/wp-content/uploads/2024/05/September-Milk-Sales.jpg
END:VEVENT
BEGIN:VEVENT
DTSTART;TZID=America/New_York:20290320T140000
DTEND;TZID=America/New_York:20290320T180000
DTSTAMP:20260421T220802
CREATED:20240505T212242Z
LAST-MODIFIED:20240912T222639Z
UID:10001286-1868709600-1868724000@knoxpa.com
SUMMARY:Henry Dairy Farms Milk & Cheese Sale
DESCRIPTION:Come visit us at the farm for your weekly fresh milk and cheese. \nEvery Tuesday & Friday in September: 2:00 p.m. – 6:00 p.m.
URL:https://knoxpa.com/event/henry-dairy-farms-april-milk-cheese-sale-2/2029-03-20/
LOCATION:Henry Dairy Farms\, 263 McGiffin Road\, Knox\, 16232\, United States
ATTACH;FMTTYPE=image/jpeg:https://knoxpa.com/wp-content/uploads/2024/05/September-Milk-Sales.jpg
END:VEVENT
BEGIN:VEVENT
DTSTART;TZID=America/New_York:20290322T183000
DTEND;TZID=America/New_York:20290322T203000
DTSTAMP:20260421T220802
CREATED:20250220T132609Z
LAST-MODIFIED:20250220T132609Z
UID:10003476-1868898600-1868905800@knoxpa.com
SUMMARY:Trivia Night at Deer Creek Winery
DESCRIPTION:DJ Trivia will be hosting Trivia Night every Thursday at Deer Creek Winery in Shippenville from 6:30 p.m. to 8:30 p.m.
URL:https://knoxpa.com/event/trivia-night-at-deer-creek-winery-2/2029-03-22/
LOCATION:Deer Creek Winery\, 3333 Soap Fat Road\, Shippenville\, PA\, 16254\, United States
ATTACH;FMTTYPE=image/jpeg:https://knoxpa.com/wp-content/uploads/2025/02/DCW-Trivia-Night.jpg
END:VEVENT
BEGIN:VEVENT
DTSTART;TZID=America/New_York:20290323T140000
DTEND;TZID=America/New_York:20290323T180000
DTSTAMP:20260421T220802
CREATED:20240331T150145Z
LAST-MODIFIED:20240912T222809Z
UID:10000763-1868968800-1868983200@knoxpa.com
SUMMARY:Henry Dairy Farms Milk & Cheese Sale
DESCRIPTION:Come visit us at the farm for your weekly fresh milk and cheese. \nEvery Tuesday & Friday in September: 2:00 p.m. – 6:00 p.m.
URL:https://knoxpa.com/event/henry-dairy-farms-april-milk-cheese-sale/2029-03-23/
LOCATION:Henry Dairy Farms\, 263 McGiffin Road\, Knox\, 16232\, United States
ATTACH;FMTTYPE=image/jpeg:https://knoxpa.com/wp-content/uploads/2024/05/September-Milk-Sales.jpg
END:VEVENT
BEGIN:VEVENT
DTSTART;TZID=America/New_York:20290327T140000
DTEND;TZID=America/New_York:20290327T180000
DTSTAMP:20260421T220802
CREATED:20240505T212242Z
LAST-MODIFIED:20240912T222639Z
UID:10001287-1869314400-1869328800@knoxpa.com
SUMMARY:Henry Dairy Farms Milk & Cheese Sale
DESCRIPTION:Come visit us at the farm for your weekly fresh milk and cheese. \nEvery Tuesday & Friday in September: 2:00 p.m. – 6:00 p.m.
URL:https://knoxpa.com/event/henry-dairy-farms-april-milk-cheese-sale-2/2029-03-27/
LOCATION:Henry Dairy Farms\, 263 McGiffin Road\, Knox\, 16232\, United States
ATTACH;FMTTYPE=image/jpeg:https://knoxpa.com/wp-content/uploads/2024/05/September-Milk-Sales.jpg
END:VEVENT
BEGIN:VEVENT
DTSTART;TZID=America/New_York:20290329T183000
DTEND;TZID=America/New_York:20290329T203000
DTSTAMP:20260421T220802
CREATED:20250220T132609Z
LAST-MODIFIED:20250220T132609Z
UID:10003477-1869503400-1869510600@knoxpa.com
SUMMARY:Trivia Night at Deer Creek Winery
DESCRIPTION:DJ Trivia will be hosting Trivia Night every Thursday at Deer Creek Winery in Shippenville from 6:30 p.m. to 8:30 p.m.
URL:https://knoxpa.com/event/trivia-night-at-deer-creek-winery-2/2029-03-29/
LOCATION:Deer Creek Winery\, 3333 Soap Fat Road\, Shippenville\, PA\, 16254\, United States
ATTACH;FMTTYPE=image/jpeg:https://knoxpa.com/wp-content/uploads/2025/02/DCW-Trivia-Night.jpg
END:VEVENT
BEGIN:VEVENT
DTSTART;TZID=America/New_York:20290330T140000
DTEND;TZID=America/New_York:20290330T180000
DTSTAMP:20260421T220802
CREATED:20240331T150145Z
LAST-MODIFIED:20240912T222809Z
UID:10000764-1869573600-1869588000@knoxpa.com
SUMMARY:Henry Dairy Farms Milk & Cheese Sale
DESCRIPTION:Come visit us at the farm for your weekly fresh milk and cheese. \nEvery Tuesday & Friday in September: 2:00 p.m. – 6:00 p.m.
URL:https://knoxpa.com/event/henry-dairy-farms-april-milk-cheese-sale/2029-03-30/
LOCATION:Henry Dairy Farms\, 263 McGiffin Road\, Knox\, 16232\, United States
ATTACH;FMTTYPE=image/jpeg:https://knoxpa.com/wp-content/uploads/2024/05/September-Milk-Sales.jpg
END:VEVENT
BEGIN:VEVENT
DTSTART;TZID=America/New_York:20290403T140000
DTEND;TZID=America/New_York:20290403T180000
DTSTAMP:20260421T220802
CREATED:20240505T212242Z
LAST-MODIFIED:20240912T222639Z
UID:10001288-1869919200-1869933600@knoxpa.com
SUMMARY:Henry Dairy Farms Milk & Cheese Sale
DESCRIPTION:Come visit us at the farm for your weekly fresh milk and cheese. \nEvery Tuesday & Friday in September: 2:00 p.m. – 6:00 p.m.
URL:https://knoxpa.com/event/henry-dairy-farms-april-milk-cheese-sale-2/2029-04-03/
LOCATION:Henry Dairy Farms\, 263 McGiffin Road\, Knox\, 16232\, United States
ATTACH;FMTTYPE=image/jpeg:https://knoxpa.com/wp-content/uploads/2024/05/September-Milk-Sales.jpg
END:VEVENT
BEGIN:VEVENT
DTSTART;TZID=America/New_York:20290405T183000
DTEND;TZID=America/New_York:20290405T203000
DTSTAMP:20260421T220802
CREATED:20250220T132609Z
LAST-MODIFIED:20250220T132609Z
UID:10003478-1870108200-1870115400@knoxpa.com
SUMMARY:Trivia Night at Deer Creek Winery
DESCRIPTION:DJ Trivia will be hosting Trivia Night every Thursday at Deer Creek Winery in Shippenville from 6:30 p.m. to 8:30 p.m.
URL:https://knoxpa.com/event/trivia-night-at-deer-creek-winery-2/2029-04-05/
LOCATION:Deer Creek Winery\, 3333 Soap Fat Road\, Shippenville\, PA\, 16254\, United States
ATTACH;FMTTYPE=image/jpeg:https://knoxpa.com/wp-content/uploads/2025/02/DCW-Trivia-Night.jpg
END:VEVENT
END:VCALENDAR