BEGIN:VCALENDAR
VERSION:2.0
PRODID:-//KnoxPa.com - ECPv6.11.2.1//NONSGML v1.0//EN
CALSCALE:GREGORIAN
METHOD:PUBLISH
X-WR-CALNAME:KnoxPa.com
X-ORIGINAL-URL:https://knoxpa.com
X-WR-CALDESC:Events for KnoxPa.com
REFRESH-INTERVAL;VALUE=DURATION:PT1H
X-Robots-Tag:noindex
X-PUBLISHED-TTL:PT1H
BEGIN:VTIMEZONE
TZID:America/New_York
BEGIN:DAYLIGHT
TZOFFSETFROM:-0500
TZOFFSETTO:-0400
TZNAME:EDT
DTSTART:20290311T070000
END:DAYLIGHT
BEGIN:STANDARD
TZOFFSETFROM:-0400
TZOFFSETTO:-0500
TZNAME:EST
DTSTART:20291104T060000
END:STANDARD
END:VTIMEZONE
BEGIN:VEVENT
DTSTART;TZID=America/New_York:20290724T140000
DTEND;TZID=America/New_York:20290724T180000
DTSTAMP:20260422T055736
CREATED:20240505T212242Z
LAST-MODIFIED:20240912T222639Z
UID:10002104-1879596000-1879610400@knoxpa.com
SUMMARY:Henry Dairy Farms Milk & Cheese Sale
DESCRIPTION:Come visit us at the farm for your weekly fresh milk and cheese. \nEvery Tuesday & Friday in September: 2:00 p.m. – 6:00 p.m.
URL:https://knoxpa.com/event/henry-dairy-farms-april-milk-cheese-sale-2/2029-07-24/
LOCATION:Henry Dairy Farms\, 263 McGiffin Road\, Knox\, 16232\, United States
ATTACH;FMTTYPE=image/jpeg:https://knoxpa.com/wp-content/uploads/2024/05/September-Milk-Sales.jpg
END:VEVENT
BEGIN:VEVENT
DTSTART;TZID=America/New_York:20290726T183000
DTEND;TZID=America/New_York:20290726T203000
DTSTAMP:20260422T055736
CREATED:20250220T132609Z
LAST-MODIFIED:20250220T132609Z
UID:10003494-1879785000-1879792200@knoxpa.com
SUMMARY:Trivia Night at Deer Creek Winery
DESCRIPTION:DJ Trivia will be hosting Trivia Night every Thursday at Deer Creek Winery in Shippenville from 6:30 p.m. to 8:30 p.m.
URL:https://knoxpa.com/event/trivia-night-at-deer-creek-winery-2/2029-07-26/
LOCATION:Deer Creek Winery\, 3333 Soap Fat Road\, Shippenville\, PA\, 16254\, United States
ATTACH;FMTTYPE=image/jpeg:https://knoxpa.com/wp-content/uploads/2025/02/DCW-Trivia-Night.jpg
END:VEVENT
BEGIN:VEVENT
DTSTART;TZID=America/New_York:20290727T140000
DTEND;TZID=America/New_York:20290727T180000
DTSTAMP:20260422T055736
CREATED:20240331T150145Z
LAST-MODIFIED:20240912T222809Z
UID:10002088-1879855200-1879869600@knoxpa.com
SUMMARY:Henry Dairy Farms Milk & Cheese Sale
DESCRIPTION:Come visit us at the farm for your weekly fresh milk and cheese. \nEvery Tuesday & Friday in September: 2:00 p.m. – 6:00 p.m.
URL:https://knoxpa.com/event/henry-dairy-farms-april-milk-cheese-sale/2029-07-27/
LOCATION:Henry Dairy Farms\, 263 McGiffin Road\, Knox\, 16232\, United States
ATTACH;FMTTYPE=image/jpeg:https://knoxpa.com/wp-content/uploads/2024/05/September-Milk-Sales.jpg
END:VEVENT
BEGIN:VEVENT
DTSTART;TZID=America/New_York:20290731T140000
DTEND;TZID=America/New_York:20290731T180000
DTSTAMP:20260422T055736
CREATED:20240505T212242Z
LAST-MODIFIED:20240912T222639Z
UID:10002105-1880200800-1880215200@knoxpa.com
SUMMARY:Henry Dairy Farms Milk & Cheese Sale
DESCRIPTION:Come visit us at the farm for your weekly fresh milk and cheese. \nEvery Tuesday & Friday in September: 2:00 p.m. – 6:00 p.m.
URL:https://knoxpa.com/event/henry-dairy-farms-april-milk-cheese-sale-2/2029-07-31/
LOCATION:Henry Dairy Farms\, 263 McGiffin Road\, Knox\, 16232\, United States
ATTACH;FMTTYPE=image/jpeg:https://knoxpa.com/wp-content/uploads/2024/05/September-Milk-Sales.jpg
END:VEVENT
BEGIN:VEVENT
DTSTART;TZID=America/New_York:20290802T183000
DTEND;TZID=America/New_York:20290802T203000
DTSTAMP:20260422T055736
CREATED:20250220T132609Z
LAST-MODIFIED:20250220T132609Z
UID:10003495-1880389800-1880397000@knoxpa.com
SUMMARY:Trivia Night at Deer Creek Winery
DESCRIPTION:DJ Trivia will be hosting Trivia Night every Thursday at Deer Creek Winery in Shippenville from 6:30 p.m. to 8:30 p.m.
URL:https://knoxpa.com/event/trivia-night-at-deer-creek-winery-2/2029-08-02/
LOCATION:Deer Creek Winery\, 3333 Soap Fat Road\, Shippenville\, PA\, 16254\, United States
ATTACH;FMTTYPE=image/jpeg:https://knoxpa.com/wp-content/uploads/2025/02/DCW-Trivia-Night.jpg
END:VEVENT
BEGIN:VEVENT
DTSTART;TZID=America/New_York:20290803T140000
DTEND;TZID=America/New_York:20290803T180000
DTSTAMP:20260422T055736
CREATED:20240331T150145Z
LAST-MODIFIED:20240912T222809Z
UID:10002089-1880460000-1880474400@knoxpa.com
SUMMARY:Henry Dairy Farms Milk & Cheese Sale
DESCRIPTION:Come visit us at the farm for your weekly fresh milk and cheese. \nEvery Tuesday & Friday in September: 2:00 p.m. – 6:00 p.m.
URL:https://knoxpa.com/event/henry-dairy-farms-april-milk-cheese-sale/2029-08-03/
LOCATION:Henry Dairy Farms\, 263 McGiffin Road\, Knox\, 16232\, United States
ATTACH;FMTTYPE=image/jpeg:https://knoxpa.com/wp-content/uploads/2024/05/September-Milk-Sales.jpg
END:VEVENT
BEGIN:VEVENT
DTSTART;TZID=America/New_York:20290807T140000
DTEND;TZID=America/New_York:20290807T180000
DTSTAMP:20260422T055736
CREATED:20240505T212242Z
LAST-MODIFIED:20240912T222639Z
UID:10002106-1880805600-1880820000@knoxpa.com
SUMMARY:Henry Dairy Farms Milk & Cheese Sale
DESCRIPTION:Come visit us at the farm for your weekly fresh milk and cheese. \nEvery Tuesday & Friday in September: 2:00 p.m. – 6:00 p.m.
URL:https://knoxpa.com/event/henry-dairy-farms-april-milk-cheese-sale-2/2029-08-07/
LOCATION:Henry Dairy Farms\, 263 McGiffin Road\, Knox\, 16232\, United States
ATTACH;FMTTYPE=image/jpeg:https://knoxpa.com/wp-content/uploads/2024/05/September-Milk-Sales.jpg
END:VEVENT
BEGIN:VEVENT
DTSTART;TZID=America/New_York:20290809T183000
DTEND;TZID=America/New_York:20290809T203000
DTSTAMP:20260422T055736
CREATED:20250220T132609Z
LAST-MODIFIED:20250220T132609Z
UID:10003496-1880994600-1881001800@knoxpa.com
SUMMARY:Trivia Night at Deer Creek Winery
DESCRIPTION:DJ Trivia will be hosting Trivia Night every Thursday at Deer Creek Winery in Shippenville from 6:30 p.m. to 8:30 p.m.
URL:https://knoxpa.com/event/trivia-night-at-deer-creek-winery-2/2029-08-09/
LOCATION:Deer Creek Winery\, 3333 Soap Fat Road\, Shippenville\, PA\, 16254\, United States
ATTACH;FMTTYPE=image/jpeg:https://knoxpa.com/wp-content/uploads/2025/02/DCW-Trivia-Night.jpg
END:VEVENT
BEGIN:VEVENT
DTSTART;TZID=America/New_York:20290810T140000
DTEND;TZID=America/New_York:20290810T180000
DTSTAMP:20260422T055736
CREATED:20240331T150145Z
LAST-MODIFIED:20240912T222809Z
UID:10002090-1881064800-1881079200@knoxpa.com
SUMMARY:Henry Dairy Farms Milk & Cheese Sale
DESCRIPTION:Come visit us at the farm for your weekly fresh milk and cheese. \nEvery Tuesday & Friday in September: 2:00 p.m. – 6:00 p.m.
URL:https://knoxpa.com/event/henry-dairy-farms-april-milk-cheese-sale/2029-08-10/
LOCATION:Henry Dairy Farms\, 263 McGiffin Road\, Knox\, 16232\, United States
ATTACH;FMTTYPE=image/jpeg:https://knoxpa.com/wp-content/uploads/2024/05/September-Milk-Sales.jpg
END:VEVENT
BEGIN:VEVENT
DTSTART;TZID=America/New_York:20290814T140000
DTEND;TZID=America/New_York:20290814T180000
DTSTAMP:20260422T055736
CREATED:20240505T212242Z
LAST-MODIFIED:20240912T222639Z
UID:10002107-1881410400-1881424800@knoxpa.com
SUMMARY:Henry Dairy Farms Milk & Cheese Sale
DESCRIPTION:Come visit us at the farm for your weekly fresh milk and cheese. \nEvery Tuesday & Friday in September: 2:00 p.m. – 6:00 p.m.
URL:https://knoxpa.com/event/henry-dairy-farms-april-milk-cheese-sale-2/2029-08-14/
LOCATION:Henry Dairy Farms\, 263 McGiffin Road\, Knox\, 16232\, United States
ATTACH;FMTTYPE=image/jpeg:https://knoxpa.com/wp-content/uploads/2024/05/September-Milk-Sales.jpg
END:VEVENT
BEGIN:VEVENT
DTSTART;TZID=America/New_York:20290816T183000
DTEND;TZID=America/New_York:20290816T203000
DTSTAMP:20260422T055736
CREATED:20250220T132609Z
LAST-MODIFIED:20250220T132609Z
UID:10003497-1881599400-1881606600@knoxpa.com
SUMMARY:Trivia Night at Deer Creek Winery
DESCRIPTION:DJ Trivia will be hosting Trivia Night every Thursday at Deer Creek Winery in Shippenville from 6:30 p.m. to 8:30 p.m.
URL:https://knoxpa.com/event/trivia-night-at-deer-creek-winery-2/2029-08-16/
LOCATION:Deer Creek Winery\, 3333 Soap Fat Road\, Shippenville\, PA\, 16254\, United States
ATTACH;FMTTYPE=image/jpeg:https://knoxpa.com/wp-content/uploads/2025/02/DCW-Trivia-Night.jpg
END:VEVENT
BEGIN:VEVENT
DTSTART;TZID=America/New_York:20290817T140000
DTEND;TZID=America/New_York:20290817T180000
DTSTAMP:20260422T055736
CREATED:20240331T150145Z
LAST-MODIFIED:20240912T222809Z
UID:10002091-1881669600-1881684000@knoxpa.com
SUMMARY:Henry Dairy Farms Milk & Cheese Sale
DESCRIPTION:Come visit us at the farm for your weekly fresh milk and cheese. \nEvery Tuesday & Friday in September: 2:00 p.m. – 6:00 p.m.
URL:https://knoxpa.com/event/henry-dairy-farms-april-milk-cheese-sale/2029-08-17/
LOCATION:Henry Dairy Farms\, 263 McGiffin Road\, Knox\, 16232\, United States
ATTACH;FMTTYPE=image/jpeg:https://knoxpa.com/wp-content/uploads/2024/05/September-Milk-Sales.jpg
END:VEVENT
BEGIN:VEVENT
DTSTART;TZID=America/New_York:20290821T140000
DTEND;TZID=America/New_York:20290821T180000
DTSTAMP:20260422T055736
CREATED:20240505T212242Z
LAST-MODIFIED:20240912T222639Z
UID:10002108-1882015200-1882029600@knoxpa.com
SUMMARY:Henry Dairy Farms Milk & Cheese Sale
DESCRIPTION:Come visit us at the farm for your weekly fresh milk and cheese. \nEvery Tuesday & Friday in September: 2:00 p.m. – 6:00 p.m.
URL:https://knoxpa.com/event/henry-dairy-farms-april-milk-cheese-sale-2/2029-08-21/
LOCATION:Henry Dairy Farms\, 263 McGiffin Road\, Knox\, 16232\, United States
ATTACH;FMTTYPE=image/jpeg:https://knoxpa.com/wp-content/uploads/2024/05/September-Milk-Sales.jpg
END:VEVENT
BEGIN:VEVENT
DTSTART;TZID=America/New_York:20290823T183000
DTEND;TZID=America/New_York:20290823T203000
DTSTAMP:20260422T055736
CREATED:20250220T132609Z
LAST-MODIFIED:20250220T132609Z
UID:10003498-1882204200-1882211400@knoxpa.com
SUMMARY:Trivia Night at Deer Creek Winery
DESCRIPTION:DJ Trivia will be hosting Trivia Night every Thursday at Deer Creek Winery in Shippenville from 6:30 p.m. to 8:30 p.m.
URL:https://knoxpa.com/event/trivia-night-at-deer-creek-winery-2/2029-08-23/
LOCATION:Deer Creek Winery\, 3333 Soap Fat Road\, Shippenville\, PA\, 16254\, United States
ATTACH;FMTTYPE=image/jpeg:https://knoxpa.com/wp-content/uploads/2025/02/DCW-Trivia-Night.jpg
END:VEVENT
BEGIN:VEVENT
DTSTART;TZID=America/New_York:20290824T140000
DTEND;TZID=America/New_York:20290824T180000
DTSTAMP:20260422T055736
CREATED:20240331T150145Z
LAST-MODIFIED:20240912T222809Z
UID:10002092-1882274400-1882288800@knoxpa.com
SUMMARY:Henry Dairy Farms Milk & Cheese Sale
DESCRIPTION:Come visit us at the farm for your weekly fresh milk and cheese. \nEvery Tuesday & Friday in September: 2:00 p.m. – 6:00 p.m.
URL:https://knoxpa.com/event/henry-dairy-farms-april-milk-cheese-sale/2029-08-24/
LOCATION:Henry Dairy Farms\, 263 McGiffin Road\, Knox\, 16232\, United States
ATTACH;FMTTYPE=image/jpeg:https://knoxpa.com/wp-content/uploads/2024/05/September-Milk-Sales.jpg
END:VEVENT
BEGIN:VEVENT
DTSTART;TZID=America/New_York:20290828T140000
DTEND;TZID=America/New_York:20290828T180000
DTSTAMP:20260422T055736
CREATED:20240505T212242Z
LAST-MODIFIED:20240912T222639Z
UID:10002109-1882620000-1882634400@knoxpa.com
SUMMARY:Henry Dairy Farms Milk & Cheese Sale
DESCRIPTION:Come visit us at the farm for your weekly fresh milk and cheese. \nEvery Tuesday & Friday in September: 2:00 p.m. – 6:00 p.m.
URL:https://knoxpa.com/event/henry-dairy-farms-april-milk-cheese-sale-2/2029-08-28/
LOCATION:Henry Dairy Farms\, 263 McGiffin Road\, Knox\, 16232\, United States
ATTACH;FMTTYPE=image/jpeg:https://knoxpa.com/wp-content/uploads/2024/05/September-Milk-Sales.jpg
END:VEVENT
BEGIN:VEVENT
DTSTART;TZID=America/New_York:20290830T183000
DTEND;TZID=America/New_York:20290830T203000
DTSTAMP:20260422T055736
CREATED:20250220T132609Z
LAST-MODIFIED:20250220T132609Z
UID:10003499-1882809000-1882816200@knoxpa.com
SUMMARY:Trivia Night at Deer Creek Winery
DESCRIPTION:DJ Trivia will be hosting Trivia Night every Thursday at Deer Creek Winery in Shippenville from 6:30 p.m. to 8:30 p.m.
URL:https://knoxpa.com/event/trivia-night-at-deer-creek-winery-2/2029-08-30/
LOCATION:Deer Creek Winery\, 3333 Soap Fat Road\, Shippenville\, PA\, 16254\, United States
ATTACH;FMTTYPE=image/jpeg:https://knoxpa.com/wp-content/uploads/2025/02/DCW-Trivia-Night.jpg
END:VEVENT
BEGIN:VEVENT
DTSTART;TZID=America/New_York:20290831T140000
DTEND;TZID=America/New_York:20290831T180000
DTSTAMP:20260422T055736
CREATED:20240331T150145Z
LAST-MODIFIED:20240912T222809Z
UID:10002138-1882879200-1882893600@knoxpa.com
SUMMARY:Henry Dairy Farms Milk & Cheese Sale
DESCRIPTION:Come visit us at the farm for your weekly fresh milk and cheese. \nEvery Tuesday & Friday in September: 2:00 p.m. – 6:00 p.m.
URL:https://knoxpa.com/event/henry-dairy-farms-april-milk-cheese-sale/2029-08-31/
LOCATION:Henry Dairy Farms\, 263 McGiffin Road\, Knox\, 16232\, United States
ATTACH;FMTTYPE=image/jpeg:https://knoxpa.com/wp-content/uploads/2024/05/September-Milk-Sales.jpg
END:VEVENT
BEGIN:VEVENT
DTSTART;TZID=America/New_York:20290904T140000
DTEND;TZID=America/New_York:20290904T180000
DTSTAMP:20260422T055736
CREATED:20240505T212242Z
LAST-MODIFIED:20240912T222639Z
UID:10002136-1883224800-1883239200@knoxpa.com
SUMMARY:Henry Dairy Farms Milk & Cheese Sale
DESCRIPTION:Come visit us at the farm for your weekly fresh milk and cheese. \nEvery Tuesday & Friday in September: 2:00 p.m. – 6:00 p.m.
URL:https://knoxpa.com/event/henry-dairy-farms-april-milk-cheese-sale-2/2029-09-04/
LOCATION:Henry Dairy Farms\, 263 McGiffin Road\, Knox\, 16232\, United States
ATTACH;FMTTYPE=image/jpeg:https://knoxpa.com/wp-content/uploads/2024/05/September-Milk-Sales.jpg
END:VEVENT
BEGIN:VEVENT
DTSTART;TZID=America/New_York:20290906T183000
DTEND;TZID=America/New_York:20290906T203000
DTSTAMP:20260422T055736
CREATED:20250220T132609Z
LAST-MODIFIED:20250220T132609Z
UID:10003500-1883413800-1883421000@knoxpa.com
SUMMARY:Trivia Night at Deer Creek Winery
DESCRIPTION:DJ Trivia will be hosting Trivia Night every Thursday at Deer Creek Winery in Shippenville from 6:30 p.m. to 8:30 p.m.
URL:https://knoxpa.com/event/trivia-night-at-deer-creek-winery-2/2029-09-06/
LOCATION:Deer Creek Winery\, 3333 Soap Fat Road\, Shippenville\, PA\, 16254\, United States
ATTACH;FMTTYPE=image/jpeg:https://knoxpa.com/wp-content/uploads/2025/02/DCW-Trivia-Night.jpg
END:VEVENT
BEGIN:VEVENT
DTSTART;TZID=America/New_York:20290907T140000
DTEND;TZID=America/New_York:20290907T180000
DTSTAMP:20260422T055736
CREATED:20240331T150145Z
LAST-MODIFIED:20240912T222809Z
UID:10002139-1883484000-1883498400@knoxpa.com
SUMMARY:Henry Dairy Farms Milk & Cheese Sale
DESCRIPTION:Come visit us at the farm for your weekly fresh milk and cheese. \nEvery Tuesday & Friday in September: 2:00 p.m. – 6:00 p.m.
URL:https://knoxpa.com/event/henry-dairy-farms-april-milk-cheese-sale/2029-09-07/
LOCATION:Henry Dairy Farms\, 263 McGiffin Road\, Knox\, 16232\, United States
ATTACH;FMTTYPE=image/jpeg:https://knoxpa.com/wp-content/uploads/2024/05/September-Milk-Sales.jpg
END:VEVENT
BEGIN:VEVENT
DTSTART;TZID=America/New_York:20290911T140000
DTEND;TZID=America/New_York:20290911T180000
DTSTAMP:20260422T055736
CREATED:20240505T212242Z
LAST-MODIFIED:20240912T222639Z
UID:10002137-1883829600-1883844000@knoxpa.com
SUMMARY:Henry Dairy Farms Milk & Cheese Sale
DESCRIPTION:Come visit us at the farm for your weekly fresh milk and cheese. \nEvery Tuesday & Friday in September: 2:00 p.m. – 6:00 p.m.
URL:https://knoxpa.com/event/henry-dairy-farms-april-milk-cheese-sale-2/2029-09-11/
LOCATION:Henry Dairy Farms\, 263 McGiffin Road\, Knox\, 16232\, United States
ATTACH;FMTTYPE=image/jpeg:https://knoxpa.com/wp-content/uploads/2024/05/September-Milk-Sales.jpg
END:VEVENT
BEGIN:VEVENT
DTSTART;TZID=America/New_York:20290913T183000
DTEND;TZID=America/New_York:20290913T203000
DTSTAMP:20260422T055736
CREATED:20250220T132609Z
LAST-MODIFIED:20250220T132609Z
UID:10003501-1884018600-1884025800@knoxpa.com
SUMMARY:Trivia Night at Deer Creek Winery
DESCRIPTION:DJ Trivia will be hosting Trivia Night every Thursday at Deer Creek Winery in Shippenville from 6:30 p.m. to 8:30 p.m.
URL:https://knoxpa.com/event/trivia-night-at-deer-creek-winery-2/2029-09-13/
LOCATION:Deer Creek Winery\, 3333 Soap Fat Road\, Shippenville\, PA\, 16254\, United States
ATTACH;FMTTYPE=image/jpeg:https://knoxpa.com/wp-content/uploads/2025/02/DCW-Trivia-Night.jpg
END:VEVENT
BEGIN:VEVENT
DTSTART;TZID=America/New_York:20290920T183000
DTEND;TZID=America/New_York:20290920T203000
DTSTAMP:20260422T055736
CREATED:20250220T132609Z
LAST-MODIFIED:20250220T132609Z
UID:10003502-1884623400-1884630600@knoxpa.com
SUMMARY:Trivia Night at Deer Creek Winery
DESCRIPTION:DJ Trivia will be hosting Trivia Night every Thursday at Deer Creek Winery in Shippenville from 6:30 p.m. to 8:30 p.m.
URL:https://knoxpa.com/event/trivia-night-at-deer-creek-winery-2/2029-09-20/
LOCATION:Deer Creek Winery\, 3333 Soap Fat Road\, Shippenville\, PA\, 16254\, United States
ATTACH;FMTTYPE=image/jpeg:https://knoxpa.com/wp-content/uploads/2025/02/DCW-Trivia-Night.jpg
END:VEVENT
BEGIN:VEVENT
DTSTART;TZID=America/New_York:20290927T183000
DTEND;TZID=America/New_York:20290927T203000
DTSTAMP:20260422T055736
CREATED:20250220T132609Z
LAST-MODIFIED:20250220T132609Z
UID:10003503-1885228200-1885235400@knoxpa.com
SUMMARY:Trivia Night at Deer Creek Winery
DESCRIPTION:DJ Trivia will be hosting Trivia Night every Thursday at Deer Creek Winery in Shippenville from 6:30 p.m. to 8:30 p.m.
URL:https://knoxpa.com/event/trivia-night-at-deer-creek-winery-2/2029-09-27/
LOCATION:Deer Creek Winery\, 3333 Soap Fat Road\, Shippenville\, PA\, 16254\, United States
ATTACH;FMTTYPE=image/jpeg:https://knoxpa.com/wp-content/uploads/2025/02/DCW-Trivia-Night.jpg
END:VEVENT
BEGIN:VEVENT
DTSTART;TZID=America/New_York:20291004T183000
DTEND;TZID=America/New_York:20291004T203000
DTSTAMP:20260422T055736
CREATED:20250220T132609Z
LAST-MODIFIED:20250220T132609Z
UID:10003504-1885833000-1885840200@knoxpa.com
SUMMARY:Trivia Night at Deer Creek Winery
DESCRIPTION:DJ Trivia will be hosting Trivia Night every Thursday at Deer Creek Winery in Shippenville from 6:30 p.m. to 8:30 p.m.
URL:https://knoxpa.com/event/trivia-night-at-deer-creek-winery-2/2029-10-04/
LOCATION:Deer Creek Winery\, 3333 Soap Fat Road\, Shippenville\, PA\, 16254\, United States
ATTACH;FMTTYPE=image/jpeg:https://knoxpa.com/wp-content/uploads/2025/02/DCW-Trivia-Night.jpg
END:VEVENT
BEGIN:VEVENT
DTSTART;TZID=America/New_York:20291011T183000
DTEND;TZID=America/New_York:20291011T203000
DTSTAMP:20260422T055736
CREATED:20250220T132609Z
LAST-MODIFIED:20250220T132609Z
UID:10003505-1886437800-1886445000@knoxpa.com
SUMMARY:Trivia Night at Deer Creek Winery
DESCRIPTION:DJ Trivia will be hosting Trivia Night every Thursday at Deer Creek Winery in Shippenville from 6:30 p.m. to 8:30 p.m.
URL:https://knoxpa.com/event/trivia-night-at-deer-creek-winery-2/2029-10-11/
LOCATION:Deer Creek Winery\, 3333 Soap Fat Road\, Shippenville\, PA\, 16254\, United States
ATTACH;FMTTYPE=image/jpeg:https://knoxpa.com/wp-content/uploads/2025/02/DCW-Trivia-Night.jpg
END:VEVENT
BEGIN:VEVENT
DTSTART;TZID=America/New_York:20291018T183000
DTEND;TZID=America/New_York:20291018T203000
DTSTAMP:20260422T055737
CREATED:20250220T132609Z
LAST-MODIFIED:20250220T132609Z
UID:10003506-1887042600-1887049800@knoxpa.com
SUMMARY:Trivia Night at Deer Creek Winery
DESCRIPTION:DJ Trivia will be hosting Trivia Night every Thursday at Deer Creek Winery in Shippenville from 6:30 p.m. to 8:30 p.m.
URL:https://knoxpa.com/event/trivia-night-at-deer-creek-winery-2/2029-10-18/
LOCATION:Deer Creek Winery\, 3333 Soap Fat Road\, Shippenville\, PA\, 16254\, United States
ATTACH;FMTTYPE=image/jpeg:https://knoxpa.com/wp-content/uploads/2025/02/DCW-Trivia-Night.jpg
END:VEVENT
BEGIN:VEVENT
DTSTART;TZID=America/New_York:20291025T183000
DTEND;TZID=America/New_York:20291025T203000
DTSTAMP:20260422T055737
CREATED:20250220T132609Z
LAST-MODIFIED:20250220T132609Z
UID:10003507-1887647400-1887654600@knoxpa.com
SUMMARY:Trivia Night at Deer Creek Winery
DESCRIPTION:DJ Trivia will be hosting Trivia Night every Thursday at Deer Creek Winery in Shippenville from 6:30 p.m. to 8:30 p.m.
URL:https://knoxpa.com/event/trivia-night-at-deer-creek-winery-2/2029-10-25/
LOCATION:Deer Creek Winery\, 3333 Soap Fat Road\, Shippenville\, PA\, 16254\, United States
ATTACH;FMTTYPE=image/jpeg:https://knoxpa.com/wp-content/uploads/2025/02/DCW-Trivia-Night.jpg
END:VEVENT
BEGIN:VEVENT
DTSTART;TZID=America/New_York:20291101T183000
DTEND;TZID=America/New_York:20291101T203000
DTSTAMP:20260422T055737
CREATED:20250220T132609Z
LAST-MODIFIED:20250220T132609Z
UID:10003508-1888252200-1888259400@knoxpa.com
SUMMARY:Trivia Night at Deer Creek Winery
DESCRIPTION:DJ Trivia will be hosting Trivia Night every Thursday at Deer Creek Winery in Shippenville from 6:30 p.m. to 8:30 p.m.
URL:https://knoxpa.com/event/trivia-night-at-deer-creek-winery-2/2029-11-01/
LOCATION:Deer Creek Winery\, 3333 Soap Fat Road\, Shippenville\, PA\, 16254\, United States
ATTACH;FMTTYPE=image/jpeg:https://knoxpa.com/wp-content/uploads/2025/02/DCW-Trivia-Night.jpg
END:VEVENT
END:VCALENDAR