BEGIN:VCALENDAR
VERSION:2.0
PRODID:-//KnoxPa.com - ECPv6.11.2.1//NONSGML v1.0//EN
CALSCALE:GREGORIAN
METHOD:PUBLISH
X-WR-CALNAME:KnoxPa.com
X-ORIGINAL-URL:https://knoxpa.com
X-WR-CALDESC:Events for KnoxPa.com
REFRESH-INTERVAL;VALUE=DURATION:PT1H
X-Robots-Tag:noindex
X-PUBLISHED-TTL:PT1H
BEGIN:VTIMEZONE
TZID:America/New_York
BEGIN:DAYLIGHT
TZOFFSETFROM:-0500
TZOFFSETTO:-0400
TZNAME:EDT
DTSTART:20260308T070000
END:DAYLIGHT
BEGIN:STANDARD
TZOFFSETFROM:-0400
TZOFFSETTO:-0500
TZNAME:EST
DTSTART:20261101T060000
END:STANDARD
END:VTIMEZONE
BEGIN:VEVENT
DTSTART;TZID=America/New_York:20260423T183000
DTEND;TZID=America/New_York:20260423T203000
DTSTAMP:20260423T075105
CREATED:20250220T132609Z
LAST-MODIFIED:20250220T132609Z
UID:10003324-1776969000-1776976200@knoxpa.com
SUMMARY:Trivia Night at Deer Creek Winery
DESCRIPTION:DJ Trivia will be hosting Trivia Night every Thursday at Deer Creek Winery in Shippenville from 6:30 p.m. to 8:30 p.m.
URL:https://knoxpa.com/event/trivia-night-at-deer-creek-winery-2/2026-04-23/
LOCATION:Deer Creek Winery\, 3333 Soap Fat Road\, Shippenville\, PA\, 16254\, United States
ATTACH;FMTTYPE=image/jpeg:https://knoxpa.com/wp-content/uploads/2025/02/DCW-Trivia-Night.jpg
END:VEVENT
BEGIN:VEVENT
DTSTART;TZID=America/New_York:20260430T183000
DTEND;TZID=America/New_York:20260430T203000
DTSTAMP:20260423T075105
CREATED:20250220T132609Z
LAST-MODIFIED:20250220T132609Z
UID:10003325-1777573800-1777581000@knoxpa.com
SUMMARY:Trivia Night at Deer Creek Winery
DESCRIPTION:DJ Trivia will be hosting Trivia Night every Thursday at Deer Creek Winery in Shippenville from 6:30 p.m. to 8:30 p.m.
URL:https://knoxpa.com/event/trivia-night-at-deer-creek-winery-2/2026-04-30/
LOCATION:Deer Creek Winery\, 3333 Soap Fat Road\, Shippenville\, PA\, 16254\, United States
ATTACH;FMTTYPE=image/jpeg:https://knoxpa.com/wp-content/uploads/2025/02/DCW-Trivia-Night.jpg
END:VEVENT
BEGIN:VEVENT
DTSTART;TZID=America/New_York:20260507T183000
DTEND;TZID=America/New_York:20260507T203000
DTSTAMP:20260423T075105
CREATED:20250220T132609Z
LAST-MODIFIED:20250220T132609Z
UID:10003326-1778178600-1778185800@knoxpa.com
SUMMARY:Trivia Night at Deer Creek Winery
DESCRIPTION:DJ Trivia will be hosting Trivia Night every Thursday at Deer Creek Winery in Shippenville from 6:30 p.m. to 8:30 p.m.
URL:https://knoxpa.com/event/trivia-night-at-deer-creek-winery-2/2026-05-07/
LOCATION:Deer Creek Winery\, 3333 Soap Fat Road\, Shippenville\, PA\, 16254\, United States
ATTACH;FMTTYPE=image/jpeg:https://knoxpa.com/wp-content/uploads/2025/02/DCW-Trivia-Night.jpg
END:VEVENT
BEGIN:VEVENT
DTSTART;TZID=America/New_York:20260514T183000
DTEND;TZID=America/New_York:20260514T203000
DTSTAMP:20260423T075105
CREATED:20250220T132609Z
LAST-MODIFIED:20250220T132609Z
UID:10003327-1778783400-1778790600@knoxpa.com
SUMMARY:Trivia Night at Deer Creek Winery
DESCRIPTION:DJ Trivia will be hosting Trivia Night every Thursday at Deer Creek Winery in Shippenville from 6:30 p.m. to 8:30 p.m.
URL:https://knoxpa.com/event/trivia-night-at-deer-creek-winery-2/2026-05-14/
LOCATION:Deer Creek Winery\, 3333 Soap Fat Road\, Shippenville\, PA\, 16254\, United States
ATTACH;FMTTYPE=image/jpeg:https://knoxpa.com/wp-content/uploads/2025/02/DCW-Trivia-Night.jpg
END:VEVENT
BEGIN:VEVENT
DTSTART;TZID=America/New_York:20260521T183000
DTEND;TZID=America/New_York:20260521T203000
DTSTAMP:20260423T075105
CREATED:20250220T132609Z
LAST-MODIFIED:20250220T132609Z
UID:10003328-1779388200-1779395400@knoxpa.com
SUMMARY:Trivia Night at Deer Creek Winery
DESCRIPTION:DJ Trivia will be hosting Trivia Night every Thursday at Deer Creek Winery in Shippenville from 6:30 p.m. to 8:30 p.m.
URL:https://knoxpa.com/event/trivia-night-at-deer-creek-winery-2/2026-05-21/
LOCATION:Deer Creek Winery\, 3333 Soap Fat Road\, Shippenville\, PA\, 16254\, United States
ATTACH;FMTTYPE=image/jpeg:https://knoxpa.com/wp-content/uploads/2025/02/DCW-Trivia-Night.jpg
END:VEVENT
BEGIN:VEVENT
DTSTART;TZID=America/New_York:20260528T183000
DTEND;TZID=America/New_York:20260528T203000
DTSTAMP:20260423T075105
CREATED:20250220T132609Z
LAST-MODIFIED:20250220T132609Z
UID:10003329-1779993000-1780000200@knoxpa.com
SUMMARY:Trivia Night at Deer Creek Winery
DESCRIPTION:DJ Trivia will be hosting Trivia Night every Thursday at Deer Creek Winery in Shippenville from 6:30 p.m. to 8:30 p.m.
URL:https://knoxpa.com/event/trivia-night-at-deer-creek-winery-2/2026-05-28/
LOCATION:Deer Creek Winery\, 3333 Soap Fat Road\, Shippenville\, PA\, 16254\, United States
ATTACH;FMTTYPE=image/jpeg:https://knoxpa.com/wp-content/uploads/2025/02/DCW-Trivia-Night.jpg
END:VEVENT
BEGIN:VEVENT
DTSTART;TZID=America/New_York:20260604T183000
DTEND;TZID=America/New_York:20260604T203000
DTSTAMP:20260423T075105
CREATED:20250220T132609Z
LAST-MODIFIED:20250220T132609Z
UID:10003330-1780597800-1780605000@knoxpa.com
SUMMARY:Trivia Night at Deer Creek Winery
DESCRIPTION:DJ Trivia will be hosting Trivia Night every Thursday at Deer Creek Winery in Shippenville from 6:30 p.m. to 8:30 p.m.
URL:https://knoxpa.com/event/trivia-night-at-deer-creek-winery-2/2026-06-04/
LOCATION:Deer Creek Winery\, 3333 Soap Fat Road\, Shippenville\, PA\, 16254\, United States
ATTACH;FMTTYPE=image/jpeg:https://knoxpa.com/wp-content/uploads/2025/02/DCW-Trivia-Night.jpg
END:VEVENT
BEGIN:VEVENT
DTSTART;TZID=America/New_York:20260611T183000
DTEND;TZID=America/New_York:20260611T203000
DTSTAMP:20260423T075105
CREATED:20250220T132609Z
LAST-MODIFIED:20250220T132609Z
UID:10003331-1781202600-1781209800@knoxpa.com
SUMMARY:Trivia Night at Deer Creek Winery
DESCRIPTION:DJ Trivia will be hosting Trivia Night every Thursday at Deer Creek Winery in Shippenville from 6:30 p.m. to 8:30 p.m.
URL:https://knoxpa.com/event/trivia-night-at-deer-creek-winery-2/2026-06-11/
LOCATION:Deer Creek Winery\, 3333 Soap Fat Road\, Shippenville\, PA\, 16254\, United States
ATTACH;FMTTYPE=image/jpeg:https://knoxpa.com/wp-content/uploads/2025/02/DCW-Trivia-Night.jpg
END:VEVENT
BEGIN:VEVENT
DTSTART;TZID=America/New_York:20260618T183000
DTEND;TZID=America/New_York:20260618T203000
DTSTAMP:20260423T075105
CREATED:20250220T132609Z
LAST-MODIFIED:20250220T132609Z
UID:10003332-1781807400-1781814600@knoxpa.com
SUMMARY:Trivia Night at Deer Creek Winery
DESCRIPTION:DJ Trivia will be hosting Trivia Night every Thursday at Deer Creek Winery in Shippenville from 6:30 p.m. to 8:30 p.m.
URL:https://knoxpa.com/event/trivia-night-at-deer-creek-winery-2/2026-06-18/
LOCATION:Deer Creek Winery\, 3333 Soap Fat Road\, Shippenville\, PA\, 16254\, United States
ATTACH;FMTTYPE=image/jpeg:https://knoxpa.com/wp-content/uploads/2025/02/DCW-Trivia-Night.jpg
END:VEVENT
BEGIN:VEVENT
DTSTART;TZID=America/New_York:20260625T183000
DTEND;TZID=America/New_York:20260625T203000
DTSTAMP:20260423T075105
CREATED:20250220T132609Z
LAST-MODIFIED:20250220T132609Z
UID:10003333-1782412200-1782419400@knoxpa.com
SUMMARY:Trivia Night at Deer Creek Winery
DESCRIPTION:DJ Trivia will be hosting Trivia Night every Thursday at Deer Creek Winery in Shippenville from 6:30 p.m. to 8:30 p.m.
URL:https://knoxpa.com/event/trivia-night-at-deer-creek-winery-2/2026-06-25/
LOCATION:Deer Creek Winery\, 3333 Soap Fat Road\, Shippenville\, PA\, 16254\, United States
ATTACH;FMTTYPE=image/jpeg:https://knoxpa.com/wp-content/uploads/2025/02/DCW-Trivia-Night.jpg
END:VEVENT
BEGIN:VEVENT
DTSTART;TZID=America/New_York:20260702T183000
DTEND;TZID=America/New_York:20260702T203000
DTSTAMP:20260423T075105
CREATED:20250220T132609Z
LAST-MODIFIED:20250220T132609Z
UID:10003334-1783017000-1783024200@knoxpa.com
SUMMARY:Trivia Night at Deer Creek Winery
DESCRIPTION:DJ Trivia will be hosting Trivia Night every Thursday at Deer Creek Winery in Shippenville from 6:30 p.m. to 8:30 p.m.
URL:https://knoxpa.com/event/trivia-night-at-deer-creek-winery-2/2026-07-02/
LOCATION:Deer Creek Winery\, 3333 Soap Fat Road\, Shippenville\, PA\, 16254\, United States
ATTACH;FMTTYPE=image/jpeg:https://knoxpa.com/wp-content/uploads/2025/02/DCW-Trivia-Night.jpg
END:VEVENT
BEGIN:VEVENT
DTSTART;TZID=America/New_York:20260709T183000
DTEND;TZID=America/New_York:20260709T203000
DTSTAMP:20260423T075105
CREATED:20250220T132609Z
LAST-MODIFIED:20250220T132609Z
UID:10003335-1783621800-1783629000@knoxpa.com
SUMMARY:Trivia Night at Deer Creek Winery
DESCRIPTION:DJ Trivia will be hosting Trivia Night every Thursday at Deer Creek Winery in Shippenville from 6:30 p.m. to 8:30 p.m.
URL:https://knoxpa.com/event/trivia-night-at-deer-creek-winery-2/2026-07-09/
LOCATION:Deer Creek Winery\, 3333 Soap Fat Road\, Shippenville\, PA\, 16254\, United States
ATTACH;FMTTYPE=image/jpeg:https://knoxpa.com/wp-content/uploads/2025/02/DCW-Trivia-Night.jpg
END:VEVENT
BEGIN:VEVENT
DTSTART;TZID=America/New_York:20260716T183000
DTEND;TZID=America/New_York:20260716T203000
DTSTAMP:20260423T075105
CREATED:20250220T132609Z
LAST-MODIFIED:20250220T132609Z
UID:10003336-1784226600-1784233800@knoxpa.com
SUMMARY:Trivia Night at Deer Creek Winery
DESCRIPTION:DJ Trivia will be hosting Trivia Night every Thursday at Deer Creek Winery in Shippenville from 6:30 p.m. to 8:30 p.m.
URL:https://knoxpa.com/event/trivia-night-at-deer-creek-winery-2/2026-07-16/
LOCATION:Deer Creek Winery\, 3333 Soap Fat Road\, Shippenville\, PA\, 16254\, United States
ATTACH;FMTTYPE=image/jpeg:https://knoxpa.com/wp-content/uploads/2025/02/DCW-Trivia-Night.jpg
END:VEVENT
BEGIN:VEVENT
DTSTART;TZID=America/New_York:20260723T183000
DTEND;TZID=America/New_York:20260723T203000
DTSTAMP:20260423T075105
CREATED:20250220T132609Z
LAST-MODIFIED:20250220T132609Z
UID:10003337-1784831400-1784838600@knoxpa.com
SUMMARY:Trivia Night at Deer Creek Winery
DESCRIPTION:DJ Trivia will be hosting Trivia Night every Thursday at Deer Creek Winery in Shippenville from 6:30 p.m. to 8:30 p.m.
URL:https://knoxpa.com/event/trivia-night-at-deer-creek-winery-2/2026-07-23/
LOCATION:Deer Creek Winery\, 3333 Soap Fat Road\, Shippenville\, PA\, 16254\, United States
ATTACH;FMTTYPE=image/jpeg:https://knoxpa.com/wp-content/uploads/2025/02/DCW-Trivia-Night.jpg
END:VEVENT
BEGIN:VEVENT
DTSTART;TZID=America/New_York:20260730T183000
DTEND;TZID=America/New_York:20260730T203000
DTSTAMP:20260423T075105
CREATED:20250220T132609Z
LAST-MODIFIED:20250220T132609Z
UID:10003338-1785436200-1785443400@knoxpa.com
SUMMARY:Trivia Night at Deer Creek Winery
DESCRIPTION:DJ Trivia will be hosting Trivia Night every Thursday at Deer Creek Winery in Shippenville from 6:30 p.m. to 8:30 p.m.
URL:https://knoxpa.com/event/trivia-night-at-deer-creek-winery-2/2026-07-30/
LOCATION:Deer Creek Winery\, 3333 Soap Fat Road\, Shippenville\, PA\, 16254\, United States
ATTACH;FMTTYPE=image/jpeg:https://knoxpa.com/wp-content/uploads/2025/02/DCW-Trivia-Night.jpg
END:VEVENT
BEGIN:VEVENT
DTSTART;TZID=America/New_York:20260806T183000
DTEND;TZID=America/New_York:20260806T203000
DTSTAMP:20260423T075105
CREATED:20250220T132609Z
LAST-MODIFIED:20250220T132609Z
UID:10003339-1786041000-1786048200@knoxpa.com
SUMMARY:Trivia Night at Deer Creek Winery
DESCRIPTION:DJ Trivia will be hosting Trivia Night every Thursday at Deer Creek Winery in Shippenville from 6:30 p.m. to 8:30 p.m.
URL:https://knoxpa.com/event/trivia-night-at-deer-creek-winery-2/2026-08-06/
LOCATION:Deer Creek Winery\, 3333 Soap Fat Road\, Shippenville\, PA\, 16254\, United States
ATTACH;FMTTYPE=image/jpeg:https://knoxpa.com/wp-content/uploads/2025/02/DCW-Trivia-Night.jpg
END:VEVENT
BEGIN:VEVENT
DTSTART;TZID=America/New_York:20260813T183000
DTEND;TZID=America/New_York:20260813T203000
DTSTAMP:20260423T075105
CREATED:20250220T132609Z
LAST-MODIFIED:20250220T132609Z
UID:10003340-1786645800-1786653000@knoxpa.com
SUMMARY:Trivia Night at Deer Creek Winery
DESCRIPTION:DJ Trivia will be hosting Trivia Night every Thursday at Deer Creek Winery in Shippenville from 6:30 p.m. to 8:30 p.m.
URL:https://knoxpa.com/event/trivia-night-at-deer-creek-winery-2/2026-08-13/
LOCATION:Deer Creek Winery\, 3333 Soap Fat Road\, Shippenville\, PA\, 16254\, United States
ATTACH;FMTTYPE=image/jpeg:https://knoxpa.com/wp-content/uploads/2025/02/DCW-Trivia-Night.jpg
END:VEVENT
BEGIN:VEVENT
DTSTART;TZID=America/New_York:20260820T183000
DTEND;TZID=America/New_York:20260820T203000
DTSTAMP:20260423T075105
CREATED:20250220T132609Z
LAST-MODIFIED:20250220T132609Z
UID:10003341-1787250600-1787257800@knoxpa.com
SUMMARY:Trivia Night at Deer Creek Winery
DESCRIPTION:DJ Trivia will be hosting Trivia Night every Thursday at Deer Creek Winery in Shippenville from 6:30 p.m. to 8:30 p.m.
URL:https://knoxpa.com/event/trivia-night-at-deer-creek-winery-2/2026-08-20/
LOCATION:Deer Creek Winery\, 3333 Soap Fat Road\, Shippenville\, PA\, 16254\, United States
ATTACH;FMTTYPE=image/jpeg:https://knoxpa.com/wp-content/uploads/2025/02/DCW-Trivia-Night.jpg
END:VEVENT
BEGIN:VEVENT
DTSTART;TZID=America/New_York:20260827T183000
DTEND;TZID=America/New_York:20260827T203000
DTSTAMP:20260423T075105
CREATED:20250220T132609Z
LAST-MODIFIED:20250220T132609Z
UID:10003342-1787855400-1787862600@knoxpa.com
SUMMARY:Trivia Night at Deer Creek Winery
DESCRIPTION:DJ Trivia will be hosting Trivia Night every Thursday at Deer Creek Winery in Shippenville from 6:30 p.m. to 8:30 p.m.
URL:https://knoxpa.com/event/trivia-night-at-deer-creek-winery-2/2026-08-27/
LOCATION:Deer Creek Winery\, 3333 Soap Fat Road\, Shippenville\, PA\, 16254\, United States
ATTACH;FMTTYPE=image/jpeg:https://knoxpa.com/wp-content/uploads/2025/02/DCW-Trivia-Night.jpg
END:VEVENT
BEGIN:VEVENT
DTSTART;TZID=America/New_York:20260903T183000
DTEND;TZID=America/New_York:20260903T203000
DTSTAMP:20260423T075105
CREATED:20250220T132609Z
LAST-MODIFIED:20250220T132609Z
UID:10003343-1788460200-1788467400@knoxpa.com
SUMMARY:Trivia Night at Deer Creek Winery
DESCRIPTION:DJ Trivia will be hosting Trivia Night every Thursday at Deer Creek Winery in Shippenville from 6:30 p.m. to 8:30 p.m.
URL:https://knoxpa.com/event/trivia-night-at-deer-creek-winery-2/2026-09-03/
LOCATION:Deer Creek Winery\, 3333 Soap Fat Road\, Shippenville\, PA\, 16254\, United States
ATTACH;FMTTYPE=image/jpeg:https://knoxpa.com/wp-content/uploads/2025/02/DCW-Trivia-Night.jpg
END:VEVENT
BEGIN:VEVENT
DTSTART;TZID=America/New_York:20260910T183000
DTEND;TZID=America/New_York:20260910T203000
DTSTAMP:20260423T075105
CREATED:20250220T132609Z
LAST-MODIFIED:20250220T132609Z
UID:10003344-1789065000-1789072200@knoxpa.com
SUMMARY:Trivia Night at Deer Creek Winery
DESCRIPTION:DJ Trivia will be hosting Trivia Night every Thursday at Deer Creek Winery in Shippenville from 6:30 p.m. to 8:30 p.m.
URL:https://knoxpa.com/event/trivia-night-at-deer-creek-winery-2/2026-09-10/
LOCATION:Deer Creek Winery\, 3333 Soap Fat Road\, Shippenville\, PA\, 16254\, United States
ATTACH;FMTTYPE=image/jpeg:https://knoxpa.com/wp-content/uploads/2025/02/DCW-Trivia-Night.jpg
END:VEVENT
BEGIN:VEVENT
DTSTART;TZID=America/New_York:20260917T183000
DTEND;TZID=America/New_York:20260917T203000
DTSTAMP:20260423T075105
CREATED:20250220T132609Z
LAST-MODIFIED:20250220T132609Z
UID:10003345-1789669800-1789677000@knoxpa.com
SUMMARY:Trivia Night at Deer Creek Winery
DESCRIPTION:DJ Trivia will be hosting Trivia Night every Thursday at Deer Creek Winery in Shippenville from 6:30 p.m. to 8:30 p.m.
URL:https://knoxpa.com/event/trivia-night-at-deer-creek-winery-2/2026-09-17/
LOCATION:Deer Creek Winery\, 3333 Soap Fat Road\, Shippenville\, PA\, 16254\, United States
ATTACH;FMTTYPE=image/jpeg:https://knoxpa.com/wp-content/uploads/2025/02/DCW-Trivia-Night.jpg
END:VEVENT
BEGIN:VEVENT
DTSTART;TZID=America/New_York:20260924T183000
DTEND;TZID=America/New_York:20260924T203000
DTSTAMP:20260423T075105
CREATED:20250220T132609Z
LAST-MODIFIED:20250220T132609Z
UID:10003346-1790274600-1790281800@knoxpa.com
SUMMARY:Trivia Night at Deer Creek Winery
DESCRIPTION:DJ Trivia will be hosting Trivia Night every Thursday at Deer Creek Winery in Shippenville from 6:30 p.m. to 8:30 p.m.
URL:https://knoxpa.com/event/trivia-night-at-deer-creek-winery-2/2026-09-24/
LOCATION:Deer Creek Winery\, 3333 Soap Fat Road\, Shippenville\, PA\, 16254\, United States
ATTACH;FMTTYPE=image/jpeg:https://knoxpa.com/wp-content/uploads/2025/02/DCW-Trivia-Night.jpg
END:VEVENT
BEGIN:VEVENT
DTSTART;TZID=America/New_York:20261001T183000
DTEND;TZID=America/New_York:20261001T203000
DTSTAMP:20260423T075105
CREATED:20250220T132609Z
LAST-MODIFIED:20250220T132609Z
UID:10003347-1790879400-1790886600@knoxpa.com
SUMMARY:Trivia Night at Deer Creek Winery
DESCRIPTION:DJ Trivia will be hosting Trivia Night every Thursday at Deer Creek Winery in Shippenville from 6:30 p.m. to 8:30 p.m.
URL:https://knoxpa.com/event/trivia-night-at-deer-creek-winery-2/2026-10-01/
LOCATION:Deer Creek Winery\, 3333 Soap Fat Road\, Shippenville\, PA\, 16254\, United States
ATTACH;FMTTYPE=image/jpeg:https://knoxpa.com/wp-content/uploads/2025/02/DCW-Trivia-Night.jpg
END:VEVENT
BEGIN:VEVENT
DTSTART;TZID=America/New_York:20261008T183000
DTEND;TZID=America/New_York:20261008T203000
DTSTAMP:20260423T075105
CREATED:20250220T132609Z
LAST-MODIFIED:20250220T132609Z
UID:10003348-1791484200-1791491400@knoxpa.com
SUMMARY:Trivia Night at Deer Creek Winery
DESCRIPTION:DJ Trivia will be hosting Trivia Night every Thursday at Deer Creek Winery in Shippenville from 6:30 p.m. to 8:30 p.m.
URL:https://knoxpa.com/event/trivia-night-at-deer-creek-winery-2/2026-10-08/
LOCATION:Deer Creek Winery\, 3333 Soap Fat Road\, Shippenville\, PA\, 16254\, United States
ATTACH;FMTTYPE=image/jpeg:https://knoxpa.com/wp-content/uploads/2025/02/DCW-Trivia-Night.jpg
END:VEVENT
BEGIN:VEVENT
DTSTART;TZID=America/New_York:20261015T183000
DTEND;TZID=America/New_York:20261015T203000
DTSTAMP:20260423T075105
CREATED:20250220T132609Z
LAST-MODIFIED:20250220T132609Z
UID:10003349-1792089000-1792096200@knoxpa.com
SUMMARY:Trivia Night at Deer Creek Winery
DESCRIPTION:DJ Trivia will be hosting Trivia Night every Thursday at Deer Creek Winery in Shippenville from 6:30 p.m. to 8:30 p.m.
URL:https://knoxpa.com/event/trivia-night-at-deer-creek-winery-2/2026-10-15/
LOCATION:Deer Creek Winery\, 3333 Soap Fat Road\, Shippenville\, PA\, 16254\, United States
ATTACH;FMTTYPE=image/jpeg:https://knoxpa.com/wp-content/uploads/2025/02/DCW-Trivia-Night.jpg
END:VEVENT
BEGIN:VEVENT
DTSTART;TZID=America/New_York:20261022T183000
DTEND;TZID=America/New_York:20261022T203000
DTSTAMP:20260423T075105
CREATED:20250220T132609Z
LAST-MODIFIED:20250220T132609Z
UID:10003350-1792693800-1792701000@knoxpa.com
SUMMARY:Trivia Night at Deer Creek Winery
DESCRIPTION:DJ Trivia will be hosting Trivia Night every Thursday at Deer Creek Winery in Shippenville from 6:30 p.m. to 8:30 p.m.
URL:https://knoxpa.com/event/trivia-night-at-deer-creek-winery-2/2026-10-22/
LOCATION:Deer Creek Winery\, 3333 Soap Fat Road\, Shippenville\, PA\, 16254\, United States
ATTACH;FMTTYPE=image/jpeg:https://knoxpa.com/wp-content/uploads/2025/02/DCW-Trivia-Night.jpg
END:VEVENT
BEGIN:VEVENT
DTSTART;TZID=America/New_York:20261029T183000
DTEND;TZID=America/New_York:20261029T203000
DTSTAMP:20260423T075105
CREATED:20250220T132609Z
LAST-MODIFIED:20250220T132609Z
UID:10003351-1793298600-1793305800@knoxpa.com
SUMMARY:Trivia Night at Deer Creek Winery
DESCRIPTION:DJ Trivia will be hosting Trivia Night every Thursday at Deer Creek Winery in Shippenville from 6:30 p.m. to 8:30 p.m.
URL:https://knoxpa.com/event/trivia-night-at-deer-creek-winery-2/2026-10-29/
LOCATION:Deer Creek Winery\, 3333 Soap Fat Road\, Shippenville\, PA\, 16254\, United States
ATTACH;FMTTYPE=image/jpeg:https://knoxpa.com/wp-content/uploads/2025/02/DCW-Trivia-Night.jpg
END:VEVENT
BEGIN:VEVENT
DTSTART;TZID=America/New_York:20261105T183000
DTEND;TZID=America/New_York:20261105T203000
DTSTAMP:20260423T075105
CREATED:20250220T132609Z
LAST-MODIFIED:20250220T132609Z
UID:10003352-1793903400-1793910600@knoxpa.com
SUMMARY:Trivia Night at Deer Creek Winery
DESCRIPTION:DJ Trivia will be hosting Trivia Night every Thursday at Deer Creek Winery in Shippenville from 6:30 p.m. to 8:30 p.m.
URL:https://knoxpa.com/event/trivia-night-at-deer-creek-winery-2/2026-11-05/
LOCATION:Deer Creek Winery\, 3333 Soap Fat Road\, Shippenville\, PA\, 16254\, United States
ATTACH;FMTTYPE=image/jpeg:https://knoxpa.com/wp-content/uploads/2025/02/DCW-Trivia-Night.jpg
END:VEVENT
BEGIN:VEVENT
DTSTART;TZID=America/New_York:20261112T183000
DTEND;TZID=America/New_York:20261112T203000
DTSTAMP:20260423T075105
CREATED:20250220T132609Z
LAST-MODIFIED:20250220T132609Z
UID:10003353-1794508200-1794515400@knoxpa.com
SUMMARY:Trivia Night at Deer Creek Winery
DESCRIPTION:DJ Trivia will be hosting Trivia Night every Thursday at Deer Creek Winery in Shippenville from 6:30 p.m. to 8:30 p.m.
URL:https://knoxpa.com/event/trivia-night-at-deer-creek-winery-2/2026-11-12/
LOCATION:Deer Creek Winery\, 3333 Soap Fat Road\, Shippenville\, PA\, 16254\, United States
ATTACH;FMTTYPE=image/jpeg:https://knoxpa.com/wp-content/uploads/2025/02/DCW-Trivia-Night.jpg
END:VEVENT
END:VCALENDAR