BEGIN:VCALENDAR
VERSION:2.0
PRODID:-//KnoxPa.com - ECPv6.11.2.1//NONSGML v1.0//EN
CALSCALE:GREGORIAN
METHOD:PUBLISH
X-ORIGINAL-URL:https://knoxpa.com
X-WR-CALDESC:Events for KnoxPa.com
REFRESH-INTERVAL;VALUE=DURATION:PT1H
X-Robots-Tag:noindex
X-PUBLISHED-TTL:PT1H
BEGIN:VTIMEZONE
TZID:America/New_York
BEGIN:DAYLIGHT
TZOFFSETFROM:-0500
TZOFFSETTO:-0400
TZNAME:EDT
DTSTART:20240310T070000
END:DAYLIGHT
BEGIN:STANDARD
TZOFFSETFROM:-0400
TZOFFSETTO:-0500
TZNAME:EST
DTSTART:20241103T060000
END:STANDARD
END:VTIMEZONE
BEGIN:VEVENT
DTSTART;TZID=America/New_York:20240215T130000
DTEND;TZID=America/New_York:20240215T140000
DTSTAMP:20260421T022033
CREATED:20240207T174312Z
LAST-MODIFIED:20240207T180456Z
UID:10000092-1708002000-1708005600@knoxpa.com
SUMMARY:Monthly Paint and Sip: A Splash of Art and Mocktail Magic!
DESCRIPTION:Monthly Paint and Sip: A Splash of Art and Mocktail Magic!\n\nUnleash your creativity and indulge in a night of painting\, sipping mocktails\, and creating memories at our Monthly Paint and Sip! \n\nNext Event:\n-Thursday\, Feb 15th at the Clarion Mall.\n-Friday\, Feb 16th at the Oil City Library.\n-Class will begin at 1pm.\nWhat’s Included:\nExpert-Guided Painting Session with Local Artist Chloe Boden\nMocktails and Refreshments Provided\nArt Supplies for Your Masterpiece\nRelaxed and Fun Atmosphere\n\nReservation Details:\nMust reserve your spot one week in advance.\nCall/text 814-227-3156 to secure your easel.\nCost: $10 per Person\n\nLimited Spots Available!\nMake it a date\, girls’ day\, or a solo artistic escape. Join us for an evening of laughter\, creativity\, and mocktail sipping!\n\nThis event is brought to you by The Arc of Clarion and Venango Counties Inc and the Clarion Mall. \n\n\nLet Your Imagination Flow – Paint\, Sip\, and Create Magic on Canvas! \n\n\n 
URL:https://knoxpa.com/event/monthly-paint-and-sip-a-splash-of-art-and-mocktail-magic/
LOCATION:The Clarion Mall\, 22631 PA-68\, Clarion\, PA\, 16214\, United States
ATTACH;FMTTYPE=image/jpeg:https://knoxpa.com/wp-content/uploads/2024/02/Paint-n-Sip-at-the-Clarion-Mall.jpg
END:VEVENT
END:VCALENDAR