BEGIN:VCALENDAR
VERSION:2.0
PRODID:-//KnoxPa.com - ECPv6.11.2.1//NONSGML v1.0//EN
CALSCALE:GREGORIAN
METHOD:PUBLISH
X-WR-CALNAME:KnoxPa.com
X-ORIGINAL-URL:https://knoxpa.com
X-WR-CALDESC:Events for KnoxPa.com
REFRESH-INTERVAL;VALUE=DURATION:PT1H
X-Robots-Tag:noindex
X-PUBLISHED-TTL:PT1H
BEGIN:VTIMEZONE
TZID:America/New_York
BEGIN:DAYLIGHT
TZOFFSETFROM:-0500
TZOFFSETTO:-0400
TZNAME:EDT
DTSTART:20240310T070000
END:DAYLIGHT
BEGIN:STANDARD
TZOFFSETFROM:-0400
TZOFFSETTO:-0500
TZNAME:EST
DTSTART:20241103T060000
END:STANDARD
BEGIN:DAYLIGHT
TZOFFSETFROM:-0500
TZOFFSETTO:-0400
TZNAME:EDT
DTSTART:20250309T070000
END:DAYLIGHT
BEGIN:STANDARD
TZOFFSETFROM:-0400
TZOFFSETTO:-0500
TZNAME:EST
DTSTART:20251102T060000
END:STANDARD
END:VTIMEZONE
BEGIN:VEVENT
DTSTART;TZID=America/New_York:20250831T140000
DTEND;TZID=America/New_York:20250831T160000
DTSTAMP:20260420T090727
CREATED:20250501T132045Z
LAST-MODIFIED:20250501T132045Z
UID:10003654-1756648800-1756656000@knoxpa.com
SUMMARY:Yonder Mountain Play
DESCRIPTION:Barrow-Civic Theatre presents “Yonder Mountain”.\n\nAn allegorical tale set in Appalacia with an original librett and score by local composer John Krumich. A father places his teenage daughter\, Ada\, in a treehouse and suitors begin to arrive. A mysterious creature\, Flora Hawkins\, offers a way to be free.\n\nWritten by & Courtesy of: John Krumich\nSuitability: All Ages\nMore information at Sawmill.org
URL:https://knoxpa.com/event/yonder-mountain-play/2025-08-31/
LOCATION:Cook Forest Sawmill Center for the Arts\, 140 Theater Lane\, Leeper\, 16233\, United States
ATTACH;FMTTYPE=image/jpeg:https://knoxpa.com/wp-content/uploads/2025/05/Yoder-Mountain.jpg
END:VEVENT
BEGIN:VEVENT
DTSTART;TZID=America/New_York:20250830T190000
DTEND;TZID=America/New_York:20250830T210000
DTSTAMP:20260420T090727
CREATED:20250501T132045Z
LAST-MODIFIED:20250501T132045Z
UID:10003653-1756580400-1756587600@knoxpa.com
SUMMARY:Yonder Mountain Play
DESCRIPTION:Barrow-Civic Theatre presents “Yonder Mountain”.\n\nAn allegorical tale set in Appalacia with an original librett and score by local composer John Krumich. A father places his teenage daughter\, Ada\, in a treehouse and suitors begin to arrive. A mysterious creature\, Flora Hawkins\, offers a way to be free.\n\nWritten by & Courtesy of: John Krumich\nSuitability: All Ages\nMore information at Sawmill.org
URL:https://knoxpa.com/event/yonder-mountain-play/2025-08-30/
LOCATION:Cook Forest Sawmill Center for the Arts\, 140 Theater Lane\, Leeper\, 16233\, United States
ATTACH;FMTTYPE=image/jpeg:https://knoxpa.com/wp-content/uploads/2025/05/Yoder-Mountain.jpg
END:VEVENT
BEGIN:VEVENT
DTSTART;TZID=America/New_York:20250829T190000
DTEND;TZID=America/New_York:20250829T210000
DTSTAMP:20260420T090727
CREATED:20250501T132045Z
LAST-MODIFIED:20250501T132045Z
UID:10003652-1756494000-1756501200@knoxpa.com
SUMMARY:Yonder Mountain Play
DESCRIPTION:Barrow-Civic Theatre presents “Yonder Mountain”.\n\nAn allegorical tale set in Appalacia with an original librett and score by local composer John Krumich. A father places his teenage daughter\, Ada\, in a treehouse and suitors begin to arrive. A mysterious creature\, Flora Hawkins\, offers a way to be free.\n\nWritten by & Courtesy of: John Krumich\nSuitability: All Ages\nMore information at Sawmill.org
URL:https://knoxpa.com/event/yonder-mountain-play/2025-08-29/
LOCATION:Cook Forest Sawmill Center for the Arts\, 140 Theater Lane\, Leeper\, 16233\, United States
ATTACH;FMTTYPE=image/jpeg:https://knoxpa.com/wp-content/uploads/2025/05/Yoder-Mountain.jpg
END:VEVENT
BEGIN:VEVENT
DTSTART;VALUE=DATE:20250713
DTEND;VALUE=DATE:20250714
DTSTAMP:20260420T090727
CREATED:20250501T131648Z
LAST-MODIFIED:20250501T131648Z
UID:10003651-1752397200-1752426000@knoxpa.com
SUMMARY:Annual Woodcarving Show & Competition
DESCRIPTION:This event features woodcarvings on display\, classes\, demonstrations\, and items for sale. Please call or email for more information. 814-927-6655 or info@sawmill.org.
URL:https://knoxpa.com/event/annual-woodcarving-show-competition/2025-07-13/
LOCATION:Cook Forest Sawmill Center for the Arts\, 140 Theater Lane\, Leeper\, 16233\, United States
ATTACH;FMTTYPE=image/jpeg:https://knoxpa.com/wp-content/uploads/2025/05/Annual-Woodcarving-Competition.jpg
END:VEVENT
BEGIN:VEVENT
DTSTART;VALUE=DATE:20250712
DTEND;VALUE=DATE:20250713
DTSTAMP:20260420T090727
CREATED:20250501T131648Z
LAST-MODIFIED:20250501T131648Z
UID:10003650-1752278400-1752364799@knoxpa.com
SUMMARY:Annual Woodcarving Show & Competition
DESCRIPTION:This event features woodcarvings on display\, classes\, demonstrations\, and items for sale. Please call or email for more information. 814-927-6655 or info@sawmill.org.
URL:https://knoxpa.com/event/annual-woodcarving-show-competition/2025-07-12/
LOCATION:Cook Forest Sawmill Center for the Arts\, 140 Theater Lane\, Leeper\, 16233\, United States
ATTACH;FMTTYPE=image/jpeg:https://knoxpa.com/wp-content/uploads/2025/05/Annual-Woodcarving-Competition.jpg
END:VEVENT
BEGIN:VEVENT
DTSTART;TZID=America/New_York:20240915T153000
DTEND;TZID=America/New_York:20240915T173000
DTSTAMP:20260420T090727
CREATED:20240809T161737Z
LAST-MODIFIED:20240809T161737Z
UID:10002009-1726414200-1726421400@knoxpa.com
SUMMARY:Cook Forest Chainsaw Roundup
DESCRIPTION:Carving event with 18 signed-up carvers. Auctions on Saturday\, 14th at 4:00 p.m. and Sunday\, 15th at 3:30 p.m.
URL:https://knoxpa.com/event/cook-forest-chainsaw-roundup/2024-09-15/
LOCATION:Cook Forest Sawmill Center for the Arts\, 140 Theater Lane\, Leeper\, 16233\, United States
ATTACH;FMTTYPE=image/jpeg:https://knoxpa.com/wp-content/uploads/2024/08/Chainsaw-Roundup.jpg
END:VEVENT
BEGIN:VEVENT
DTSTART;TZID=America/New_York:20240915T100000
DTEND;TZID=America/New_York:20240915T170000
DTSTAMP:20260420T090727
CREATED:20240815T071125Z
LAST-MODIFIED:20240815T071821Z
UID:10002014-1726394400-1726419600@knoxpa.com
SUMMARY:Chainsaw Carvers Round-Up & Auctions
DESCRIPTION:Come see carvers in action as they create unique and one-of-a-kind carvings from a simple log.  \nAuctions will be Saturday\, Sept 14th at 4 pm and Sunday\, Sept 15th at 3:30 pm.  \nOpen Fri-Sun\, Sept 13th-15th\, 10 am – 5 pm.
URL:https://knoxpa.com/event/chainsaw-carvers-round-up-auctions/2024-09-15/
LOCATION:Cook Forest Sawmill Center for the Arts\, 140 Theater Lane\, Leeper\, 16233\, United States
ATTACH;FMTTYPE=image/jpeg:https://knoxpa.com/wp-content/uploads/2024/08/Chainsaw-Carvers-Roundup-1.jpg
END:VEVENT
BEGIN:VEVENT
DTSTART;TZID=America/New_York:20240914T100000
DTEND;TZID=America/New_York:20240914T170000
DTSTAMP:20260420T090727
CREATED:20240914T122524Z
LAST-MODIFIED:20240914T122524Z
UID:10002008-1726308000-1726333200@knoxpa.com
SUMMARY:Cook Forest Chainsaw Roundup
DESCRIPTION:Carving event with 18 signed-up carvers. Auctions on Saturday\, 14th at 4:00 p.m. and Sunday\, 15th at 3:30 p.m.
URL:https://knoxpa.com/event/cook-forest-chainsaw-roundup-2/
LOCATION:Cook Forest Sawmill Center for the Arts\, 140 Theater Lane\, Leeper\, 16233\, United States
ATTACH;FMTTYPE=image/jpeg:https://knoxpa.com/wp-content/uploads/2024/08/Chainsaw-Roundup.jpg
END:VEVENT
BEGIN:VEVENT
DTSTART;TZID=America/New_York:20240913T100000
DTEND;TZID=America/New_York:20240913T170000
DTSTAMP:20260420T090727
CREATED:20240815T071125Z
LAST-MODIFIED:20240815T071821Z
UID:10002012-1726221600-1726246800@knoxpa.com
SUMMARY:Chainsaw Carvers Round-Up & Auctions
DESCRIPTION:Come see carvers in action as they create unique and one-of-a-kind carvings from a simple log.  \nAuctions will be Saturday\, Sept 14th at 4 pm and Sunday\, Sept 15th at 3:30 pm.  \nOpen Fri-Sun\, Sept 13th-15th\, 10 am – 5 pm.
URL:https://knoxpa.com/event/chainsaw-carvers-round-up-auctions/2024-09-13/
LOCATION:Cook Forest Sawmill Center for the Arts\, 140 Theater Lane\, Leeper\, 16233\, United States
ATTACH;FMTTYPE=image/jpeg:https://knoxpa.com/wp-content/uploads/2024/08/Chainsaw-Carvers-Roundup-1.jpg
END:VEVENT
BEGIN:VEVENT
DTSTART;TZID=America/New_York:20240824T140000
DTEND;TZID=America/New_York:20240824T153000
DTSTAMP:20260420T090727
CREATED:20240821T174720Z
LAST-MODIFIED:20240821T174720Z
UID:10002058-1724508000-1724513400@knoxpa.com
SUMMARY:Elvis Has Left the Building
DESCRIPTION:Tickets: info@sawmill.org / call 814-927-6655\nAugust 21\, 22\, 23 @ 8 p.m.\nSaturday\, Aug. 24 @ 2 p.m.\nAt the Sawmill Theater \n\nWe’re happy to present a 2pm Saturday afternoon viewing for those theater fans who prefer a daylight drive through the forest. \n\nCast Includes: Randy Nebel\, Pam Huffman\, Henry Sherman\, Jessica Hansford\, and Rodney Sherman. \n\nIt’s December 20th\, 1970\, and Elvis Presley has disappeared. No one\, not even his wily manager\, “The Coronel\,” knows of his whereabouts. But the Coronel is “all shook up” because he has racked up a secret debt – and with the King himself missing\, the only way to pay off the debt is to find an Elvis impersonator within 24 hours. \n\nHijinks ensue as the Coronel takes desperate measures to replace a man who is irreplaceable\, all while keeping the prying eyes of a nosy reporter at bay and figuring what happened to the real Elvis. \n\nThe comedy show is suitable for all members of the family. \n\nTickets are $15: info@sawmill.org or call 814-927-6655.
URL:https://knoxpa.com/event/elvis-has-left-the-building/2024-08-24/
LOCATION:Cook Forest Sawmill Center for the Arts\, 140 Theater Lane\, Leeper\, 16233\, United States
ATTACH;FMTTYPE=image/jpeg:https://knoxpa.com/wp-content/uploads/2024/08/Elvis-has-left-the-building.jpg
END:VEVENT
BEGIN:VEVENT
DTSTART;TZID=America/New_York:20240823T200000
DTEND;TZID=America/New_York:20240823T213000
DTSTAMP:20260420T090727
CREATED:20240821T174720Z
LAST-MODIFIED:20240821T174720Z
UID:10002057-1724443200-1724448600@knoxpa.com
SUMMARY:Elvis Has Left the Building
DESCRIPTION:Tickets: info@sawmill.org / call 814-927-6655\nAugust 21\, 22\, 23 @ 8 p.m.\nSaturday\, Aug. 24 @ 2 p.m.\nAt the Sawmill Theater \n\nWe’re happy to present a 2pm Saturday afternoon viewing for those theater fans who prefer a daylight drive through the forest. \n\nCast Includes: Randy Nebel\, Pam Huffman\, Henry Sherman\, Jessica Hansford\, and Rodney Sherman. \n\nIt’s December 20th\, 1970\, and Elvis Presley has disappeared. No one\, not even his wily manager\, “The Coronel\,” knows of his whereabouts. But the Coronel is “all shook up” because he has racked up a secret debt – and with the King himself missing\, the only way to pay off the debt is to find an Elvis impersonator within 24 hours. \n\nHijinks ensue as the Coronel takes desperate measures to replace a man who is irreplaceable\, all while keeping the prying eyes of a nosy reporter at bay and figuring what happened to the real Elvis. \n\nThe comedy show is suitable for all members of the family. \n\nTickets are $15: info@sawmill.org or call 814-927-6655.
URL:https://knoxpa.com/event/elvis-has-left-the-building/2024-08-23/
LOCATION:Cook Forest Sawmill Center for the Arts\, 140 Theater Lane\, Leeper\, 16233\, United States
ATTACH;FMTTYPE=image/jpeg:https://knoxpa.com/wp-content/uploads/2024/08/Elvis-has-left-the-building.jpg
END:VEVENT
BEGIN:VEVENT
DTSTART;TZID=America/New_York:20240822T200000
DTEND;TZID=America/New_York:20240822T213000
DTSTAMP:20260420T090727
CREATED:20240821T174720Z
LAST-MODIFIED:20240821T174720Z
UID:10002056-1724356800-1724362200@knoxpa.com
SUMMARY:Elvis Has Left the Building
DESCRIPTION:Tickets: info@sawmill.org / call 814-927-6655\nAugust 21\, 22\, 23 @ 8 p.m.\nSaturday\, Aug. 24 @ 2 p.m.\nAt the Sawmill Theater \n\nWe’re happy to present a 2pm Saturday afternoon viewing for those theater fans who prefer a daylight drive through the forest. \n\nCast Includes: Randy Nebel\, Pam Huffman\, Henry Sherman\, Jessica Hansford\, and Rodney Sherman. \n\nIt’s December 20th\, 1970\, and Elvis Presley has disappeared. No one\, not even his wily manager\, “The Coronel\,” knows of his whereabouts. But the Coronel is “all shook up” because he has racked up a secret debt – and with the King himself missing\, the only way to pay off the debt is to find an Elvis impersonator within 24 hours. \n\nHijinks ensue as the Coronel takes desperate measures to replace a man who is irreplaceable\, all while keeping the prying eyes of a nosy reporter at bay and figuring what happened to the real Elvis. \n\nThe comedy show is suitable for all members of the family. \n\nTickets are $15: info@sawmill.org or call 814-927-6655.
URL:https://knoxpa.com/event/elvis-has-left-the-building/2024-08-22/
LOCATION:Cook Forest Sawmill Center for the Arts\, 140 Theater Lane\, Leeper\, 16233\, United States
ATTACH;FMTTYPE=image/jpeg:https://knoxpa.com/wp-content/uploads/2024/08/Elvis-has-left-the-building.jpg
END:VEVENT
BEGIN:VEVENT
DTSTART;TZID=America/New_York:20240821T200000
DTEND;TZID=America/New_York:20240821T213000
DTSTAMP:20260420T090727
CREATED:20240821T174720Z
LAST-MODIFIED:20240821T174720Z
UID:10002055-1724270400-1724275800@knoxpa.com
SUMMARY:Elvis Has Left the Building
DESCRIPTION:Tickets: info@sawmill.org / call 814-927-6655\nAugust 21\, 22\, 23 @ 8 p.m.\nSaturday\, Aug. 24 @ 2 p.m.\nAt the Sawmill Theater \n\nWe’re happy to present a 2pm Saturday afternoon viewing for those theater fans who prefer a daylight drive through the forest. \n\nCast Includes: Randy Nebel\, Pam Huffman\, Henry Sherman\, Jessica Hansford\, and Rodney Sherman. \n\nIt’s December 20th\, 1970\, and Elvis Presley has disappeared. No one\, not even his wily manager\, “The Coronel\,” knows of his whereabouts. But the Coronel is “all shook up” because he has racked up a secret debt – and with the King himself missing\, the only way to pay off the debt is to find an Elvis impersonator within 24 hours. \n\nHijinks ensue as the Coronel takes desperate measures to replace a man who is irreplaceable\, all while keeping the prying eyes of a nosy reporter at bay and figuring what happened to the real Elvis. \n\nThe comedy show is suitable for all members of the family. \n\nTickets are $15: info@sawmill.org or call 814-927-6655.
URL:https://knoxpa.com/event/elvis-has-left-the-building/2024-08-21/
LOCATION:Cook Forest Sawmill Center for the Arts\, 140 Theater Lane\, Leeper\, 16233\, United States
ATTACH;FMTTYPE=image/jpeg:https://knoxpa.com/wp-content/uploads/2024/08/Elvis-has-left-the-building.jpg
END:VEVENT
BEGIN:VEVENT
DTSTART;TZID=America/New_York:20240615T200000
DTEND;TZID=America/New_York:20240615T210000
DTSTAMP:20260420T090727
CREATED:20240523T221508Z
LAST-MODIFIED:20240523T221653Z
UID:10001329-1718481600-1718485200@knoxpa.com
SUMMARY:The Odd Couple (Female Version)
DESCRIPTION:Event by Clarion Community Theater\n\n\n\n\n\n\n\n\n\n\n\n\nCook Forest Sawmill Center for the Arts \n\n\n\n\n\n\n\n\n\nOne Week Only!! Weds\, June 12th – Sat\, June 15th at 8:00 p.m.\n\nNeil Simon’s revision of his hugely successful play\, The Odd Couple\, sees the lead characters transformed into Olive Madison and Florence Unger. \n\n\nOlive and her group of girlfriends are enjoying their weekly Trivial Pursuit night in Olive’s messy and ill-equipped apartment. As the game continues\, Florence arrives\, fresh from being dumped by her husband. Fearful that the neurotic Florence might attempt suicide\, Olive invites her to move in as her roommate. However\, Olive and Florence have VERY different personalities. \n\n\nWhere Olive is messy\, untidy\, and unconcerned about the state of her apartment\, Florence is obsessively clean\, tidy\, and obsessed with hygiene. Olive’s easy-going outlook on life soon clashes with Florence’s highly-strung neurotic tendencies\, testing their friendship to the limit. When Olive organizes a double-date with the Costazuela brothers\, their differences come to a head and sparks fly. \n\n\nTickets at door\, on eventbrite\, or call 814-927-6655 \n\n\n\n\n 
URL:https://knoxpa.com/event/the-odd-couple-female-version/2024-06-15/
LOCATION:Cook Forest Sawmill Center for the Arts\, 140 Theater Lane\, Leeper\, 16233\, United States
ATTACH;FMTTYPE=image/jpeg:https://knoxpa.com/wp-content/uploads/2024/05/The-odd-couple-1.jpg
END:VEVENT
BEGIN:VEVENT
DTSTART;TZID=America/New_York:20240614T200000
DTEND;TZID=America/New_York:20240614T210000
DTSTAMP:20260420T090727
CREATED:20240523T221508Z
LAST-MODIFIED:20240523T221653Z
UID:10001328-1718395200-1718398800@knoxpa.com
SUMMARY:The Odd Couple (Female Version)
DESCRIPTION:Event by Clarion Community Theater\n\n\n\n\n\n\n\n\n\n\n\n\nCook Forest Sawmill Center for the Arts \n\n\n\n\n\n\n\n\n\nOne Week Only!! Weds\, June 12th – Sat\, June 15th at 8:00 p.m.\n\nNeil Simon’s revision of his hugely successful play\, The Odd Couple\, sees the lead characters transformed into Olive Madison and Florence Unger. \n\n\nOlive and her group of girlfriends are enjoying their weekly Trivial Pursuit night in Olive’s messy and ill-equipped apartment. As the game continues\, Florence arrives\, fresh from being dumped by her husband. Fearful that the neurotic Florence might attempt suicide\, Olive invites her to move in as her roommate. However\, Olive and Florence have VERY different personalities. \n\n\nWhere Olive is messy\, untidy\, and unconcerned about the state of her apartment\, Florence is obsessively clean\, tidy\, and obsessed with hygiene. Olive’s easy-going outlook on life soon clashes with Florence’s highly-strung neurotic tendencies\, testing their friendship to the limit. When Olive organizes a double-date with the Costazuela brothers\, their differences come to a head and sparks fly. \n\n\nTickets at door\, on eventbrite\, or call 814-927-6655 \n\n\n\n\n 
URL:https://knoxpa.com/event/the-odd-couple-female-version/2024-06-14/
LOCATION:Cook Forest Sawmill Center for the Arts\, 140 Theater Lane\, Leeper\, 16233\, United States
ATTACH;FMTTYPE=image/jpeg:https://knoxpa.com/wp-content/uploads/2024/05/The-odd-couple-1.jpg
END:VEVENT
BEGIN:VEVENT
DTSTART;TZID=America/New_York:20240613T200000
DTEND;TZID=America/New_York:20240613T210000
DTSTAMP:20260420T090727
CREATED:20240523T221508Z
LAST-MODIFIED:20240523T221653Z
UID:10001327-1718308800-1718312400@knoxpa.com
SUMMARY:The Odd Couple (Female Version)
DESCRIPTION:Event by Clarion Community Theater\n\n\n\n\n\n\n\n\n\n\n\n\nCook Forest Sawmill Center for the Arts \n\n\n\n\n\n\n\n\n\nOne Week Only!! Weds\, June 12th – Sat\, June 15th at 8:00 p.m.\n\nNeil Simon’s revision of his hugely successful play\, The Odd Couple\, sees the lead characters transformed into Olive Madison and Florence Unger. \n\n\nOlive and her group of girlfriends are enjoying their weekly Trivial Pursuit night in Olive’s messy and ill-equipped apartment. As the game continues\, Florence arrives\, fresh from being dumped by her husband. Fearful that the neurotic Florence might attempt suicide\, Olive invites her to move in as her roommate. However\, Olive and Florence have VERY different personalities. \n\n\nWhere Olive is messy\, untidy\, and unconcerned about the state of her apartment\, Florence is obsessively clean\, tidy\, and obsessed with hygiene. Olive’s easy-going outlook on life soon clashes with Florence’s highly-strung neurotic tendencies\, testing their friendship to the limit. When Olive organizes a double-date with the Costazuela brothers\, their differences come to a head and sparks fly. \n\n\nTickets at door\, on eventbrite\, or call 814-927-6655 \n\n\n\n\n 
URL:https://knoxpa.com/event/the-odd-couple-female-version/2024-06-13/
LOCATION:Cook Forest Sawmill Center for the Arts\, 140 Theater Lane\, Leeper\, 16233\, United States
ATTACH;FMTTYPE=image/jpeg:https://knoxpa.com/wp-content/uploads/2024/05/The-odd-couple-1.jpg
END:VEVENT
BEGIN:VEVENT
DTSTART;TZID=America/New_York:20240612T200000
DTEND;TZID=America/New_York:20240612T210000
DTSTAMP:20260420T090727
CREATED:20240523T221508Z
LAST-MODIFIED:20240523T221653Z
UID:10001326-1718222400-1718226000@knoxpa.com
SUMMARY:The Odd Couple (Female Version)
DESCRIPTION:Event by Clarion Community Theater\n\n\n\n\n\n\n\n\n\n\n\n\nCook Forest Sawmill Center for the Arts \n\n\n\n\n\n\n\n\n\nOne Week Only!! Weds\, June 12th – Sat\, June 15th at 8:00 p.m.\n\nNeil Simon’s revision of his hugely successful play\, The Odd Couple\, sees the lead characters transformed into Olive Madison and Florence Unger. \n\n\nOlive and her group of girlfriends are enjoying their weekly Trivial Pursuit night in Olive’s messy and ill-equipped apartment. As the game continues\, Florence arrives\, fresh from being dumped by her husband. Fearful that the neurotic Florence might attempt suicide\, Olive invites her to move in as her roommate. However\, Olive and Florence have VERY different personalities. \n\n\nWhere Olive is messy\, untidy\, and unconcerned about the state of her apartment\, Florence is obsessively clean\, tidy\, and obsessed with hygiene. Olive’s easy-going outlook on life soon clashes with Florence’s highly-strung neurotic tendencies\, testing their friendship to the limit. When Olive organizes a double-date with the Costazuela brothers\, their differences come to a head and sparks fly. \n\n\nTickets at door\, on eventbrite\, or call 814-927-6655 \n\n\n\n\n 
URL:https://knoxpa.com/event/the-odd-couple-female-version/2024-06-12/
LOCATION:Cook Forest Sawmill Center for the Arts\, 140 Theater Lane\, Leeper\, 16233\, United States
ATTACH;FMTTYPE=image/jpeg:https://knoxpa.com/wp-content/uploads/2024/05/The-odd-couple-1.jpg
END:VEVENT
END:VCALENDAR