BEGIN:VCALENDAR
VERSION:2.0
PRODID:-//KnoxPa.com - ECPv6.11.2.1//NONSGML v1.0//EN
CALSCALE:GREGORIAN
METHOD:PUBLISH
X-ORIGINAL-URL:https://knoxpa.com
X-WR-CALDESC:Events for KnoxPa.com
REFRESH-INTERVAL;VALUE=DURATION:PT1H
X-Robots-Tag:noindex
X-PUBLISHED-TTL:PT1H
BEGIN:VTIMEZONE
TZID:America/New_York
BEGIN:DAYLIGHT
TZOFFSETFROM:-0500
TZOFFSETTO:-0400
TZNAME:EDT
DTSTART:20240310T070000
END:DAYLIGHT
BEGIN:STANDARD
TZOFFSETFROM:-0400
TZOFFSETTO:-0500
TZNAME:EST
DTSTART:20241103T060000
END:STANDARD
END:VTIMEZONE
BEGIN:VEVENT
DTSTART;TZID=America/New_York:20241123T170000
DTEND;TZID=America/New_York:20241123T200000
DTSTAMP:20260422T120202
CREATED:20241105T203606Z
LAST-MODIFIED:20241105T203649Z
UID:10003153-1732381200-1732392000@knoxpa.com
SUMMARY:Franklin Light Up Night
DESCRIPTION:The 2024 Light Up Night Electric Lights Parade “Songs of the Season” will begin Nov. 23rd at 6:00PM starting on Liberty Street at 13th Street continuing down Liberty Street to 11th Street. Following the parade don’t miss the annual tree lighting and the firework display in Fountain Park put on by Pyrotecnico Fireworks.
URL:https://knoxpa.com/event/franklin-light-up-night/
LOCATION:Franklin Main Street\, Main Street\, Franklin\, 16323\, United States
ATTACH;FMTTYPE=image/jpeg:https://knoxpa.com/wp-content/uploads/2024/11/465649871_948442230644334_1806717549882728831_n.jpg
END:VEVENT
BEGIN:VEVENT
DTSTART;TZID=America/New_York:20241019T160000
DTEND;TZID=America/New_York:20241019T190000
DTSTAMP:20260422T120202
CREATED:20240914T143439Z
LAST-MODIFIED:20240914T143439Z
UID:10002429-1729353600-1729364400@knoxpa.com
SUMMARY:Downtown Franklin's Witch Walk 2024
DESCRIPTION:
URL:https://knoxpa.com/event/downtown-franklins-witch-walk-2024/
LOCATION:Franklin Main Street\, Main Street\, Franklin\, 16323\, United States
ATTACH;FMTTYPE=image/jpeg:https://knoxpa.com/wp-content/uploads/2024/09/Witch-Walk-header.jpg
END:VEVENT
BEGIN:VEVENT
DTSTART;TZID=America/New_York:20241006T120000
DTEND;TZID=America/New_York:20241006T170000
DTSTAMP:20260422T120202
CREATED:20241004T070246Z
LAST-MODIFIED:20241004T074911Z
UID:10002746-1728216000-1728234000@knoxpa.com
SUMMARY:Applefest® in Franklin
DESCRIPTION:Come celebrate the Best Three Days of the year with Applefest 41. The annual festival in downtown Franklin\, PA offers arts and crafts\, food\, live entertainment\, produce vendors\, historical tours\, one of the area’s largest car shows\, evening music and theatre productions\, and much more.\n\nThis year’s festival will take place Oct. 4\, 5 and 6\, 2024. The hub of activity will be in Franklin’s beautiful downtown parks\, as well as along with parts of Liberty\, 12th and Buffalo streets.\n\nVisit the Applefest Facebook page\, follow this event\, or go to www.franklinapplefest.com where a complete schedule will be posted soon.\n\nWe can’t wait to see you there!
URL:https://knoxpa.com/event/applefest-in-franklin/2024-10-06/
LOCATION:Franklin Main Street\, Main Street\, Franklin\, 16323\, United States
ATTACH;FMTTYPE=image/jpeg:https://knoxpa.com/wp-content/uploads/2024/10/Applefest.jpg
END:VEVENT
BEGIN:VEVENT
DTSTART;TZID=America/New_York:20241005T100000
DTEND;TZID=America/New_York:20241005T180000
DTSTAMP:20260422T120202
CREATED:20241004T070246Z
LAST-MODIFIED:20241004T074911Z
UID:10002745-1728122400-1728151200@knoxpa.com
SUMMARY:Applefest® in Franklin
DESCRIPTION:Come celebrate the Best Three Days of the year with Applefest 41. The annual festival in downtown Franklin\, PA offers arts and crafts\, food\, live entertainment\, produce vendors\, historical tours\, one of the area’s largest car shows\, evening music and theatre productions\, and much more.\n\nThis year’s festival will take place Oct. 4\, 5 and 6\, 2024. The hub of activity will be in Franklin’s beautiful downtown parks\, as well as along with parts of Liberty\, 12th and Buffalo streets.\n\nVisit the Applefest Facebook page\, follow this event\, or go to www.franklinapplefest.com where a complete schedule will be posted soon.\n\nWe can’t wait to see you there!
URL:https://knoxpa.com/event/applefest-in-franklin/2024-10-05/
LOCATION:Franklin Main Street\, Main Street\, Franklin\, 16323\, United States
ATTACH;FMTTYPE=image/jpeg:https://knoxpa.com/wp-content/uploads/2024/10/Applefest.jpg
END:VEVENT
BEGIN:VEVENT
DTSTART;TZID=America/New_York:20241004T100000
DTEND;TZID=America/New_York:20241006T180000
DTSTAMP:20260422T120202
CREATED:20241004T070246Z
LAST-MODIFIED:20241004T074911Z
UID:10002744-1728036000-1728237600@knoxpa.com
SUMMARY:Applefest® in Franklin
DESCRIPTION:Come celebrate the Best Three Days of the year with Applefest 41. The annual festival in downtown Franklin\, PA offers arts and crafts\, food\, live entertainment\, produce vendors\, historical tours\, one of the area’s largest car shows\, evening music and theatre productions\, and much more.\n\nThis year’s festival will take place Oct. 4\, 5 and 6\, 2024. The hub of activity will be in Franklin’s beautiful downtown parks\, as well as along with parts of Liberty\, 12th and Buffalo streets.\n\nVisit the Applefest Facebook page\, follow this event\, or go to www.franklinapplefest.com where a complete schedule will be posted soon.\n\nWe can’t wait to see you there!
URL:https://knoxpa.com/event/applefest-in-franklin/2024-10-04/
LOCATION:Franklin Main Street\, Main Street\, Franklin\, 16323\, United States
ATTACH;FMTTYPE=image/jpeg:https://knoxpa.com/wp-content/uploads/2024/10/Applefest.jpg
END:VEVENT
END:VCALENDAR