BEGIN:VCALENDAR
VERSION:2.0
PRODID:-//KnoxPa.com - ECPv6.11.2.1//NONSGML v1.0//EN
CALSCALE:GREGORIAN
METHOD:PUBLISH
X-ORIGINAL-URL:https://knoxpa.com
X-WR-CALDESC:Events for KnoxPa.com
REFRESH-INTERVAL;VALUE=DURATION:PT1H
X-Robots-Tag:noindex
X-PUBLISHED-TTL:PT1H
BEGIN:VTIMEZONE
TZID:America/New_York
BEGIN:DAYLIGHT
TZOFFSETFROM:-0500
TZOFFSETTO:-0400
TZNAME:EDT
DTSTART:20240310T070000
END:DAYLIGHT
BEGIN:STANDARD
TZOFFSETFROM:-0400
TZOFFSETTO:-0500
TZNAME:EST
DTSTART:20241103T060000
END:STANDARD
END:VTIMEZONE
BEGIN:VEVENT
DTSTART;VALUE=DATE:20240729
DTEND;VALUE=DATE:20240803
DTSTAMP:20260425T231948
CREATED:20240721T050052Z
LAST-MODIFIED:20240721T050052Z
UID:10001950-1722211200-1722643199@knoxpa.com
SUMMARY:Knox Pirates Adventure
DESCRIPTION:We are hosting a contest event at our Knox location. NO PURCHASE NECESSARY.  \n3 categories each with their own prize.  \nThe advanced hunt reward is a Black Stone grill. The intermediate hunt reward is a Bluetooth speaker. Participants will be entered into a drawing in the category they have chosen to participate in upon completion of the set requirements. One winner will be picked from each category to win the drawing.  \nThe beginner hunt has an instant reward upon completion that consists of novelty toys such as small stuffed animals and slime.  \nThe contest begins July 29th and will end August 2nd.  \nWinners will be pulled on the end of day August 2nd and contacted the following day.
URL:https://knoxpa.com/event/knox-pirates-adventure/
LOCATION:Heeter Lumber\, 507 E State St\, Knox\,\, Knox\, PA\, 16232\, United States
ATTACH;FMTTYPE=image/jpeg:https://knoxpa.com/wp-content/uploads/2024/07/Knox-Adventure.jpg
END:VEVENT
END:VCALENDAR