BEGIN:VCALENDAR
VERSION:2.0
PRODID:-//KnoxPa.com - ECPv6.11.2.1//NONSGML v1.0//EN
CALSCALE:GREGORIAN
METHOD:PUBLISH
X-WR-CALNAME:KnoxPa.com
X-ORIGINAL-URL:https://knoxpa.com
X-WR-CALDESC:Events for KnoxPa.com
REFRESH-INTERVAL;VALUE=DURATION:PT1H
X-Robots-Tag:noindex
X-PUBLISHED-TTL:PT1H
BEGIN:VTIMEZONE
TZID:America/New_York
BEGIN:DAYLIGHT
TZOFFSETFROM:-0500
TZOFFSETTO:-0400
TZNAME:EDT
DTSTART:20240310T070000
END:DAYLIGHT
BEGIN:STANDARD
TZOFFSETFROM:-0400
TZOFFSETTO:-0500
TZNAME:EST
DTSTART:20241103T060000
END:STANDARD
END:VTIMEZONE
BEGIN:VEVENT
DTSTART;TZID=America/New_York:20240914T150000
DTEND;TZID=America/New_York:20240914T193000
DTSTAMP:20260420T194432
CREATED:20240816T151621Z
LAST-MODIFIED:20240816T151643Z
UID:10002019-1726326000-1726342200@knoxpa.com
SUMMARY:Benefit Dinner in Pine City
DESCRIPTION:Please join us at our Benefit Dinner for Bill Wingard on Saturday\, September 14th from 3:00 p.m. to 8:00 p.m. at Pine City Hall. \nFor only $8 you can eat and support the daily and medical expenses for Bill in his cancer treatments. \nWe look forward in seeing you!!! Thank you. \n 
URL:https://knoxpa.com/event/benefit-dinner-in-pine-city/
LOCATION:Pine City Comunity Hall\, 2713 Pine City Road\, Shippenville\, PA\, 16254\, United States
ATTACH;FMTTYPE=image/jpeg:https://knoxpa.com/wp-content/uploads/2024/08/Bill-Wingard-Benefit-Dinner-header.jpg
END:VEVENT
BEGIN:VEVENT
DTSTART;TZID=America/New_York:20240516T190000
DTEND;TZID=America/New_York:20240516T203000
DTSTAMP:20260420T194433
CREATED:20240201T230841Z
LAST-MODIFIED:20240201T231219Z
UID:10000075-1715886000-1715891400@knoxpa.com
SUMMARY:Pine City Community Hall Bingo
DESCRIPTION:Every 1st & 3rd Thursday of each month (September – May). \nDoors open at 6:00 p.m. and games begin at 7:00 p.m. \nFood and drinks for purchase. \nPine City Community Hall\, 2713 Pine City Rd\, Shippenville\, Pa 16254 \nCome on to Pine City for some Bingo fun!
URL:https://knoxpa.com/event/pine-city-community-hall-bingo/2024-05-16/
LOCATION:Pine City Comunity Hall\, 2713 Pine City Road\, Shippenville\, PA\, 16254\, United States
ATTACH;FMTTYPE=image/jpeg:https://knoxpa.com/wp-content/uploads/2024/02/Knox-Bingo-event-header.jpg
END:VEVENT
BEGIN:VEVENT
DTSTART;TZID=America/New_York:20240502T190000
DTEND;TZID=America/New_York:20240502T203000
DTSTAMP:20260420T194433
CREATED:20240201T230841Z
LAST-MODIFIED:20240201T231219Z
UID:10000074-1714676400-1714681800@knoxpa.com
SUMMARY:Pine City Community Hall Bingo
DESCRIPTION:Every 1st & 3rd Thursday of each month (September – May). \nDoors open at 6:00 p.m. and games begin at 7:00 p.m. \nFood and drinks for purchase. \nPine City Community Hall\, 2713 Pine City Rd\, Shippenville\, Pa 16254 \nCome on to Pine City for some Bingo fun!
URL:https://knoxpa.com/event/pine-city-community-hall-bingo/2024-05-02/
LOCATION:Pine City Comunity Hall\, 2713 Pine City Road\, Shippenville\, PA\, 16254\, United States
ATTACH;FMTTYPE=image/jpeg:https://knoxpa.com/wp-content/uploads/2024/02/Knox-Bingo-event-header.jpg
END:VEVENT
BEGIN:VEVENT
DTSTART;TZID=America/New_York:20240418T190000
DTEND;TZID=America/New_York:20240418T203000
DTSTAMP:20260420T194433
CREATED:20240201T230841Z
LAST-MODIFIED:20240201T231219Z
UID:10000073-1713466800-1713472200@knoxpa.com
SUMMARY:Pine City Community Hall Bingo
DESCRIPTION:Every 1st & 3rd Thursday of each month (September – May). \nDoors open at 6:00 p.m. and games begin at 7:00 p.m. \nFood and drinks for purchase. \nPine City Community Hall\, 2713 Pine City Rd\, Shippenville\, Pa 16254 \nCome on to Pine City for some Bingo fun!
URL:https://knoxpa.com/event/pine-city-community-hall-bingo/2024-04-18/
LOCATION:Pine City Comunity Hall\, 2713 Pine City Road\, Shippenville\, PA\, 16254\, United States
ATTACH;FMTTYPE=image/jpeg:https://knoxpa.com/wp-content/uploads/2024/02/Knox-Bingo-event-header.jpg
END:VEVENT
BEGIN:VEVENT
DTSTART;TZID=America/New_York:20240404T190000
DTEND;TZID=America/New_York:20240404T203000
DTSTAMP:20260420T194433
CREATED:20240201T230841Z
LAST-MODIFIED:20240201T231219Z
UID:10000072-1712257200-1712262600@knoxpa.com
SUMMARY:Pine City Community Hall Bingo
DESCRIPTION:Every 1st & 3rd Thursday of each month (September – May). \nDoors open at 6:00 p.m. and games begin at 7:00 p.m. \nFood and drinks for purchase. \nPine City Community Hall\, 2713 Pine City Rd\, Shippenville\, Pa 16254 \nCome on to Pine City for some Bingo fun!
URL:https://knoxpa.com/event/pine-city-community-hall-bingo/2024-04-04/
LOCATION:Pine City Comunity Hall\, 2713 Pine City Road\, Shippenville\, PA\, 16254\, United States
ATTACH;FMTTYPE=image/jpeg:https://knoxpa.com/wp-content/uploads/2024/02/Knox-Bingo-event-header.jpg
END:VEVENT
BEGIN:VEVENT
DTSTART;TZID=America/New_York:20240321T190000
DTEND;TZID=America/New_York:20240321T203000
DTSTAMP:20260420T194433
CREATED:20240201T230841Z
LAST-MODIFIED:20240201T231219Z
UID:10000071-1711047600-1711053000@knoxpa.com
SUMMARY:Pine City Community Hall Bingo
DESCRIPTION:Every 1st & 3rd Thursday of each month (September – May). \nDoors open at 6:00 p.m. and games begin at 7:00 p.m. \nFood and drinks for purchase. \nPine City Community Hall\, 2713 Pine City Rd\, Shippenville\, Pa 16254 \nCome on to Pine City for some Bingo fun!
URL:https://knoxpa.com/event/pine-city-community-hall-bingo/2024-03-21/
LOCATION:Pine City Comunity Hall\, 2713 Pine City Road\, Shippenville\, PA\, 16254\, United States
ATTACH;FMTTYPE=image/jpeg:https://knoxpa.com/wp-content/uploads/2024/02/Knox-Bingo-event-header.jpg
END:VEVENT
BEGIN:VEVENT
DTSTART;TZID=America/New_York:20240309T100000
DTEND;TZID=America/New_York:20240309T170000
DTSTAMP:20260420T194433
CREATED:20240209T092152Z
LAST-MODIFIED:20240209T092152Z
UID:10000094-1709978400-1710003600@knoxpa.com
SUMMARY:Indoor Craft\, Vendor\, Yard & Bake Sale in Pine City
DESCRIPTION:
URL:https://knoxpa.com/event/indoor-craft-vendor-yard-bake-sale-in-pine-city/
LOCATION:Pine City Comunity Hall\, 2713 Pine City Road\, Shippenville\, PA\, 16254\, United States
ATTACH;FMTTYPE=image/jpeg:https://knoxpa.com/wp-content/uploads/2024/02/Pine-City.jpg
END:VEVENT
BEGIN:VEVENT
DTSTART;TZID=America/New_York:20240307T190000
DTEND;TZID=America/New_York:20240307T203000
DTSTAMP:20260420T194433
CREATED:20240201T230841Z
LAST-MODIFIED:20240201T231219Z
UID:10000070-1709838000-1709843400@knoxpa.com
SUMMARY:Pine City Community Hall Bingo
DESCRIPTION:Every 1st & 3rd Thursday of each month (September – May). \nDoors open at 6:00 p.m. and games begin at 7:00 p.m. \nFood and drinks for purchase. \nPine City Community Hall\, 2713 Pine City Rd\, Shippenville\, Pa 16254 \nCome on to Pine City for some Bingo fun!
URL:https://knoxpa.com/event/pine-city-community-hall-bingo/2024-03-07/
LOCATION:Pine City Comunity Hall\, 2713 Pine City Road\, Shippenville\, PA\, 16254\, United States
ATTACH;FMTTYPE=image/jpeg:https://knoxpa.com/wp-content/uploads/2024/02/Knox-Bingo-event-header.jpg
END:VEVENT
BEGIN:VEVENT
DTSTART;TZID=America/New_York:20240215T190000
DTEND;TZID=America/New_York:20240215T203000
DTSTAMP:20260420T194433
CREATED:20240201T230841Z
LAST-MODIFIED:20240201T231219Z
UID:10000069-1708023600-1708029000@knoxpa.com
SUMMARY:Pine City Community Hall Bingo
DESCRIPTION:Every 1st & 3rd Thursday of each month (September – May). \nDoors open at 6:00 p.m. and games begin at 7:00 p.m. \nFood and drinks for purchase. \nPine City Community Hall\, 2713 Pine City Rd\, Shippenville\, Pa 16254 \nCome on to Pine City for some Bingo fun!
URL:https://knoxpa.com/event/pine-city-community-hall-bingo/2024-02-15/
LOCATION:Pine City Comunity Hall\, 2713 Pine City Road\, Shippenville\, PA\, 16254\, United States
ATTACH;FMTTYPE=image/jpeg:https://knoxpa.com/wp-content/uploads/2024/02/Knox-Bingo-event-header.jpg
END:VEVENT
END:VCALENDAR