BEGIN:VCALENDAR
VERSION:2.0
PRODID:-//KnoxPa.com - ECPv6.11.2.1//NONSGML v1.0//EN
CALSCALE:GREGORIAN
METHOD:PUBLISH
X-ORIGINAL-URL:https://knoxpa.com
X-WR-CALDESC:Events for KnoxPa.com
REFRESH-INTERVAL;VALUE=DURATION:PT1H
X-Robots-Tag:noindex
X-PUBLISHED-TTL:PT1H
BEGIN:VTIMEZONE
TZID:America/New_York
BEGIN:DAYLIGHT
TZOFFSETFROM:-0500
TZOFFSETTO:-0400
TZNAME:EDT
DTSTART:20240310T070000
END:DAYLIGHT
BEGIN:STANDARD
TZOFFSETFROM:-0400
TZOFFSETTO:-0500
TZNAME:EST
DTSTART:20241103T060000
END:STANDARD
END:VTIMEZONE
BEGIN:VEVENT
DTSTART;TZID=America/New_York:20241116T130000
DTEND;TZID=America/New_York:20241116T143000
DTSTAMP:20260422T023345
CREATED:20240817T132601Z
LAST-MODIFIED:20240817T132601Z
UID:10002023-1731762000-1731767400@knoxpa.com
SUMMARY:Pleasantville Community Christmas on Horseback Parade 2024
DESCRIPTION:Every Horse\, Pony & Mule is welcome to join us on November 16th for our 6th annual horse parade. This year we would love to have owners with other livestock that will walk on lead or enjoy being carried through the parade. We do encourage participants to decorate their critters up for the upcoming holiday season!!\nWe would also like the community to come out to watch the Horse Parade proceed through the town. We are all very excited to share our holiday spirit with everyone. After the event Santa will be available at the fire department for photo ops. and we will have Cookies and Hot Chocolate.\nPlease allow room for the horse trailers to exit the premise.\nThe parade starts at 1:00 and parade line up at 12:30 during this time judging will occur for different fun and festive categories. Parade route route has changed this season\, it will be starting on East State Street beside the firehall then be turning onto Merrick Street beside Dollar General we will then proceed down North Main Street by Pleasantville School take a turn onto West State Street and ending the parade at the fire department.\nParking for the Horse & Livestock trailers will be at the firehall and we will have the firetrucks escorting the participants to the beginning of the parade after judging. Also attendees please pick take your manure with you the fireman are kind enough to help us with our event\, we want to leave the parking area clean.\nTara Nason\, Jackee Carlin and Monica Willis will be on the grounds early for set up. Please feel free to come early to decorate you’re critters on site.\n\n12:30 line up1:00 Parade startsSanta & Grinch Photos afterwards in the hall Cookies and Hot Chocolate Free Event open to everyone\n Questions: Please reach out to Tara Nason\, Monica Willis or Jackee Carlin.
URL:https://knoxpa.com/event/pleasantville-community-christmas-on-horseback-parade-2024/
LOCATION:Pleasantville\, 157 W State\, Pleasantville\, 16341\, United States
ATTACH;FMTTYPE=image/jpeg:https://knoxpa.com/wp-content/uploads/2024/08/pleasantville.jpg
END:VEVENT
END:VCALENDAR