BEGIN:VCALENDAR
VERSION:2.0
PRODID:-//KnoxPa.com - ECPv6.11.2.1//NONSGML v1.0//EN
CALSCALE:GREGORIAN
METHOD:PUBLISH
X-WR-CALNAME:KnoxPa.com
X-ORIGINAL-URL:https://knoxpa.com
X-WR-CALDESC:Events for KnoxPa.com
REFRESH-INTERVAL;VALUE=DURATION:PT1H
X-Robots-Tag:noindex
X-PUBLISHED-TTL:PT1H
BEGIN:VTIMEZONE
TZID:America/New_York
BEGIN:DAYLIGHT
TZOFFSETFROM:-0500
TZOFFSETTO:-0400
TZNAME:EDT
DTSTART:20240310T070000
END:DAYLIGHT
BEGIN:STANDARD
TZOFFSETFROM:-0400
TZOFFSETTO:-0500
TZNAME:EST
DTSTART:20241103T060000
END:STANDARD
END:VTIMEZONE
BEGIN:VEVENT
DTSTART;TZID=America/New_York:20241005T100000
DTEND;TZID=America/New_York:20241005T120000
DTSTAMP:20260422T145607
CREATED:20241003T125715Z
LAST-MODIFIED:20241003T125715Z
UID:10002461-1728122400-1728129600@knoxpa.com
SUMMARY:Friends of Cook Forest\, Walk in Penn’s Woods Hike
DESCRIPTION:
URL:https://knoxpa.com/event/friends-of-cook-forest-walk-in-penns-woods-hike/
LOCATION:Ridge Campground At Cook Forest\, Leeper\, 16233\, United States
ATTACH;FMTTYPE=image/jpeg:https://knoxpa.com/wp-content/uploads/2024/10/Penns-Woods-Walk-header.jpg
END:VEVENT
END:VCALENDAR