BEGIN:VCALENDAR
VERSION:2.0
PRODID:-//KnoxPa.com - ECPv6.11.2.1//NONSGML v1.0//EN
CALSCALE:GREGORIAN
METHOD:PUBLISH
X-ORIGINAL-URL:https://knoxpa.com
X-WR-CALDESC:Events for KnoxPa.com
REFRESH-INTERVAL;VALUE=DURATION:PT1H
X-Robots-Tag:noindex
X-PUBLISHED-TTL:PT1H
BEGIN:VTIMEZONE
TZID:America/New_York
BEGIN:DAYLIGHT
TZOFFSETFROM:-0500
TZOFFSETTO:-0400
TZNAME:EDT
DTSTART:20240310T070000
END:DAYLIGHT
BEGIN:STANDARD
TZOFFSETFROM:-0400
TZOFFSETTO:-0500
TZNAME:EST
DTSTART:20241103T060000
END:STANDARD
END:VTIMEZONE
BEGIN:VEVENT
DTSTART;TZID=America/New_York:20240225T080000
DTEND;TZID=America/New_York:20240225T110000
DTSTAMP:20260421T115317
CREATED:20240127T194028Z
LAST-MODIFIED:20240203T221403Z
UID:10000089-1708848000-1708858800@knoxpa.com
SUMMARY:Knox Sons of the American Legion Breakfast!
DESCRIPTION:Hungry? This should do the trick!  \nPictured is the special #8 the Steve special which is a #6 Bundy mess ( eggs\, meat\, veggies\, potatoes\, cheese all cooked together) on top of a pancake\, with an egg on top and choice of meat and toast on the side. It is a heaping pile of deliciousness!  \nNot to worry\, while there have been several that have devoured it\, it’s a lot of food for most so there are many other popular specials along with a kids menu with smaller portions.  \nAll meals come with a bottomless cup of coffee or glass of water with milk\, oj\, pop etc available for additional charge.  \nOpen to the public to eat in or take out at 797-5615 served Sundays only from 8:00 am  – 11:00 am.  \n The last breakfast will be Sunday March 3rd. So that leaves February 4\, 11\, 18\, 25 and March 3rd to enjoy our homemade style breakfast.\n \nHope to see you there! \n  \n  \n 
URL:https://knoxpa.com/event/knox-sons-of-the-american-legion-breakfast-2/2024-02-25/
LOCATION:Sons of the American Legion Breakfast\, 70 Veterans Rd\, Knox\, 16232\, United States
ATTACH;FMTTYPE=image/jpeg:https://knoxpa.com/wp-content/uploads/2024/01/American-Legion.jpg
END:VEVENT
BEGIN:VEVENT
DTSTART;TZID=America/New_York:20240218T080000
DTEND;TZID=America/New_York:20240218T110000
DTSTAMP:20260421T115317
CREATED:20240127T194028Z
LAST-MODIFIED:20240203T221403Z
UID:10000088-1708243200-1708254000@knoxpa.com
SUMMARY:Knox Sons of the American Legion Breakfast!
DESCRIPTION:Hungry? This should do the trick!  \nPictured is the special #8 the Steve special which is a #6 Bundy mess ( eggs\, meat\, veggies\, potatoes\, cheese all cooked together) on top of a pancake\, with an egg on top and choice of meat and toast on the side. It is a heaping pile of deliciousness!  \nNot to worry\, while there have been several that have devoured it\, it’s a lot of food for most so there are many other popular specials along with a kids menu with smaller portions.  \nAll meals come with a bottomless cup of coffee or glass of water with milk\, oj\, pop etc available for additional charge.  \nOpen to the public to eat in or take out at 797-5615 served Sundays only from 8:00 am  – 11:00 am.  \n The last breakfast will be Sunday March 3rd. So that leaves February 4\, 11\, 18\, 25 and March 3rd to enjoy our homemade style breakfast.\n \nHope to see you there! \n  \n  \n 
URL:https://knoxpa.com/event/knox-sons-of-the-american-legion-breakfast-2/2024-02-18/
LOCATION:Sons of the American Legion Breakfast\, 70 Veterans Rd\, Knox\, 16232\, United States
ATTACH;FMTTYPE=image/jpeg:https://knoxpa.com/wp-content/uploads/2024/01/American-Legion.jpg
END:VEVENT
BEGIN:VEVENT
DTSTART;TZID=America/New_York:20240211T080000
DTEND;TZID=America/New_York:20240211T110000
DTSTAMP:20260421T115317
CREATED:20240127T194028Z
LAST-MODIFIED:20240203T221403Z
UID:10000087-1707638400-1707649200@knoxpa.com
SUMMARY:Knox Sons of the American Legion Breakfast!
DESCRIPTION:Hungry? This should do the trick!  \nPictured is the special #8 the Steve special which is a #6 Bundy mess ( eggs\, meat\, veggies\, potatoes\, cheese all cooked together) on top of a pancake\, with an egg on top and choice of meat and toast on the side. It is a heaping pile of deliciousness!  \nNot to worry\, while there have been several that have devoured it\, it’s a lot of food for most so there are many other popular specials along with a kids menu with smaller portions.  \nAll meals come with a bottomless cup of coffee or glass of water with milk\, oj\, pop etc available for additional charge.  \nOpen to the public to eat in or take out at 797-5615 served Sundays only from 8:00 am  – 11:00 am.  \n The last breakfast will be Sunday March 3rd. So that leaves February 4\, 11\, 18\, 25 and March 3rd to enjoy our homemade style breakfast.\n \nHope to see you there! \n  \n  \n 
URL:https://knoxpa.com/event/knox-sons-of-the-american-legion-breakfast-2/2024-02-11/
LOCATION:Sons of the American Legion Breakfast\, 70 Veterans Rd\, Knox\, 16232\, United States
ATTACH;FMTTYPE=image/jpeg:https://knoxpa.com/wp-content/uploads/2024/01/American-Legion.jpg
END:VEVENT
BEGIN:VEVENT
DTSTART;TZID=America/New_York:20240204T080000
DTEND;TZID=America/New_York:20240204T110000
DTSTAMP:20260421T115317
CREATED:20240127T194028Z
LAST-MODIFIED:20240203T221403Z
UID:10000022-1707033600-1707044400@knoxpa.com
SUMMARY:Knox Sons of the American Legion Breakfast!
DESCRIPTION:Hungry? This should do the trick!  \nPictured is the special #8 the Steve special which is a #6 Bundy mess ( eggs\, meat\, veggies\, potatoes\, cheese all cooked together) on top of a pancake\, with an egg on top and choice of meat and toast on the side. It is a heaping pile of deliciousness!  \nNot to worry\, while there have been several that have devoured it\, it’s a lot of food for most so there are many other popular specials along with a kids menu with smaller portions.  \nAll meals come with a bottomless cup of coffee or glass of water with milk\, oj\, pop etc available for additional charge.  \nOpen to the public to eat in or take out at 797-5615 served Sundays only from 8:00 am  – 11:00 am.  \n The last breakfast will be Sunday March 3rd. So that leaves February 4\, 11\, 18\, 25 and March 3rd to enjoy our homemade style breakfast.\n \nHope to see you there! \n  \n  \n 
URL:https://knoxpa.com/event/knox-sons-of-the-american-legion-breakfast-2/2024-02-04/
LOCATION:Sons of the American Legion Breakfast\, 70 Veterans Rd\, Knox\, 16232\, United States
ATTACH;FMTTYPE=image/jpeg:https://knoxpa.com/wp-content/uploads/2024/01/American-Legion.jpg
END:VEVENT
BEGIN:VEVENT
DTSTART;TZID=America/New_York:20240128T080000
DTEND;TZID=America/New_York:20240128T110000
DTSTAMP:20260421T115317
CREATED:20240127T193717Z
LAST-MODIFIED:20240127T193742Z
UID:10000019-1706428800-1706439600@knoxpa.com
SUMMARY:Knox Sons of the American Legion Breakfast!
DESCRIPTION:Hungry? This should do the trick!  \nPictured is the special #8 the Steve special which is a #6 Bundy mess ( eggs\, meat\, veggies\, potatoes\, cheese all cooked together) on top of a pancake\, with an egg on top and choice of meat and toast on the side. It is a heaping pile of deliciousness!  \nNot to worry\, while there have been several that have devoured it\, it’s a lot of food for most so there are many other popular specials along with a kids menu with smaller portions.  \nAll meals come with a bottomless cup of coffee or glass of water with milk\, oj\, pop etc available for additional charge.  \nOpen to the public to eat in or take out at 797-5615 served Sundays only from 8:00 am  – 11:00 am.  \nHope to see you there! \n 
URL:https://knoxpa.com/event/knox-sons-of-the-american-legion-breakfast-and-more/
LOCATION:Sons of the American Legion Breakfast\, 70 Veterans Rd\, Knox\, 16232\, United States
ATTACH;FMTTYPE=image/jpeg:https://knoxpa.com/wp-content/uploads/2024/01/American-Legion.jpg
END:VEVENT
END:VCALENDAR