BEGIN:VCALENDAR
VERSION:2.0
PRODID:-//KnoxPa.com - ECPv6.11.2.1//NONSGML v1.0//EN
CALSCALE:GREGORIAN
METHOD:PUBLISH
X-ORIGINAL-URL:https://knoxpa.com
X-WR-CALDESC:Events for KnoxPa.com
REFRESH-INTERVAL;VALUE=DURATION:PT1H
X-Robots-Tag:noindex
X-PUBLISHED-TTL:PT1H
BEGIN:VTIMEZONE
TZID:America/New_York
BEGIN:DAYLIGHT
TZOFFSETFROM:-0500
TZOFFSETTO:-0400
TZNAME:EDT
DTSTART:20240310T070000
END:DAYLIGHT
BEGIN:STANDARD
TZOFFSETFROM:-0400
TZOFFSETTO:-0500
TZNAME:EST
DTSTART:20241103T060000
END:STANDARD
BEGIN:DAYLIGHT
TZOFFSETFROM:-0500
TZOFFSETTO:-0400
TZNAME:EDT
DTSTART:20250309T070000
END:DAYLIGHT
BEGIN:STANDARD
TZOFFSETFROM:-0400
TZOFFSETTO:-0500
TZNAME:EST
DTSTART:20251102T060000
END:STANDARD
END:VTIMEZONE
BEGIN:VEVENT
DTSTART;TZID=America/New_York:20250505T180000
DTEND;TZID=America/New_York:20250505T200000
DTSTAMP:20260421T022835
CREATED:20240304T200607Z
LAST-MODIFIED:20250423T155403Z
UID:10000307-1746468000-1746475200@knoxpa.com
SUMMARY:2025 Savory Sampling in Clarion
DESCRIPTION:CELEBRATE CINCO DE MAYO WITH US!! \n\n\n\nGet your Savory Sampling Tickets before April 25th and you’ll get FREE Pre-Savory Sips entry!! \n\n\n\nBuy online https://www.zeffy.com/ticketing/2025-savory-sampling\n\nUSE PROMO CODE EARLYBIRD \n\nYou can also call the office at 814.226.8760 to reserve your spot or message us here.\n\nEvent by United Way of Clarion County \n  \n 
URL:https://knoxpa.com/event/2025-savory-sampling-in-clarion/
LOCATION:The Clarion Mall\, 22631 PA-68\, Clarion\, PA\, 16214\, United States
ATTACH;FMTTYPE=image/jpeg:https://knoxpa.com/wp-content/uploads/2024/03/Savory-Sampling-1.jpg
END:VEVENT
BEGIN:VEVENT
DTSTART;TZID=America/New_York:20250405T100000
DTEND;TZID=America/New_York:20250405T170000
DTSTAMP:20260421T022835
CREATED:20250220T180134Z
LAST-MODIFIED:20250220T180134Z
UID:10003559-1743847200-1743872400@knoxpa.com
SUMMARY:Clarion Mall Spring Fling Craft Sale
DESCRIPTION:Come out to the craft show and shop our booth for our first event of the year! We will bring our best selection of houseplants! Follow our page for updates and click “going” to the event to see previews of what we will be bringing. We will have a raffle basket at the show- free to sign up. Check out all of the great crafters at the show this day.
URL:https://knoxpa.com/event/clarion-mall-spring-fling-craft-sale/
LOCATION:The Clarion Mall\, 22631 PA-68\, Clarion\, PA\, 16214\, United States
ATTACH;FMTTYPE=image/png:https://knoxpa.com/wp-content/uploads/2025/02/Plant-Sale.png
END:VEVENT
BEGIN:VEVENT
DTSTART;TZID=America/New_York:20241219T130000
DTEND;TZID=America/New_York:20241219T143000
DTSTAMP:20260421T022835
CREATED:20240307T180912Z
LAST-MODIFIED:20241112T113510Z
UID:10000311-1734613200-1734618600@knoxpa.com
SUMMARY:Paint & Sip at The Clarion Mall
DESCRIPTION:Monthly Paint and Sip – Dec 19th\, 1:00 p.m. \nUnleash your inner artist and join us for a delightful afternoon of painting and sipping! \n\n Date: Dec 19th\, 2024 Time: 1:00 p.m. Location: Clarion Mall \n\n What to Expect:-Step-by-step painting guidance from our talented instructor Chloe Boden-All painting materials provided.-Complimentary drinks and snacks.-Take home your masterpiece at the end of the event.-We will be painting a winter scene.-A fun and social atmosphere for all skill levels.\n\n Cost is $10\, which includes all supplies. Due day of event.\nMUST RSVP – CALL/TEXT 814-227-3156\nDon’t wait\, seats fill fast!\n\nThis event is brought to you by The Arc of Clarion and Venango Counties Inc and the Clarion Mall.\n\n\n  \n 
URL:https://knoxpa.com/event/sip-create-crafts-at-the-clarion-mall/
LOCATION:The Clarion Mall\, 22631 PA-68\, Clarion\, PA\, 16214\, United States
ATTACH;FMTTYPE=image/jpeg:https://knoxpa.com/wp-content/uploads/2024/03/Paint-and-Sip-at-the-Clarion-Mall.jpg
END:VEVENT
BEGIN:VEVENT
DTSTART;TZID=America/New_York:20241213T170000
DTEND;TZID=America/New_York:20241213T190000
DTSTAMP:20260421T022835
CREATED:20241106T160508Z
LAST-MODIFIED:20241106T160508Z
UID:10003163-1734109200-1734116400@knoxpa.com
SUMMARY:The Gingerbread Competition at The Clarion Mall!
DESCRIPTION:The Gingerbread Competition \nGet ready to bring your creativity to life at The Gingerbread Competition on December 13th at the Clarion Mall!  \n\nDate: December 13\, 2024\nTime: 5:00 p.m. – 7:00 p.m.Cost: $10\n(Supplies will be provided\, but we encourage participants to bring a bag of candy to share with others) \n\n There will be a Hot Cocoa Bar to keep you warm and cozy while you decorate!\n All ages are welcome\, so gather the whole family for some festive fun!\n RSVP is a must to ensure we have enough supplies for everyone! Call/text by December 6th to 814-227-3156.\n Come build your masterpiece\, sip some cocoa\, and enjoy the holiday spirit with us! Judging will take place at the end of the event. Wear an ugly sweater for bonus points! \n\nThis event is brought to you by The Arc of Clarion and Venango Counties Inc. and The Clarion Mall.
URL:https://knoxpa.com/event/the-gingerbread-competition-at-the-clarion-mall/
LOCATION:The Clarion Mall\, 22631 PA-68\, Clarion\, PA\, 16214\, United States
ATTACH;FMTTYPE=image/jpeg:https://knoxpa.com/wp-content/uploads/2024/11/The-Gingerbread-Competition.jpg
END:VEVENT
BEGIN:VEVENT
DTSTART;TZID=America/New_York:20241122T170000
DTEND;TZID=America/New_York:20241122T190000
DTSTAMP:20260421T022835
CREATED:20241004T075204Z
LAST-MODIFIED:20241004T075204Z
UID:10002747-1732294800-1732302000@knoxpa.com
SUMMARY:Friendsgiving at The Clarion Mall
DESCRIPTION:Friendsgiving 2024 \n\nDate: Friday\, November 22nd\nTime: Starting at 5:00 p.m.Location: Clarion Mall\n\nGather your friends and family for an evening of food\, fun\, and community!  We’ll be coming together to share delicious dishes and enjoy live music from the talented Mitch Littler. \n\n Bring a dish to share — whether it’s your signature side\, a favorite dessert\, or something new to try! There will be plenty of space to spread out and enjoy a feast with old friends and new.\n\nIf you are unable to bring a dish\, bring $5 instead. Your donation of $5 will go towards future community events.\n\nThis event is open to the pubic\, and family friendly\, so feel free to invite others who would love to join in the celebration. \n\nThis event is brought to you by The Arc of Clarion and Venango Counties Inc. and the Clarion Mall.
URL:https://knoxpa.com/event/friendsgiving-at-the-clarion-mall/
LOCATION:The Clarion Mall\, 22631 PA-68\, Clarion\, PA\, 16214\, United States
ATTACH;FMTTYPE=image/jpeg:https://knoxpa.com/wp-content/uploads/2024/10/Friendsgiving.jpg
END:VEVENT
BEGIN:VEVENT
DTSTART;TZID=America/New_York:20241026T120000
DTEND;TZID=America/New_York:20241026T140000
DTSTAMP:20260421T022835
CREATED:20241018T152114Z
LAST-MODIFIED:20241018T152541Z
UID:10002822-1729944000-1729951200@knoxpa.com
SUMMARY:The Clarion Mall's Halloween Kiddie Parade & Trunk-Or-Treat
DESCRIPTION:
URL:https://knoxpa.com/event/the-clarion-malls-halloween-kiddie-parade-trunk-or-treat/
LOCATION:The Clarion Mall\, 22631 PA-68\, Clarion\, PA\, 16214\, United States
ATTACH;FMTTYPE=image/png:https://knoxpa.com/wp-content/uploads/2024/10/Halloween-Kiddie-Parade-STD-400x400-1.png
END:VEVENT
BEGIN:VEVENT
DTSTART;TZID=America/New_York:20241025T170000
DTEND;TZID=America/New_York:20241025T210000
DTSTAMP:20260421T022835
CREATED:20241009T123630Z
LAST-MODIFIED:20241009T123630Z
UID:10002763-1729875600-1729890000@knoxpa.com
SUMMARY:The Haunted Masquerade Ball
DESCRIPTION: The Haunted Masquerade BallDate: October 25thTime: Doors at 5:00 PMLocation: The Clarion MallCover Charge: $5\n\nGet ready for a night of thrills at The Haunted Masquerade Ball!\n\nLive music by local band Fuzzii will be serving up some spine-chilling tunes to keep you moving all night long. Music will begin at 6:00 pm.\n Costume Contest: Dress to impress in your most creative\, spooky\, or glamorous outfit for a chance to win!\n\n Food & Drinks: Delicious pizza by the slice and mocktails will be available for purchase\, keeping you fueled for a night of dancing and fun.\nHeartsmith Homestead will be hosting a mask-making activity.\n\nMore games and activities to come!\nThis event is open to the public and family-friendly!See you at the ball… if you dare! \n\nDon’t miss out on this spook-tacular event brought to you by The Arc of Clarion and Venango Counties and the Clarion Mall!\nFor questions\, call/text 814-227-3156.
URL:https://knoxpa.com/event/the-haunted-masquerade-ball/
LOCATION:The Clarion Mall\, 22631 PA-68\, Clarion\, PA\, 16214\, United States
ATTACH;FMTTYPE=image/jpeg:https://knoxpa.com/wp-content/uploads/2024/10/The-Clarion-Mall-Masquerade-Party.jpg
END:VEVENT
BEGIN:VEVENT
DTSTART;TZID=America/New_York:20240928T100000
DTEND;TZID=America/New_York:20240928T140000
DTSTAMP:20260421T022835
CREATED:20240726T190654Z
LAST-MODIFIED:20240726T190654Z
UID:10001963-1727517600-1727532000@knoxpa.com
SUMMARY:Clarion County Coalition for Suicide Prevention Kids’ Carnival
DESCRIPTION:The “Clarion County Coalition for Suicide Prevention Kids’ Carnival” will be held on Saturday\, September 28\, 2024 in the Clarion Mall parking lot from 10:00 am to 2:00 pm.\n\nWith entertainment\, games\, and activities\, this FREE event is great family fun for everyone!\n\nTo register your business or organization as an entry for the Kids’ Carnival\, please contact the Clarion Area Chamber of Business & Industry at 814-226-9161 or email Tammy@clarionpa.com
URL:https://knoxpa.com/event/clarion-county-coalition-for-suicide-prevention-kids-carnival/
LOCATION:The Clarion Mall\, 22631 PA-68\, Clarion\, PA\, 16214\, United States
ATTACH;FMTTYPE=image/jpeg:https://knoxpa.com/wp-content/uploads/2024/07/Kids-Carnival.jpg
END:VEVENT
BEGIN:VEVENT
DTSTART;TZID=America/New_York:20240927T180000
DTEND;TZID=America/New_York:20240927T210000
DTSTAMP:20260421T022835
CREATED:20240817T190241Z
LAST-MODIFIED:20240817T190241Z
UID:10002025-1727460000-1727470800@knoxpa.com
SUMMARY:Murder Mystery Dinner Theater
DESCRIPTION:Have you ever been to a Murder Mystery Dinner Theater? The Arc of Clarion and Venango Counties Inc. is hosting The Speakeasy Slaying next month at the Clarion Mall!
URL:https://knoxpa.com/event/murder-mystery-dinner-theater/
LOCATION:The Clarion Mall\, 22631 PA-68\, Clarion\, PA\, 16214\, United States
ATTACH;FMTTYPE=image/jpeg:https://knoxpa.com/wp-content/uploads/2024/08/Murder-Mystery-header.jpg
END:VEVENT
BEGIN:VEVENT
DTSTART;TZID=America/New_York:20240927T180000
DTEND;TZID=America/New_York:20240927T210000
DTSTAMP:20260421T022835
CREATED:20240709T184458Z
LAST-MODIFIED:20240709T184458Z
UID:10001894-1727460000-1727470800@knoxpa.com
SUMMARY:The Speakeasy Slaying: A Murder Mystery Dinner!
DESCRIPTION:The Speakeasy Slaying: A Murder Mystery Dinner!\n\nDate: September 27thTime: 6:00 PMLocation: The Clarion MallTickets: $30 (Purchase in advance at The Arc of Clarion and Venango Counties Inc or the Clarion Mall)Get your tickets now! Limited availability!\n\nStep into the roaring 1920s for an evening of mystery\, intrigue\, and entertainment at our Speakeasy Slaying Murder Mystery Dinner!\n\n Catering by: Daddy’s Dessert by: Clarion Vocational Services Drinks available to purchase: Punxsutawney Brewing Company\n\nEnjoy a delectable full course meal\, live music by Fantastic Planet\, dance routine by members of the Dance Studio\, and an engaging theater production that will keep you on the edge of your seat. Gather your friends and dress in your best 1920s attire (or formal wear) for a night you won’t forget!\n\n Unravel the mystery. Enjoy the night. Make memories.\n\nFor more information\, phone 814-227-3156 or email cboden@thearcclarion.orgThis event is brought to you by The Arc of Clarion and Venango Counties and the Clarion Mall.
URL:https://knoxpa.com/event/the-speakeasy-slaying-a-murder-mystery-dinner/
LOCATION:The Clarion Mall\, 22631 PA-68\, Clarion\, PA\, 16214\, United States
ATTACH;FMTTYPE=image/jpeg:https://knoxpa.com/wp-content/uploads/2024/07/The-Clarion-Mall-Murder-Mystery-header.jpg
END:VEVENT
BEGIN:VEVENT
DTSTART;TZID=America/New_York:20240824T110000
DTEND;TZID=America/New_York:20240824T160000
DTSTAMP:20260421T022835
CREATED:20240419T051242Z
LAST-MODIFIED:20240419T051242Z
UID:10000395-1724497200-1724515200@knoxpa.com
SUMMARY:The Clarion Mall Cruise-In
DESCRIPTION:50/50 Raffle\, Door Prizes. Show cars will draw for cash prizes! Cruise-In located towards the right of the Dunham’s Sports store in the front of the Mall.  \nMust be present\, entered\, and parked by 1 p.m. and remain parked to be eligible for prizes and cash drawings at 3 p.m.  \nFood available nearby. \n \n 
URL:https://knoxpa.com/event/the-clarion-mall-cruise-in/
LOCATION:The Clarion Mall\, 22631 PA-68\, Clarion\, PA\, 16214\, United States
ATTACH;FMTTYPE=image/jpeg:https://knoxpa.com/wp-content/uploads/2024/04/The-Clarion-Mall-Cruise-In.jpg
END:VEVENT
BEGIN:VEVENT
DTSTART;TZID=America/New_York:20240703T160000
DTEND;TZID=America/New_York:20240703T220000
DTSTAMP:20260421T022835
CREATED:20240419T054510Z
LAST-MODIFIED:20240628T120626Z
UID:10000466-1720022400-1720044000@knoxpa.com
SUMMARY:I Love Clarion Celebration
DESCRIPTION:The Clarion Area Chamber of Business & Industry will hold the annual “I Love Clarion” Celebration co-sponsored by Penn Highlands Healthcare and Pennsylvania American Water on Wednesday\, July 3\, 2024 at The Clarion Mall.\n\nActivities will begin at The Clarion Mall at 4:00 p.m. with food vendors\, activities\, children’s games\, and more.\n\nAt 7:00 p.m.\, we will have the Presentation of Colors\, a gift presentation to all Veterans in attendance\, and the singing of the National Anthem.\n\nA live band (to be announced) will take the stage at 7:30 p.m. and will play until 9:40 p.m. followed by fireworks presented by Pyrotecnico beginning around 9:45 p.m.\n\nThis community event is always free thanks to our generous sponsors: Penn Highlands Healthcare and Pennsylvania American Water.\n\nSo\, plan to make a day in Clarion on Wednesday\, July 3rd\, 2024 for the “I Love Clarion\,” celebration co-sponsored by Penn Highlands Healthcare and Pennsylvania American Water.
URL:https://knoxpa.com/event/i-love-clarion-celebration/
LOCATION:The Clarion Mall\, 22631 PA-68\, Clarion\, PA\, 16214\, United States
ATTACH;FMTTYPE=image/jpeg:https://knoxpa.com/wp-content/uploads/2024/04/I-love-Clarion-header.jpg
END:VEVENT
BEGIN:VEVENT
DTSTART;TZID=America/New_York:20240608T110000
DTEND;TZID=America/New_York:20240608T160000
DTSTAMP:20260421T022835
CREATED:20240523T223013Z
LAST-MODIFIED:20240523T223013Z
UID:10001332-1717844400-1717862400@knoxpa.com
SUMMARY:The Clarion Mall Cruise-In
DESCRIPTION:Event by The Knight Cruisers NWPA\n\n\n\n\n\n\n\n\n\n\n\n\nThe Clarion Mall\n\n\n\n\n\n\n\n\n\n\n\n\nDuration: 5 hr\n\n\n\n\n\n\n\n\nRAIN OR SHINE! 50/50 Raffle\, Door Prizes. Show cars will draw for cash prizes! \nCruise-In located towards the right of the Dunham’s Sports store in the front of the Mall. \nMust be present\, entered\, and parked by 1:00 p.m. and remain parked to be eligible for prizes and cash drawings at 3:00 p.m. \nFood available nearby.
URL:https://knoxpa.com/event/the-clarion-mall-cruise-in-2/
LOCATION:The Clarion Mall\, 22631 PA-68\, Clarion\, PA\, 16214\, United States
ATTACH;FMTTYPE=image/jpeg:https://knoxpa.com/wp-content/uploads/2024/05/The-Clarion-Mall-Cruise-In.jpg
END:VEVENT
BEGIN:VEVENT
DTSTART;TZID=America/New_York:20240519T120000
DTEND;TZID=America/New_York:20240519T160000
DTSTAMP:20260421T022835
CREATED:20240318T003119Z
LAST-MODIFIED:20240318T003119Z
UID:10000335-1716120000-1716134400@knoxpa.com
SUMMARY:Children's Day at the Mall
DESCRIPTION:For more information. \nCommunity groups and organizations offering resources and information for families.\nFree crafts and activities for kids.\nStory Time with Guest Readers.\nEntertainment.\nEarly Intervention. \nEvent by United Way of Clarion County\, Clarion County Dolly Parton’s Imagination Library and Melissa Dehner Fulton
URL:https://knoxpa.com/event/childrens-day-at-the-mall/
LOCATION:The Clarion Mall\, 22631 PA-68\, Clarion\, PA\, 16214\, United States
ATTACH;FMTTYPE=image/jpeg:https://knoxpa.com/wp-content/uploads/2024/03/Kids-Day-at-the-Mall.jpg
END:VEVENT
BEGIN:VEVENT
DTSTART;TZID=America/New_York:20240309T100000
DTEND;TZID=America/New_York:20240309T170000
DTSTAMP:20260421T022835
CREATED:20240304T124255Z
LAST-MODIFIED:20240304T124255Z
UID:10000305-1709978400-1710003600@knoxpa.com
SUMMARY:Houseplant Sale at The Clarion Mall
DESCRIPTION:Join us for a house plant sale during The Clarion Mall craft show.  \nWe will have a variety of beautiful house plants available for purchase.  \nCome in to sign up for all of the great giveaways!!  \nKids will want to come in and see the Easter Bunny! \n 
URL:https://knoxpa.com/event/houseplant-sale-at-the-clarion-mall/
LOCATION:The Clarion Mall\, 22631 PA-68\, Clarion\, PA\, 16214\, United States
ATTACH;FMTTYPE=image/jpeg:https://knoxpa.com/wp-content/uploads/2024/03/TWIGS-Tree-Nursery-Plant-Sale.jpg
END:VEVENT
BEGIN:VEVENT
DTSTART;TZID=America/New_York:20240309T100000
DTEND;TZID=America/New_York:20240309T170000
DTSTAMP:20260421T022835
CREATED:20240226T180644Z
LAST-MODIFIED:20240226T180701Z
UID:10000291-1709978400-1710003600@knoxpa.com
SUMMARY:Spring Fling at The Clarion Mall
DESCRIPTION: 
URL:https://knoxpa.com/event/spring-fling-at-the-clarion-mall/
LOCATION:The Clarion Mall\, 22631 PA-68\, Clarion\, PA\, 16214\, United States
ATTACH;FMTTYPE=image/jpeg:https://knoxpa.com/wp-content/uploads/2024/02/Spring-Fling-at-the-Mall-Event-header.jpg
END:VEVENT
BEGIN:VEVENT
DTSTART;TZID=America/New_York:20240216T120000
DTEND;TZID=America/New_York:20240216T160000
DTSTAMP:20260421T022835
CREATED:20240126T193658Z
LAST-MODIFIED:20240126T193658Z
UID:10000015-1708084800-1708099200@knoxpa.com
SUMMARY:6th Annual Beer\, Wine and Shine Festival
DESCRIPTION:Event Link: https://www.facebook.com/events/751252009687837/?ref=newsfeed\n\nCome enjoy an afternoon sampling from the finest breweries\, wineries\, & distilleries. There will be a variety of crafters set up to shop between sampling\, Chinese auction\, 50/50 & local restaurants will be set up to get lunch! This event will be located inside the Clarion Mall. Come support Lucky Cats Get N Fixed so we can continue to help stop the community’s overpopulation of cats through our TNR program. (TRAP NEUTER RETURN).  \n\nPresale Tickets – $25.00 (entered to win door prize)\nTickets sold at event – $30.00 (not entered in door prize)\nComes with a free wine glass\nNon-Sampling/Shopping – $5.00\n\nTICKETS AVAILABLE SOON- will post a list of local businesses selling them. You can also purchase tickets through PayPal\n\nluckycatsgetnfixed@gmail.com\nMUST BE 21 to ATTEND\nNo outside pets allowed\n(MALL RULES)\n 
URL:https://knoxpa.com/event/6th-annual-beer-wine-and-shine-festival/
LOCATION:The Clarion Mall\, 22631 PA-68\, Clarion\, PA\, 16214\, United States
ATTACH;FMTTYPE=image/jpeg:https://knoxpa.com/wp-content/uploads/2024/01/Beer-Wine-and-Shine-Event.jpg
END:VEVENT
BEGIN:VEVENT
DTSTART;TZID=America/New_York:20240215T130000
DTEND;TZID=America/New_York:20240215T140000
DTSTAMP:20260421T022835
CREATED:20240207T174312Z
LAST-MODIFIED:20240207T180456Z
UID:10000092-1708002000-1708005600@knoxpa.com
SUMMARY:Monthly Paint and Sip: A Splash of Art and Mocktail Magic!
DESCRIPTION:Monthly Paint and Sip: A Splash of Art and Mocktail Magic!\n\nUnleash your creativity and indulge in a night of painting\, sipping mocktails\, and creating memories at our Monthly Paint and Sip! \n\nNext Event:\n-Thursday\, Feb 15th at the Clarion Mall.\n-Friday\, Feb 16th at the Oil City Library.\n-Class will begin at 1pm.\nWhat’s Included:\nExpert-Guided Painting Session with Local Artist Chloe Boden\nMocktails and Refreshments Provided\nArt Supplies for Your Masterpiece\nRelaxed and Fun Atmosphere\n\nReservation Details:\nMust reserve your spot one week in advance.\nCall/text 814-227-3156 to secure your easel.\nCost: $10 per Person\n\nLimited Spots Available!\nMake it a date\, girls’ day\, or a solo artistic escape. Join us for an evening of laughter\, creativity\, and mocktail sipping!\n\nThis event is brought to you by The Arc of Clarion and Venango Counties Inc and the Clarion Mall. \n\n\nLet Your Imagination Flow – Paint\, Sip\, and Create Magic on Canvas! \n\n\n 
URL:https://knoxpa.com/event/monthly-paint-and-sip-a-splash-of-art-and-mocktail-magic/
LOCATION:The Clarion Mall\, 22631 PA-68\, Clarion\, PA\, 16214\, United States
ATTACH;FMTTYPE=image/jpeg:https://knoxpa.com/wp-content/uploads/2024/02/Paint-n-Sip-at-the-Clarion-Mall.jpg
END:VEVENT
BEGIN:VEVENT
DTSTART;TZID=America/New_York:20240209T173000
DTEND;TZID=America/New_York:20240209T200000
DTSTAMP:20260421T022835
CREATED:20240127T203805Z
LAST-MODIFIED:20240127T204021Z
UID:10000028-1707499800-1707508800@knoxpa.com
SUMMARY:Adult Valentine's Party at the Clarion Mall
DESCRIPTION:Click for more information. \nAdult Valentine’s Day Party!\n\nJoin us for a magical night of romance\, laughter\, and unforgettable moments! \n\nDate: February 9th\, 2024.\nTime: Doors open at 5:30 p.m.\nVenue: The Clarion Mall\n\nHighlights:\nElegant Dinner at 6:00 p.m.\nMeatball Marinara Pasta\, Side Salad\, Dinner Rolls and Delectable Dessert included.Dance the Night Away with Live Music & DJ\nBYOB (Bring Your Own Beverage)\n\nReservations: Call/text by Feb 2nd: 814-227-3156\nCost: $10/person\n Couples\, Singles\, and Friends – All Are Welcome!\n\n\nDon’t miss out on the chance to celebrate love in style! Reserve your spot now and make this Valentine’s Day one to remember. \n\nLet the love and rhythm sweep you off your feet! See you on the dance floor! \n\n\nThis event is brought to you by The Arc of Clarion and Venango Counties Inc. and The Clarion Mall. \n\n\n  \n  \n  \n  \n 
URL:https://knoxpa.com/event/adult-valentines-party-at-the-clarion-mall/
LOCATION:The Clarion Mall\, 22631 PA-68\, Clarion\, PA\, 16214\, United States
ATTACH;FMTTYPE=image/jpeg:https://knoxpa.com/wp-content/uploads/2024/01/Adult-Valentines-Party-at-Clarion-Mall.jpg
END:VEVENT
BEGIN:VEVENT
DTSTART;TZID=America/New_York:20240126T170000
DTEND;TZID=America/New_York:20240126T183000
DTSTAMP:20260421T022835
CREATED:20240126T192105Z
LAST-MODIFIED:20240126T192105Z
UID:10000013-1706288400-1706293800@knoxpa.com
SUMMARY:The Flavor Town Soup Cook-Off
DESCRIPTION:Warm up your winter with a feast of flavors at our Soup Cook-Off at the Clarion Mall!
URL:https://knoxpa.com/event/the-flavor-town-soup-cook-off/
LOCATION:The Clarion Mall\, 22631 PA-68\, Clarion\, PA\, 16214\, United States
ATTACH;FMTTYPE=image/jpeg:https://knoxpa.com/wp-content/uploads/2024/01/The-Flavor-Town-Soup-Cook-Off.jpg
END:VEVENT
END:VCALENDAR