BEGIN:VCALENDAR
VERSION:2.0
PRODID:-//KnoxPa.com - ECPv6.11.2.1//NONSGML v1.0//EN
CALSCALE:GREGORIAN
METHOD:PUBLISH
X-ORIGINAL-URL:https://knoxpa.com
X-WR-CALDESC:Events for KnoxPa.com
REFRESH-INTERVAL;VALUE=DURATION:PT1H
X-Robots-Tag:noindex
X-PUBLISHED-TTL:PT1H
BEGIN:VTIMEZONE
TZID:America/New_York
BEGIN:DAYLIGHT
TZOFFSETFROM:-0500
TZOFFSETTO:-0400
TZNAME:EDT
DTSTART:20240310T070000
END:DAYLIGHT
BEGIN:STANDARD
TZOFFSETFROM:-0400
TZOFFSETTO:-0500
TZNAME:EST
DTSTART:20241103T060000
END:STANDARD
END:VTIMEZONE
BEGIN:VEVENT
DTSTART;TZID=America/New_York:20240608T110000
DTEND;TZID=America/New_York:20240608T160000
DTSTAMP:20260421T040949
CREATED:20240523T223013Z
LAST-MODIFIED:20240523T223013Z
UID:10001332-1717844400-1717862400@knoxpa.com
SUMMARY:The Clarion Mall Cruise-In
DESCRIPTION:Event by The Knight Cruisers NWPA\n\n\n\n\n\n\n\n\n\n\n\n\nThe Clarion Mall\n\n\n\n\n\n\n\n\n\n\n\n\nDuration: 5 hr\n\n\n\n\n\n\n\n\nRAIN OR SHINE! 50/50 Raffle\, Door Prizes. Show cars will draw for cash prizes! \nCruise-In located towards the right of the Dunham’s Sports store in the front of the Mall. \nMust be present\, entered\, and parked by 1:00 p.m. and remain parked to be eligible for prizes and cash drawings at 3:00 p.m. \nFood available nearby.
URL:https://knoxpa.com/event/the-clarion-mall-cruise-in-2/
LOCATION:The Clarion Mall\, 22631 PA-68\, Clarion\, PA\, 16214\, United States
ATTACH;FMTTYPE=image/jpeg:https://knoxpa.com/wp-content/uploads/2024/05/The-Clarion-Mall-Cruise-In.jpg
END:VEVENT
BEGIN:VEVENT
DTSTART;TZID=America/New_York:20240519T120000
DTEND;TZID=America/New_York:20240519T160000
DTSTAMP:20260421T040949
CREATED:20240318T003119Z
LAST-MODIFIED:20240318T003119Z
UID:10000335-1716120000-1716134400@knoxpa.com
SUMMARY:Children's Day at the Mall
DESCRIPTION:For more information. \nCommunity groups and organizations offering resources and information for families.\nFree crafts and activities for kids.\nStory Time with Guest Readers.\nEntertainment.\nEarly Intervention. \nEvent by United Way of Clarion County\, Clarion County Dolly Parton’s Imagination Library and Melissa Dehner Fulton
URL:https://knoxpa.com/event/childrens-day-at-the-mall/
LOCATION:The Clarion Mall\, 22631 PA-68\, Clarion\, PA\, 16214\, United States
ATTACH;FMTTYPE=image/jpeg:https://knoxpa.com/wp-content/uploads/2024/03/Kids-Day-at-the-Mall.jpg
END:VEVENT
BEGIN:VEVENT
DTSTART;TZID=America/New_York:20240309T100000
DTEND;TZID=America/New_York:20240309T170000
DTSTAMP:20260421T040949
CREATED:20240304T124255Z
LAST-MODIFIED:20240304T124255Z
UID:10000305-1709978400-1710003600@knoxpa.com
SUMMARY:Houseplant Sale at The Clarion Mall
DESCRIPTION:Join us for a house plant sale during The Clarion Mall craft show.  \nWe will have a variety of beautiful house plants available for purchase.  \nCome in to sign up for all of the great giveaways!!  \nKids will want to come in and see the Easter Bunny! \n 
URL:https://knoxpa.com/event/houseplant-sale-at-the-clarion-mall/
LOCATION:The Clarion Mall\, 22631 PA-68\, Clarion\, PA\, 16214\, United States
ATTACH;FMTTYPE=image/jpeg:https://knoxpa.com/wp-content/uploads/2024/03/TWIGS-Tree-Nursery-Plant-Sale.jpg
END:VEVENT
BEGIN:VEVENT
DTSTART;TZID=America/New_York:20240309T100000
DTEND;TZID=America/New_York:20240309T170000
DTSTAMP:20260421T040949
CREATED:20240226T180644Z
LAST-MODIFIED:20240226T180701Z
UID:10000291-1709978400-1710003600@knoxpa.com
SUMMARY:Spring Fling at The Clarion Mall
DESCRIPTION: 
URL:https://knoxpa.com/event/spring-fling-at-the-clarion-mall/
LOCATION:The Clarion Mall\, 22631 PA-68\, Clarion\, PA\, 16214\, United States
ATTACH;FMTTYPE=image/jpeg:https://knoxpa.com/wp-content/uploads/2024/02/Spring-Fling-at-the-Mall-Event-header.jpg
END:VEVENT
BEGIN:VEVENT
DTSTART;TZID=America/New_York:20240216T120000
DTEND;TZID=America/New_York:20240216T160000
DTSTAMP:20260421T040949
CREATED:20240126T193658Z
LAST-MODIFIED:20240126T193658Z
UID:10000015-1708084800-1708099200@knoxpa.com
SUMMARY:6th Annual Beer\, Wine and Shine Festival
DESCRIPTION:Event Link: https://www.facebook.com/events/751252009687837/?ref=newsfeed\n\nCome enjoy an afternoon sampling from the finest breweries\, wineries\, & distilleries. There will be a variety of crafters set up to shop between sampling\, Chinese auction\, 50/50 & local restaurants will be set up to get lunch! This event will be located inside the Clarion Mall. Come support Lucky Cats Get N Fixed so we can continue to help stop the community’s overpopulation of cats through our TNR program. (TRAP NEUTER RETURN).  \n\nPresale Tickets – $25.00 (entered to win door prize)\nTickets sold at event – $30.00 (not entered in door prize)\nComes with a free wine glass\nNon-Sampling/Shopping – $5.00\n\nTICKETS AVAILABLE SOON- will post a list of local businesses selling them. You can also purchase tickets through PayPal\n\nluckycatsgetnfixed@gmail.com\nMUST BE 21 to ATTEND\nNo outside pets allowed\n(MALL RULES)\n 
URL:https://knoxpa.com/event/6th-annual-beer-wine-and-shine-festival/
LOCATION:The Clarion Mall\, 22631 PA-68\, Clarion\, PA\, 16214\, United States
ATTACH;FMTTYPE=image/jpeg:https://knoxpa.com/wp-content/uploads/2024/01/Beer-Wine-and-Shine-Event.jpg
END:VEVENT
BEGIN:VEVENT
DTSTART;TZID=America/New_York:20240215T130000
DTEND;TZID=America/New_York:20240215T140000
DTSTAMP:20260421T040949
CREATED:20240207T174312Z
LAST-MODIFIED:20240207T180456Z
UID:10000092-1708002000-1708005600@knoxpa.com
SUMMARY:Monthly Paint and Sip: A Splash of Art and Mocktail Magic!
DESCRIPTION:Monthly Paint and Sip: A Splash of Art and Mocktail Magic!\n\nUnleash your creativity and indulge in a night of painting\, sipping mocktails\, and creating memories at our Monthly Paint and Sip! \n\nNext Event:\n-Thursday\, Feb 15th at the Clarion Mall.\n-Friday\, Feb 16th at the Oil City Library.\n-Class will begin at 1pm.\nWhat’s Included:\nExpert-Guided Painting Session with Local Artist Chloe Boden\nMocktails and Refreshments Provided\nArt Supplies for Your Masterpiece\nRelaxed and Fun Atmosphere\n\nReservation Details:\nMust reserve your spot one week in advance.\nCall/text 814-227-3156 to secure your easel.\nCost: $10 per Person\n\nLimited Spots Available!\nMake it a date\, girls’ day\, or a solo artistic escape. Join us for an evening of laughter\, creativity\, and mocktail sipping!\n\nThis event is brought to you by The Arc of Clarion and Venango Counties Inc and the Clarion Mall. \n\n\nLet Your Imagination Flow – Paint\, Sip\, and Create Magic on Canvas! \n\n\n 
URL:https://knoxpa.com/event/monthly-paint-and-sip-a-splash-of-art-and-mocktail-magic/
LOCATION:The Clarion Mall\, 22631 PA-68\, Clarion\, PA\, 16214\, United States
ATTACH;FMTTYPE=image/jpeg:https://knoxpa.com/wp-content/uploads/2024/02/Paint-n-Sip-at-the-Clarion-Mall.jpg
END:VEVENT
BEGIN:VEVENT
DTSTART;TZID=America/New_York:20240209T173000
DTEND;TZID=America/New_York:20240209T200000
DTSTAMP:20260421T040949
CREATED:20240127T203805Z
LAST-MODIFIED:20240127T204021Z
UID:10000028-1707499800-1707508800@knoxpa.com
SUMMARY:Adult Valentine's Party at the Clarion Mall
DESCRIPTION:Click for more information. \nAdult Valentine’s Day Party!\n\nJoin us for a magical night of romance\, laughter\, and unforgettable moments! \n\nDate: February 9th\, 2024.\nTime: Doors open at 5:30 p.m.\nVenue: The Clarion Mall\n\nHighlights:\nElegant Dinner at 6:00 p.m.\nMeatball Marinara Pasta\, Side Salad\, Dinner Rolls and Delectable Dessert included.Dance the Night Away with Live Music & DJ\nBYOB (Bring Your Own Beverage)\n\nReservations: Call/text by Feb 2nd: 814-227-3156\nCost: $10/person\n Couples\, Singles\, and Friends – All Are Welcome!\n\n\nDon’t miss out on the chance to celebrate love in style! Reserve your spot now and make this Valentine’s Day one to remember. \n\nLet the love and rhythm sweep you off your feet! See you on the dance floor! \n\n\nThis event is brought to you by The Arc of Clarion and Venango Counties Inc. and The Clarion Mall. \n\n\n  \n  \n  \n  \n 
URL:https://knoxpa.com/event/adult-valentines-party-at-the-clarion-mall/
LOCATION:The Clarion Mall\, 22631 PA-68\, Clarion\, PA\, 16214\, United States
ATTACH;FMTTYPE=image/jpeg:https://knoxpa.com/wp-content/uploads/2024/01/Adult-Valentines-Party-at-Clarion-Mall.jpg
END:VEVENT
BEGIN:VEVENT
DTSTART;TZID=America/New_York:20240126T170000
DTEND;TZID=America/New_York:20240126T183000
DTSTAMP:20260421T040949
CREATED:20240126T192105Z
LAST-MODIFIED:20240126T192105Z
UID:10000013-1706288400-1706293800@knoxpa.com
SUMMARY:The Flavor Town Soup Cook-Off
DESCRIPTION:Warm up your winter with a feast of flavors at our Soup Cook-Off at the Clarion Mall!
URL:https://knoxpa.com/event/the-flavor-town-soup-cook-off/
LOCATION:The Clarion Mall\, 22631 PA-68\, Clarion\, PA\, 16214\, United States
ATTACH;FMTTYPE=image/jpeg:https://knoxpa.com/wp-content/uploads/2024/01/The-Flavor-Town-Soup-Cook-Off.jpg
END:VEVENT
END:VCALENDAR