BEGIN:VCALENDAR
VERSION:2.0
PRODID:-//KnoxPa.com - ECPv6.11.2.1//NONSGML v1.0//EN
CALSCALE:GREGORIAN
METHOD:PUBLISH
X-ORIGINAL-URL:https://knoxpa.com
X-WR-CALDESC:Events for KnoxPa.com
REFRESH-INTERVAL;VALUE=DURATION:PT1H
X-Robots-Tag:noindex
X-PUBLISHED-TTL:PT1H
BEGIN:VTIMEZONE
TZID:America/New_York
BEGIN:DAYLIGHT
TZOFFSETFROM:-0500
TZOFFSETTO:-0400
TZNAME:EDT
DTSTART:20240310T070000
END:DAYLIGHT
BEGIN:STANDARD
TZOFFSETFROM:-0400
TZOFFSETTO:-0500
TZNAME:EST
DTSTART:20241103T060000
END:STANDARD
END:VTIMEZONE
BEGIN:VEVENT
DTSTART;TZID=America/New_York:20241102T120000
DTEND;TZID=America/New_York:20241102T170000
DTSTAMP:20260421T044440
CREATED:20241017T054708Z
LAST-MODIFIED:20241017T054708Z
UID:10002821-1730548800-1730566800@knoxpa.com
SUMMARY:Benefit for Sheena Guthrie
DESCRIPTION:In July of 2021\, Sheena had a benign brain tumor removed which left her to suffer an epilepsy disorder and unable to work. On August 21st 2024 another tumor was found located in the right frontal lobe of the brain and spreading across to the left side. The tumor is inoperable\, due to the size and location of the tumor.  \nShe is having trouble walking and performing day-to-day activities by herself. She is at a point 24/7 care is needed.  \nRadiation has started to hopefully shrink the tumor\, but there are no guarantees.  \nAll proceeds from this event will go to Sheena and family to help with her medical treatments and associated experiences. \n 
URL:https://knoxpa.com/event/benefit-for-sheena-guthrie/
LOCATION:The Wolf’s Den Restaurant\, 291 Timber Wolf Road\, Knox\, PA\, 16232\, United States
ATTACH;FMTTYPE=image/jpeg:https://knoxpa.com/wp-content/uploads/2024/10/Sheena-Guthrie.jpg
END:VEVENT
BEGIN:VEVENT
DTSTART;TZID=America/New_York:20240810T173000
DTEND;TZID=America/New_York:20240810T203000
DTSTAMP:20260421T044440
CREATED:20240704T123457Z
LAST-MODIFIED:20240704T123512Z
UID:10001886-1723311000-1723321800@knoxpa.com
SUMMARY:Murder Mystery Dinner at Wolf's Den Restaurant
DESCRIPTION:Join Knox Ambulance and Pittsburgh “Mysterys Most Wanted” to a trip to Sherwood Forest with “Robin Hood Ain’t Looking so Good!” \nOpen to the public. \nWhen: August 10\, 2024\, 5:30 p.m. to 8:30 p.m. \nWhere: Wolf’s Den Restaurant in Knox\, PA \nPhone: 814.797.1263 for more information and reservations. \nTickets: Price TBD \n\n\n\n\n\nEvent by Knox Area Volunteer Ambulance Company
URL:https://knoxpa.com/event/murder-mystery-dinner-at-wolfs-den-restaurant/
LOCATION:The Wolf’s Den Restaurant\, 291 Timber Wolf Road\, Knox\, PA\, 16232\, United States
ATTACH;FMTTYPE=image/jpeg:https://knoxpa.com/wp-content/uploads/2024/07/MMWgroupphoto.jpg
END:VEVENT
BEGIN:VEVENT
DTSTART;TZID=America/New_York:20240518T173000
DTEND;TZID=America/New_York:20240518T190000
DTSTAMP:20260421T044440
CREATED:20240207T173321Z
LAST-MODIFIED:20240331T144324Z
UID:10000091-1716053400-1716058800@knoxpa.com
SUMMARY:Murder Mystery Dinner by Knox Area Volunteer Ambulance Company
DESCRIPTION:Click for more information. \nJoin Knox Ambulance in hosting Mystery’s Most Wanted event for a exciting night of dinner and laughs!  \nPre-sale only event.  \nForms available at Knox Pizza Shop\, Heeter Lumber in Knox\, or call 814-221-9240\, or 814-797-1263 for a form.  \nCost: $30 per person or $55 per couple: limited 100 people.
URL:https://knoxpa.com/event/knox-area-volunteer-ambulance-company-and-josh-minick/
LOCATION:The Wolf’s Den Restaurant\, 291 Timber Wolf Road\, Knox\, PA\, 16232\, United States
ATTACH;FMTTYPE=image/jpeg:https://knoxpa.com/wp-content/uploads/2024/02/Knox-Volunteer-Fire-Company.jpg
END:VEVENT
END:VCALENDAR